BEGIN:VCALENDAR
VERSION:2.0
PRODID:-//Breakout Hockey - ECPv6.0.3//NONSGML v1.0//EN
CALSCALE:GREGORIAN
METHOD:PUBLISH
X-WR-CALNAME:Breakout Hockey
X-ORIGINAL-URL:https://breakouthockey.ca
X-WR-CALDESC:Events for Breakout Hockey
REFRESH-INTERVAL;VALUE=DURATION:PT1H
X-Robots-Tag:noindex
X-PUBLISHED-TTL:PT1H
BEGIN:VTIMEZONE
TZID:America/Edmonton
BEGIN:DAYLIGHT
TZOFFSETFROM:-0700
TZOFFSETTO:-0600
TZNAME:MDT
DTSTART:20260308T090000
END:DAYLIGHT
BEGIN:STANDARD
TZOFFSETFROM:-0600
TZOFFSETTO:-0700
TZNAME:MST
DTSTART:20261101T080000
END:STANDARD
END:VTIMEZONE
BEGIN:VEVENT
DTSTART;TZID=America/Edmonton:20260714T180000
DTEND;TZID=America/Edmonton:20260714T190000
DTSTAMP:20260420T153644
CREATED:20171215T041249Z
LAST-MODIFIED:20251208T001158Z
UID:1028-1784052000-1784055600@breakouthockey.ca
SUMMARY:Bantam Summer Program #1:  Day 2
DESCRIPTION:
URL:https://breakouthockey.ca/calendar/bantam-summer-program-1-day-2/
LOCATION:Millennium Place Powerade
CATEGORIES:Programs
END:VEVENT
BEGIN:VEVENT
DTSTART;TZID=America/Edmonton:20260714T191500
DTEND;TZID=America/Edmonton:20260714T201500
DTSTAMP:20260420T153644
CREATED:20171215T171649Z
LAST-MODIFIED:20251208T003203Z
UID:1258-1784056500-1784060100@breakouthockey.ca
SUMMARY:MSO:  DAY 2
DESCRIPTION:
URL:https://breakouthockey.ca/calendar/mso-day-2/
LOCATION:Millennium Place Powerade
CATEGORIES:Programs
END:VEVENT
BEGIN:VEVENT
DTSTART;TZID=America/Edmonton:20260715T144500
DTEND;TZID=America/Edmonton:20260715T154500
DTSTAMP:20260420T153644
CREATED:20200701T032952Z
LAST-MODIFIED:20251208T021236Z
UID:4155-1784126700-1784130300@breakouthockey.ca
SUMMARY:MSP2: Day 3
DESCRIPTION:
URL:https://breakouthockey.ca/calendar/msp2-day-3/
LOCATION:Millennium Place Powerade
CATEGORIES:Programs
END:VEVENT
BEGIN:VEVENT
DTSTART;TZID=America/Edmonton:20260715T160000
DTEND;TZID=America/Edmonton:20260715T170000
DTSTAMP:20260420T153644
CREATED:20171215T041336Z
LAST-MODIFIED:20251208T001244Z
UID:1030-1784131200-1784134800@breakouthockey.ca
SUMMARY:Bantam Summer Program #1:  Day 3
DESCRIPTION:
URL:https://breakouthockey.ca/calendar/bantam-summer-program-1-day-3/
LOCATION:Millennium Place Powerade
CATEGORIES:Programs
END:VEVENT
BEGIN:VEVENT
DTSTART;TZID=America/Edmonton:20260715T173000
DTEND;TZID=America/Edmonton:20260715T183000
DTSTAMP:20260420T153644
CREATED:20171215T165023Z
LAST-MODIFIED:20251208T003116Z
UID:1201-1784136600-1784140200@breakouthockey.ca
SUMMARY:MSO:  DAY 3
DESCRIPTION:
URL:https://breakouthockey.ca/calendar/mss-day-3-2/
LOCATION:Millennium Place Powerade
CATEGORIES:Programs
END:VEVENT
BEGIN:VEVENT
DTSTART;TZID=America/Edmonton:20260716T144500
DTEND;TZID=America/Edmonton:20260716T154500
DTSTAMP:20260420T153644
CREATED:20200701T033047Z
LAST-MODIFIED:20251208T021314Z
UID:4157-1784213100-1784216700@breakouthockey.ca
SUMMARY:MSP2: Day 4
DESCRIPTION:
URL:https://breakouthockey.ca/calendar/msp2-day-4/
LOCATION:Millennium Place Powerade
CATEGORIES:Programs
END:VEVENT
BEGIN:VEVENT
DTSTART;TZID=America/Edmonton:20260716T181500
DTEND;TZID=America/Edmonton:20260716T191500
DTSTAMP:20260420T153644
CREATED:20171215T041422Z
LAST-MODIFIED:20251208T001325Z
UID:1032-1784225700-1784229300@breakouthockey.ca
SUMMARY:Bantam Summer Program #1:  Day 4
DESCRIPTION:
URL:https://breakouthockey.ca/calendar/bantam-summer-program-1-day-4/
LOCATION:Millennium Place Powerade
CATEGORIES:Programs
END:VEVENT
BEGIN:VEVENT
DTSTART;TZID=America/Edmonton:20260716T193000
DTEND;TZID=America/Edmonton:20260716T203000
DTSTAMP:20260420T153644
CREATED:20171215T165102Z
LAST-MODIFIED:20251208T015035Z
UID:1203-1784230200-1784233800@breakouthockey.ca
SUMMARY:MSO:  DAY 4
DESCRIPTION:
URL:https://breakouthockey.ca/calendar/mss-day-4-2/
LOCATION:Millennium Place Powerade
CATEGORIES:Programs
END:VEVENT
BEGIN:VEVENT
DTSTART;TZID=America/Edmonton:20260717T120000
DTEND;TZID=America/Edmonton:20260717T130000
DTSTAMP:20260420T153644
CREATED:20200701T033145Z
LAST-MODIFIED:20251208T021354Z
UID:4159-1784289600-1784293200@breakouthockey.ca
SUMMARY:MSP2: Day 5
DESCRIPTION:
URL:https://breakouthockey.ca/calendar/msp2-day-5/
LOCATION:Millennium Place Powerade
CATEGORIES:Programs
END:VEVENT
BEGIN:VEVENT
DTSTART;TZID=America/Edmonton:20260720T121500
DTEND;TZID=America/Edmonton:20260720T131500
DTSTAMP:20260420T153644
CREATED:20200701T043047Z
LAST-MODIFIED:20251208T021433Z
UID:4161-1784549700-1784553300@breakouthockey.ca
SUMMARY:MSP2: Day 6
DESCRIPTION:
URL:https://breakouthockey.ca/calendar/msp2-day-6/
LOCATION:Millennium Place Chevrolet
CATEGORIES:Programs
END:VEVENT
BEGIN:VEVENT
DTSTART;TZID=America/Edmonton:20260720T144500
DTEND;TZID=America/Edmonton:20260720T154500
DTSTAMP:20260420T153644
CREATED:20171215T165140Z
LAST-MODIFIED:20251208T015123Z
UID:1205-1784558700-1784562300@breakouthockey.ca
SUMMARY:MSO:  DAY 5
DESCRIPTION:
URL:https://breakouthockey.ca/calendar/mss-day-5-2/
LOCATION:Millennium Place Powerade
CATEGORIES:Programs
END:VEVENT
BEGIN:VEVENT
DTSTART;TZID=America/Edmonton:20260720T160000
DTEND;TZID=America/Edmonton:20260720T170000
DTSTAMP:20260420T153644
CREATED:20171215T041509Z
LAST-MODIFIED:20251208T001438Z
UID:1034-1784563200-1784566800@breakouthockey.ca
SUMMARY:Bantam Summer Program #1:  Day 5
DESCRIPTION:
URL:https://breakouthockey.ca/calendar/bantam-summer-program-1-day-5/
LOCATION:Millennium Place Powerade
CATEGORIES:Programs
END:VEVENT
BEGIN:VEVENT
DTSTART;TZID=America/Edmonton:20260721T121500
DTEND;TZID=America/Edmonton:20260721T131500
DTSTAMP:20260420T153644
CREATED:20200701T043148Z
LAST-MODIFIED:20251208T022028Z
UID:4163-1784636100-1784639700@breakouthockey.ca
SUMMARY:MSP2: Day 7
DESCRIPTION:
URL:https://breakouthockey.ca/calendar/msp2-day-7/
LOCATION:Millennium Place Chevrolet
CATEGORIES:Programs
END:VEVENT
BEGIN:VEVENT
DTSTART;TZID=America/Edmonton:20260721T144500
DTEND;TZID=America/Edmonton:20260721T154500
DTSTAMP:20260420T153644
CREATED:20171215T165222Z
LAST-MODIFIED:20251208T015207Z
UID:1207-1784645100-1784648700@breakouthockey.ca
SUMMARY:MSO:  DAY 6
DESCRIPTION:
URL:https://breakouthockey.ca/calendar/mss-day-6-2/
LOCATION:Millennium Place Powerade
CATEGORIES:Programs
END:VEVENT
BEGIN:VEVENT
DTSTART;TZID=America/Edmonton:20260721T160000
DTEND;TZID=America/Edmonton:20260721T170000
DTSTAMP:20260420T153644
CREATED:20171215T041549Z
LAST-MODIFIED:20251208T001520Z
UID:1036-1784649600-1784653200@breakouthockey.ca
SUMMARY:Bantam Summer Program #1:  Day 6
DESCRIPTION:
URL:https://breakouthockey.ca/calendar/bantam-summer-program-1-day-6/
LOCATION:Millennium Place Powerade
CATEGORIES:Programs
END:VEVENT
BEGIN:VEVENT
DTSTART;TZID=America/Edmonton:20260722T121500
DTEND;TZID=America/Edmonton:20260722T131500
DTSTAMP:20260420T153644
CREATED:20200701T043243Z
LAST-MODIFIED:20251208T022114Z
UID:4165-1784722500-1784726100@breakouthockey.ca
SUMMARY:MSP2: Day 8
DESCRIPTION:
URL:https://breakouthockey.ca/calendar/msp2-day-8/
LOCATION:Millennium Place Chevrolet
CATEGORIES:Programs
END:VEVENT
BEGIN:VEVENT
DTSTART;TZID=America/Edmonton:20260722T144500
DTEND;TZID=America/Edmonton:20260722T154500
DTSTAMP:20260420T153644
CREATED:20171215T165308Z
LAST-MODIFIED:20251208T015305Z
UID:1209-1784731500-1784735100@breakouthockey.ca
SUMMARY:MSO:  DAY 7
DESCRIPTION:
URL:https://breakouthockey.ca/calendar/mss-day-7-2/
LOCATION:Millennium Place Powerade
CATEGORIES:Programs
END:VEVENT
BEGIN:VEVENT
DTSTART;TZID=America/Edmonton:20260722T160000
DTEND;TZID=America/Edmonton:20260722T170000
DTSTAMP:20260420T153644
CREATED:20171215T041634Z
LAST-MODIFIED:20251208T001602Z
UID:1038-1784736000-1784739600@breakouthockey.ca
SUMMARY:Bantam Summer Program #1:  Day 7
DESCRIPTION:
URL:https://breakouthockey.ca/calendar/bantam-summer-program-1-day-7/
LOCATION:Millennium Place Powerade
CATEGORIES:Programs
END:VEVENT
BEGIN:VEVENT
DTSTART;TZID=America/Edmonton:20260723T113000
DTEND;TZID=America/Edmonton:20260723T123000
DTSTAMP:20260420T153644
CREATED:20200701T043504Z
LAST-MODIFIED:20251208T022339Z
UID:4169-1784806200-1784809800@breakouthockey.ca
SUMMARY:MSP2: Day 10
DESCRIPTION:
URL:https://breakouthockey.ca/calendar/msp2-day-10/
LOCATION:Millennium Place Chevrolet
CATEGORIES:Programs
END:VEVENT
BEGIN:VEVENT
DTSTART;TZID=America/Edmonton:20260723T144500
DTEND;TZID=America/Edmonton:20260723T154500
DTSTAMP:20260420T153644
CREATED:20171215T171731Z
LAST-MODIFIED:20251208T015358Z
UID:1260-1784817900-1784821500@breakouthockey.ca
SUMMARY:MSO:  DAY 8
DESCRIPTION:
URL:https://breakouthockey.ca/calendar/mso-day-8/
LOCATION:Millennium Place Powerade
CATEGORIES:Programs
END:VEVENT
BEGIN:VEVENT
DTSTART;TZID=America/Edmonton:20260723T160000
DTEND;TZID=America/Edmonton:20260723T170000
DTSTAMP:20260420T153644
CREATED:20171215T041712Z
LAST-MODIFIED:20251208T001642Z
UID:1040-1784822400-1784826000@breakouthockey.ca
SUMMARY:Bantam Summer Program #1:  Day 8
DESCRIPTION:
URL:https://breakouthockey.ca/calendar/bantam-summer-program-1-day-8/
LOCATION:Millennium Place Powerade
CATEGORIES:Programs
END:VEVENT
BEGIN:VEVENT
DTSTART;TZID=America/Edmonton:20260804T090000
DTEND;TZID=America/Edmonton:20260804T100000
DTSTAMP:20260420T153644
CREATED:20171215T025312Z
LAST-MODIFIED:20251207T201916Z
UID:968-1785834000-1785837600@breakouthockey.ca
SUMMARY:Novice/Atom Skills Camp:  Day 1
DESCRIPTION:
URL:https://breakouthockey.ca/calendar/novice-atom-skills-camp-day-1/
LOCATION:Ardrossan Recreation Complex – West Arena
CATEGORIES:Programs
END:VEVENT
BEGIN:VEVENT
DTSTART;TZID=America/Edmonton:20260804T101500
DTEND;TZID=America/Edmonton:20260804T111500
DTSTAMP:20260420T153644
CREATED:20171215T041753Z
LAST-MODIFIED:20251208T001736Z
UID:1042-1785838500-1785842100@breakouthockey.ca
SUMMARY:Bantam Summer Program #1:  Day 9
DESCRIPTION:
URL:https://breakouthockey.ca/calendar/bantam-summer-program-1-day-9/
LOCATION:Ardrossan Recreation Complex – West Arena
CATEGORIES:Programs
END:VEVENT
BEGIN:VEVENT
DTSTART;TZID=America/Edmonton:20260804T113000
DTEND;TZID=America/Edmonton:20260804T123000
DTSTAMP:20260420T153644
CREATED:20171215T171830Z
LAST-MODIFIED:20251208T015456Z
UID:1263-1785843000-1785846600@breakouthockey.ca
SUMMARY:MSO:  DAY 9
DESCRIPTION:
URL:https://breakouthockey.ca/calendar/mso-day-9/
LOCATION:Ardrossan Recreation Complex – West Arena
CATEGORIES:Programs
END:VEVENT
BEGIN:VEVENT
DTSTART;TZID=America/Edmonton:20260804T124500
DTEND;TZID=America/Edmonton:20260804T134500
DTSTAMP:20260420T153644
CREATED:20200701T044135Z
LAST-MODIFIED:20251208T022421Z
UID:4171-1785847500-1785851100@breakouthockey.ca
SUMMARY:MSP2: Day 11
DESCRIPTION:
URL:https://breakouthockey.ca/calendar/msp2-day-11/
LOCATION:Ardrossan Recreation Complex – West Arena
CATEGORIES:Programs
END:VEVENT
BEGIN:VEVENT
DTSTART;TZID=America/Edmonton:20260804T180000
DTEND;TZID=America/Edmonton:20260804T190000
DTSTAMP:20260420T153644
CREATED:20190105T204149Z
LAST-MODIFIED:20251207T221200Z
UID:2315-1785866400-1785870000@breakouthockey.ca
SUMMARY:Peewee Defence Camp:  Day 1
DESCRIPTION:
URL:https://breakouthockey.ca/calendar/peewee-defence-camp-day-1/
LOCATION:Randy Rosen Arena
CATEGORIES:Programs
END:VEVENT
BEGIN:VEVENT
DTSTART;TZID=America/Edmonton:20260804T191500
DTEND;TZID=America/Edmonton:20260804T201500
DTSTAMP:20260420T153644
CREATED:20171215T010757Z
LAST-MODIFIED:20251207T222136Z
UID:854-1785870900-1785874500@breakouthockey.ca
SUMMARY:Bantam Defence Camp:  Day 1
DESCRIPTION:
URL:https://breakouthockey.ca/calendar/bantam-defence-camp-day-1/
LOCATION:Randy Rosen Arena
CATEGORIES:Programs
END:VEVENT
BEGIN:VEVENT
DTSTART;TZID=America/Edmonton:20260805T090000
DTEND;TZID=America/Edmonton:20260805T100000
DTSTAMP:20260420T153644
CREATED:20171215T025352Z
LAST-MODIFIED:20251207T201956Z
UID:970-1785920400-1785924000@breakouthockey.ca
SUMMARY:Novice/Atom Skills Camp:  Day 2
DESCRIPTION:
URL:https://breakouthockey.ca/calendar/novice-atom-skills-camp-day-2/
LOCATION:Ardrossan Recreation Complex – West Arena
CATEGORIES:Programs
END:VEVENT
BEGIN:VEVENT
DTSTART;TZID=America/Edmonton:20260805T101500
DTEND;TZID=America/Edmonton:20260805T111500
DTSTAMP:20260420T153644
CREATED:20171215T041851Z
LAST-MODIFIED:20251208T001819Z
UID:1044-1785924900-1785928500@breakouthockey.ca
SUMMARY:Bantam Summer Program #1:  Day 10
DESCRIPTION:
URL:https://breakouthockey.ca/calendar/bantam-summer-program-1-day-10/
LOCATION:Ardrossan Recreation Complex – West Arena
CATEGORIES:Programs
END:VEVENT
BEGIN:VEVENT
DTSTART;TZID=America/Edmonton:20260805T113000
DTEND;TZID=America/Edmonton:20260805T123000
DTSTAMP:20260420T153644
CREATED:20171215T171917Z
LAST-MODIFIED:20251208T015704Z
UID:1265-1785929400-1785933000@breakouthockey.ca
SUMMARY:MSO:  DAY 10
DESCRIPTION:
URL:https://breakouthockey.ca/calendar/mso-day-10/
LOCATION:Ardrossan Recreation Complex – West Arena
CATEGORIES:Programs
END:VEVENT
END:VCALENDAR