BEGIN:VCALENDAR
VERSION:2.0
PRODID:-//Breakout Hockey - ECPv6.0.3//NONSGML v1.0//EN
CALSCALE:GREGORIAN
METHOD:PUBLISH
X-WR-CALNAME:Breakout Hockey
X-ORIGINAL-URL:https://breakouthockey.ca
X-WR-CALDESC:Events for Breakout Hockey
REFRESH-INTERVAL;VALUE=DURATION:PT1H
X-Robots-Tag:noindex
X-PUBLISHED-TTL:PT1H
BEGIN:VTIMEZONE
TZID:America/Edmonton
BEGIN:DAYLIGHT
TZOFFSETFROM:-0700
TZOFFSETTO:-0600
TZNAME:MDT
DTSTART:20260308T090000
END:DAYLIGHT
BEGIN:STANDARD
TZOFFSETFROM:-0600
TZOFFSETTO:-0700
TZNAME:MST
DTSTART:20261101T080000
END:STANDARD
END:VTIMEZONE
BEGIN:VEVENT
DTSTART;TZID=America/Edmonton:20260520T183000
DTEND;TZID=America/Edmonton:20260520T193000
DTSTAMP:20260420T103112
CREATED:20190129T171702Z
LAST-MODIFIED:20251207T041413Z
UID:2563-1779301800-1779305400@breakouthockey.ca
SUMMARY:3 on 3 Session #3:  Day 8
DESCRIPTION:
URL:https://breakouthockey.ca/calendar/3-3-session-3c-day-8/
LOCATION:Millennium Place Chevrolet
CATEGORIES:Programs
END:VEVENT
BEGIN:VEVENT
DTSTART;TZID=America/Edmonton:20260521T180000
DTEND;TZID=America/Edmonton:20260521T190000
DTSTAMP:20260420T103112
CREATED:20171214T205445Z
LAST-MODIFIED:20251207T043027Z
UID:772-1779386400-1779390000@breakouthockey.ca
SUMMARY:3 on 3 - Session #4:  Day 8
DESCRIPTION:
URL:https://breakouthockey.ca/calendar/3-3-session-3-day-8/
LOCATION:Glen Allen Recreation Complex
CATEGORIES:Programs
END:VEVENT
BEGIN:VEVENT
DTSTART;TZID=America/Edmonton:20260521T191500
DTEND;TZID=America/Edmonton:20260521T201500
DTSTAMP:20260420T103112
CREATED:20171214T202329Z
LAST-MODIFIED:20251207T040413Z
UID:720-1779390900-1779394500@breakouthockey.ca
SUMMARY:3 on 3 - Session #2:  Day 8
DESCRIPTION:
URL:https://breakouthockey.ca/calendar/3-3-session-2-day-8/
LOCATION:Glen Allen Recreation Complex
CATEGORIES:Programs
END:VEVENT
BEGIN:VEVENT
DTSTART;TZID=America/Edmonton:20260521T203000
DTEND;TZID=America/Edmonton:20260521T213000
DTSTAMP:20260420T103112
CREATED:20210308T223900Z
LAST-MODIFIED:20251207T033554Z
UID:4675-1779395400-1779399000@breakouthockey.ca
SUMMARY:JUNIOR SPRING:  DAY 5
DESCRIPTION:
URL:https://breakouthockey.ca/calendar/junior-spring-day-5/
LOCATION:Glen Allen Recreation Complex
CATEGORIES:Programs
END:VEVENT
BEGIN:VEVENT
DTSTART;TZID=America/Edmonton:20260525T181500
DTEND;TZID=America/Edmonton:20260525T191500
DTSTAMP:20260420T103112
CREATED:20240224T214343Z
LAST-MODIFIED:20260331T173600Z
UID:8154-1779732900-1779736500@breakouthockey.ca
SUMMARY:3 on 3 - Session #7 - Day 8
DESCRIPTION:
URL:https://breakouthockey.ca/calendar/3-on-3-6b-day-8/
LOCATION:Millennium Place Chevrolet
CATEGORIES:Programs
END:VEVENT
BEGIN:VEVENT
DTSTART;TZID=America/Edmonton:20260525T193000
DTEND;TZID=America/Edmonton:20260525T203000
DTSTAMP:20260420T103112
CREATED:20171215T155038Z
LAST-MODIFIED:20251207T032808Z
UID:1139-1779737400-1779741000@breakouthockey.ca
SUMMARY:MSS:  DAY 7
DESCRIPTION:
URL:https://breakouthockey.ca/calendar/mss-day-7/
LOCATION:Millennium Place Chevrolet
CATEGORIES:Programs
END:VEVENT
BEGIN:VEVENT
DTSTART;TZID=America/Edmonton:20260525T204500
DTEND;TZID=America/Edmonton:20260525T214500
DTSTAMP:20260420T103112
CREATED:20210308T224007Z
LAST-MODIFIED:20251207T033646Z
UID:4677-1779741900-1779745500@breakouthockey.ca
SUMMARY:JUNIOR SPRING:  DAY 6
DESCRIPTION:
URL:https://breakouthockey.ca/calendar/junior-spring-day-6/
LOCATION:Millennium Place Chevrolet
CATEGORIES:Programs
END:VEVENT
BEGIN:VEVENT
DTSTART;TZID=America/Edmonton:20260526T180000
DTEND;TZID=America/Edmonton:20260526T190000
DTSTAMP:20260420T103112
CREATED:20171214T204157Z
LAST-MODIFIED:20260327T162521Z
UID:752-1779818400-1779822000@breakouthockey.ca
SUMMARY:3 on 3 - Session #6:  Day 8
DESCRIPTION:
URL:https://breakouthockey.ca/calendar/3-3-session-4-day-8/
LOCATION:Millennium Place Powerade
CATEGORIES:Programs
END:VEVENT
BEGIN:VEVENT
DTSTART;TZID=America/Edmonton:20260526T191500
DTEND;TZID=America/Edmonton:20260526T201500
DTSTAMP:20260420T103112
CREATED:20171214T200144Z
LAST-MODIFIED:20260327T162622Z
UID:699-1779822900-1779826500@breakouthockey.ca
SUMMARY:3 on 3 - Session #1:  Day 8
DESCRIPTION:
URL:https://breakouthockey.ca/calendar/3-3-session-1-day-8/
LOCATION:Millennium Place Powerade
CATEGORIES:Programs
END:VEVENT
BEGIN:VEVENT
DTSTART;TZID=America/Edmonton:20260527T164500
DTEND;TZID=America/Edmonton:20260527T174500
DTSTAMP:20260420T103112
CREATED:20190113T200812Z
LAST-MODIFIED:20251207T045726Z
UID:2432-1779900300-1779903900@breakouthockey.ca
SUMMARY:3 on 3  Session #5 - Day 9
DESCRIPTION:
URL:https://breakouthockey.ca/calendar/day-9-3-3-session-3b/
LOCATION:Millennium Place Chevrolet
CATEGORIES:Programs
END:VEVENT
BEGIN:VEVENT
DTSTART;TZID=America/Edmonton:20260527T180000
DTEND;TZID=America/Edmonton:20260527T190000
DTSTAMP:20260420T103112
CREATED:20190129T171807Z
LAST-MODIFIED:20251207T041454Z
UID:2565-1779904800-1779908400@breakouthockey.ca
SUMMARY:3 on 3 Session #3:  Day 9
DESCRIPTION:
URL:https://breakouthockey.ca/calendar/3-3-session-3c-day-9/
LOCATION:Millennium Place Chevrolet
CATEGORIES:Programs
END:VEVENT
BEGIN:VEVENT
DTSTART;TZID=America/Edmonton:20260528T181500
DTEND;TZID=America/Edmonton:20260528T191500
DTSTAMP:20260420T103112
CREATED:20171214T205530Z
LAST-MODIFIED:20260325T195002Z
UID:774-1779992100-1779995700@breakouthockey.ca
SUMMARY:3 on 3 - Session #4:  Day 9
DESCRIPTION:
URL:https://breakouthockey.ca/calendar/3-3-session-3-day-9/
LOCATION:Millennium Place Chevrolet
CATEGORIES:Programs
END:VEVENT
BEGIN:VEVENT
DTSTART;TZID=America/Edmonton:20260528T193000
DTEND;TZID=America/Edmonton:20260528T203000
DTSTAMP:20260420T103112
CREATED:20171214T202412Z
LAST-MODIFIED:20251207T040452Z
UID:722-1779996600-1780000200@breakouthockey.ca
SUMMARY:3 on 3 - Session #2:  Day 9
DESCRIPTION:
URL:https://breakouthockey.ca/calendar/3-3-session-2-day-9/
LOCATION:Millennium Place Chevrolet
CATEGORIES:Programs
END:VEVENT
BEGIN:VEVENT
DTSTART;TZID=America/Edmonton:20260528T204500
DTEND;TZID=America/Edmonton:20260528T214500
DTSTAMP:20260420T103112
CREATED:20210308T224257Z
LAST-MODIFIED:20251207T033729Z
UID:4679-1780001100-1780004700@breakouthockey.ca
SUMMARY:JUNIOR SPRING:  DAY 7
DESCRIPTION:
URL:https://breakouthockey.ca/calendar/junior-spring-day-7/
LOCATION:Millennium Place Chevrolet
CATEGORIES:Programs
END:VEVENT
BEGIN:VEVENT
DTSTART;TZID=America/Edmonton:20260601T170000
DTEND;TZID=America/Edmonton:20260601T180000
DTSTAMP:20260420T103112
CREATED:20240224T214442Z
LAST-MODIFIED:20260331T173553Z
UID:8156-1780333200-1780336800@breakouthockey.ca
SUMMARY:3 on 3 - Session #7 - Day 9
DESCRIPTION:
URL:https://breakouthockey.ca/calendar/3-on-3-6b-day-9/
LOCATION:Millennium Place Chevrolet
CATEGORIES:Programs
END:VEVENT
BEGIN:VEVENT
DTSTART;TZID=America/Edmonton:20260601T204500
DTEND;TZID=America/Edmonton:20260601T214500
DTSTAMP:20260420T103112
CREATED:20171215T155123Z
LAST-MODIFIED:20251207T032849Z
UID:1141-1780346700-1780350300@breakouthockey.ca
SUMMARY:MSS:  DAY 8
DESCRIPTION:
URL:https://breakouthockey.ca/calendar/mss-day-8/
LOCATION:Glen Allen Recreation Complex
CATEGORIES:Programs
END:VEVENT
BEGIN:VEVENT
DTSTART;TZID=America/Edmonton:20260602T171500
DTEND;TZID=America/Edmonton:20260602T181500
DTSTAMP:20260420T103112
CREATED:20171214T204414Z
LAST-MODIFIED:20251207T052011Z
UID:754-1780420500-1780424100@breakouthockey.ca
SUMMARY:3 on 3 - Session #6:  Day 9
DESCRIPTION:
URL:https://breakouthockey.ca/calendar/3-3-session-4-day-9/
LOCATION:Millennium Place Chevrolet
CATEGORIES:Programs
END:VEVENT
BEGIN:VEVENT
DTSTART;TZID=America/Edmonton:20260602T183000
DTEND;TZID=America/Edmonton:20260602T193000
DTSTAMP:20260420T103112
CREATED:20171214T200247Z
LAST-MODIFIED:20251207T035128Z
UID:701-1780425000-1780428600@breakouthockey.ca
SUMMARY:3 on 3 - Session #1:  Day 9
DESCRIPTION:
URL:https://breakouthockey.ca/calendar/3-3-session-1-day-9/
LOCATION:Millennium Place Chevrolet
CATEGORIES:Programs
END:VEVENT
BEGIN:VEVENT
DTSTART;TZID=America/Edmonton:20260602T194500
DTEND;TZID=America/Edmonton:20260602T204500
DTSTAMP:20260420T103112
CREATED:20210308T224404Z
LAST-MODIFIED:20251207T033828Z
UID:4681-1780429500-1780433100@breakouthockey.ca
SUMMARY:JUNIOR SPRING:  DAY 8
DESCRIPTION:
URL:https://breakouthockey.ca/calendar/junior-spring-day-8/
LOCATION:Millennium Place Chevrolet
CATEGORIES:Programs
END:VEVENT
BEGIN:VEVENT
DTSTART;TZID=America/Edmonton:20260603T164500
DTEND;TZID=America/Edmonton:20260603T174500
DTSTAMP:20260420T103112
CREATED:20190129T172547Z
LAST-MODIFIED:20251207T041525Z
UID:2567-1780505100-1780508700@breakouthockey.ca
SUMMARY:3 on 3 Session #3:  Day 10
DESCRIPTION:
URL:https://breakouthockey.ca/calendar/3-3-session-3c-day-10/
LOCATION:Millennium Place Chevrolet
CATEGORIES:Programs
END:VEVENT
BEGIN:VEVENT
DTSTART;TZID=America/Edmonton:20260603T180000
DTEND;TZID=America/Edmonton:20260603T190000
DTSTAMP:20260420T103112
CREATED:20190113T200925Z
LAST-MODIFIED:20251207T045759Z
UID:2434-1780509600-1780513200@breakouthockey.ca
SUMMARY:3 on 3  Session #5 - Day 10
DESCRIPTION:
URL:https://breakouthockey.ca/calendar/day-10-3-3-session-3b/
LOCATION:Millennium Place Chevrolet
CATEGORIES:Programs
END:VEVENT
BEGIN:VEVENT
DTSTART;TZID=America/Edmonton:20260604T181500
DTEND;TZID=America/Edmonton:20260604T191500
DTSTAMP:20260420T103112
CREATED:20171214T205623Z
LAST-MODIFIED:20251207T043216Z
UID:776-1780596900-1780600500@breakouthockey.ca
SUMMARY:3 on 3 - Session #4:  Day 10
DESCRIPTION:
URL:https://breakouthockey.ca/calendar/3-3-session-3-day-10/
LOCATION:Millennium Place Chevrolet
CATEGORIES:Programs
END:VEVENT
BEGIN:VEVENT
DTSTART;TZID=America/Edmonton:20260604T193000
DTEND;TZID=America/Edmonton:20260604T203000
DTSTAMP:20260420T103112
CREATED:20171214T202454Z
LAST-MODIFIED:20251207T040531Z
UID:724-1780601400-1780605000@breakouthockey.ca
SUMMARY:3 on 3 - Session #2:  Day 10
DESCRIPTION:
URL:https://breakouthockey.ca/calendar/3-3-session-2-day-10/
LOCATION:Millennium Place Chevrolet
CATEGORIES:Programs
END:VEVENT
BEGIN:VEVENT
DTSTART;TZID=America/Edmonton:20260609T171500
DTEND;TZID=America/Edmonton:20260609T181500
DTSTAMP:20260420T103112
CREATED:20240224T214543Z
LAST-MODIFIED:20260331T173545Z
UID:8158-1781025300-1781028900@breakouthockey.ca
SUMMARY:3 on 3 - Session #7 - Day 10
DESCRIPTION:
URL:https://breakouthockey.ca/calendar/3-on-3-6b-day-10/
LOCATION:Millennium Place Chevrolet
CATEGORIES:Programs
END:VEVENT
BEGIN:VEVENT
DTSTART;TZID=America/Edmonton:20260609T183000
DTEND;TZID=America/Edmonton:20260609T193000
DTSTAMP:20260420T103112
CREATED:20171214T204523Z
LAST-MODIFIED:20251207T052206Z
UID:756-1781029800-1781033400@breakouthockey.ca
SUMMARY:3 on 3 - Session #6:  Day 10
DESCRIPTION:
URL:https://breakouthockey.ca/calendar/3-3-session-4-day-10/
LOCATION:Millennium Place Chevrolet
CATEGORIES:Programs
END:VEVENT
BEGIN:VEVENT
DTSTART;TZID=America/Edmonton:20260609T194500
DTEND;TZID=America/Edmonton:20260609T204500
DTSTAMP:20260420T103112
CREATED:20171214T200401Z
LAST-MODIFIED:20251207T035211Z
UID:703-1781034300-1781037900@breakouthockey.ca
SUMMARY:3 on 3 - Session #1:  Day 10
DESCRIPTION:
URL:https://breakouthockey.ca/calendar/3-3-session-1-day-10/
LOCATION:Millennium Place Chevrolet
CATEGORIES:Programs
END:VEVENT
BEGIN:VEVENT
DTSTART;TZID=America/Edmonton:20260713T144500
DTEND;TZID=America/Edmonton:20260713T154500
DTSTAMP:20260420T103112
CREATED:20200701T032729Z
LAST-MODIFIED:20251208T021030Z
UID:4151-1783953900-1783957500@breakouthockey.ca
SUMMARY:MSP2: Day 1
DESCRIPTION:
URL:https://breakouthockey.ca/calendar/msp2-day-1/
LOCATION:Millennium Place Powerade
CATEGORIES:Programs
END:VEVENT
BEGIN:VEVENT
DTSTART;TZID=America/Edmonton:20260713T184500
DTEND;TZID=America/Edmonton:20260713T194500
DTSTAMP:20260420T103112
CREATED:20171215T041201Z
LAST-MODIFIED:20251208T001124Z
UID:1026-1783968300-1783971900@breakouthockey.ca
SUMMARY:Bantam Summer Program #1:  Day 1
DESCRIPTION:
URL:https://breakouthockey.ca/calendar/bantam-summer-program-1-day-1/
LOCATION:Millennium Place Powerade
CATEGORIES:Programs
END:VEVENT
BEGIN:VEVENT
DTSTART;TZID=America/Edmonton:20260713T200000
DTEND;TZID=America/Edmonton:20260713T210000
DTSTAMP:20260420T103112
CREATED:20171215T163600Z
LAST-MODIFIED:20251208T003038Z
UID:1197-1783972800-1783976400@breakouthockey.ca
SUMMARY:MSO:  Day 1
DESCRIPTION:
URL:https://breakouthockey.ca/calendar/mso-day-1/
LOCATION:Millennium Place Powerade
CATEGORIES:Programs
END:VEVENT
BEGIN:VEVENT
DTSTART;TZID=America/Edmonton:20260714T144500
DTEND;TZID=America/Edmonton:20260714T154500
DTSTAMP:20260420T103112
CREATED:20200701T032857Z
LAST-MODIFIED:20251208T021109Z
UID:4153-1784040300-1784043900@breakouthockey.ca
SUMMARY:MSP2: Day 2
DESCRIPTION:
URL:https://breakouthockey.ca/calendar/msp2-day-2/
LOCATION:Millennium Place Powerade
CATEGORIES:Programs
END:VEVENT
END:VCALENDAR