BEGIN:VCALENDAR
VERSION:2.0
PRODID:-//Breakout Hockey - ECPv6.0.3//NONSGML v1.0//EN
CALSCALE:GREGORIAN
METHOD:PUBLISH
X-WR-CALNAME:Breakout Hockey
X-ORIGINAL-URL:https://breakouthockey.ca
X-WR-CALDESC:Events for Breakout Hockey
REFRESH-INTERVAL;VALUE=DURATION:PT1H
X-Robots-Tag:noindex
X-PUBLISHED-TTL:PT1H
BEGIN:VTIMEZONE
TZID:America/Edmonton
BEGIN:DAYLIGHT
TZOFFSETFROM:-0700
TZOFFSETTO:-0600
TZNAME:MDT
DTSTART:20180311T090000
END:DAYLIGHT
BEGIN:STANDARD
TZOFFSETFROM:-0600
TZOFFSETTO:-0700
TZNAME:MST
DTSTART:20181104T080000
END:STANDARD
END:VTIMEZONE
BEGIN:VEVENT
DTSTART;TZID=America/Edmonton:20180529T170000
DTEND;TZID=America/Edmonton:20180529T180000
DTSTAMP:20260422T191122
CREATED:20180304T223344Z
LAST-MODIFIED:20180304T223344Z
UID:1758-1527613200-1527616800@breakouthockey.ca
SUMMARY:3 on 3 Session 3B - Day 8
DESCRIPTION:
URL:https://breakouthockey.ca/calendar/3-3-session-3b-day-8/
LOCATION:Millennium Place Chevrolet
CATEGORIES:Programs
END:VEVENT
BEGIN:VEVENT
DTSTART;TZID=America/Edmonton:20180524T191500
DTEND;TZID=America/Edmonton:20180524T201500
DTSTAMP:20260422T191122
CREATED:20180304T223244Z
LAST-MODIFIED:20180304T223244Z
UID:1756-1527189300-1527192900@breakouthockey.ca
SUMMARY:3 on 3 Session 3B - Day 7
DESCRIPTION:
URL:https://breakouthockey.ca/calendar/3-3-session-3b-day-7/
LOCATION:Millennium Place Powerade
CATEGORIES:Programs
END:VEVENT
BEGIN:VEVENT
DTSTART;TZID=America/Edmonton:20180523T173000
DTEND;TZID=America/Edmonton:20180523T183000
DTSTAMP:20260422T191122
CREATED:20180402T221921Z
LAST-MODIFIED:20180402T221921Z
UID:1970-1527096600-1527100200@breakouthockey.ca
SUMMARY:3 on 3 - 2B:  Day 7
DESCRIPTION:
URL:https://breakouthockey.ca/calendar/3-3-2b-day-7/
LOCATION:Millennium Place Powerade
CATEGORIES:Programs
END:VEVENT
BEGIN:VEVENT
DTSTART;TZID=America/Edmonton:20180516T164500
DTEND;TZID=America/Edmonton:20180516T174500
DTSTAMP:20260422T191122
CREATED:20180402T221739Z
LAST-MODIFIED:20180402T221739Z
UID:1967-1526489100-1526492700@breakouthockey.ca
SUMMARY:3 on 3 - 2B:  Day 6
DESCRIPTION:
URL:https://breakouthockey.ca/calendar/3-3-2b-day-6/
LOCATION:Millennium Place Chevrolet
CATEGORIES:Programs
END:VEVENT
BEGIN:VEVENT
DTSTART;TZID=America/Edmonton:20180515T170000
DTEND;TZID=America/Edmonton:20180515T180000
DTSTAMP:20260422T191122
CREATED:20180304T223146Z
LAST-MODIFIED:20180304T223146Z
UID:1754-1526403600-1526407200@breakouthockey.ca
SUMMARY:3 on 3 Session 3B - Day 6
DESCRIPTION:
URL:https://breakouthockey.ca/calendar/3-3-session-3b-day-6/
LOCATION:Glen Allen Recreation Complex
CATEGORIES:Programs
END:VEVENT
BEGIN:VEVENT
DTSTART;TZID=America/Edmonton:20180509T174500
DTEND;TZID=America/Edmonton:20180509T184500
DTSTAMP:20260422T191122
CREATED:20180402T221640Z
LAST-MODIFIED:20180402T221640Z
UID:1965-1525887900-1525891500@breakouthockey.ca
SUMMARY:3 on 3 - 2B:  Day 5
DESCRIPTION:
URL:https://breakouthockey.ca/calendar/3-3-2b-day-5/
LOCATION:Millennium Place Powerade
CATEGORIES:Programs
END:VEVENT
BEGIN:VEVENT
DTSTART;TZID=America/Edmonton:20180508T183000
DTEND;TZID=America/Edmonton:20180508T193000
DTSTAMP:20260422T191122
CREATED:20180304T223057Z
LAST-MODIFIED:20180304T223057Z
UID:1752-1525804200-1525807800@breakouthockey.ca
SUMMARY:3 on 3 Session 3B - Day 5
DESCRIPTION:
URL:https://breakouthockey.ca/calendar/3-3-session-3b-day-5/
LOCATION:Millennium Place Chevrolet
CATEGORIES:Programs
END:VEVENT
BEGIN:VEVENT
DTSTART;TZID=America/Edmonton:20180502T171500
DTEND;TZID=America/Edmonton:20180502T181500
DTSTAMP:20260422T191122
CREATED:20180402T221550Z
LAST-MODIFIED:20180402T221550Z
UID:1963-1525281300-1525284900@breakouthockey.ca
SUMMARY:3 on 3 - 2B:  Day 4
DESCRIPTION:
URL:https://breakouthockey.ca/calendar/3-3-2b-day-4/
LOCATION:Millennium Place Chevrolet
CATEGORIES:Programs
END:VEVENT
BEGIN:VEVENT
DTSTART;TZID=America/Edmonton:20180501T190000
DTEND;TZID=America/Edmonton:20180501T200000
DTSTAMP:20260422T191122
CREATED:20180304T223006Z
LAST-MODIFIED:20180304T223006Z
UID:1750-1525201200-1525204800@breakouthockey.ca
SUMMARY:3 on 3 Session 3B - Day 4
DESCRIPTION:
URL:https://breakouthockey.ca/calendar/3-3-session-3b-day-4/
LOCATION:Millennium Place Chevrolet
CATEGORIES:Programs
END:VEVENT
BEGIN:VEVENT
DTSTART;TZID=America/Edmonton:20180425T171500
DTEND;TZID=America/Edmonton:20180425T181500
DTSTAMP:20260422T191122
CREATED:20180402T221448Z
LAST-MODIFIED:20180402T221448Z
UID:1961-1524676500-1524680100@breakouthockey.ca
SUMMARY:3 on 3 - 2B:  Day 3
DESCRIPTION:
URL:https://breakouthockey.ca/calendar/3-3-2b-day-3/
LOCATION:Glen Allen Recreation Complex
CATEGORIES:Programs
END:VEVENT
BEGIN:VEVENT
DTSTART;TZID=America/Edmonton:20180424T193000
DTEND;TZID=America/Edmonton:20180424T203000
DTSTAMP:20260422T191122
CREATED:20180304T222900Z
LAST-MODIFIED:20180304T222900Z
UID:1748-1524598200-1524601800@breakouthockey.ca
SUMMARY:3 on 3 Session 3B - Day 3
DESCRIPTION:
URL:https://breakouthockey.ca/calendar/3-3-session-3b-day-3/
LOCATION:Glen Allen Recreation Complex
CATEGORIES:Programs
END:VEVENT
BEGIN:VEVENT
DTSTART;TZID=America/Edmonton:20180418T163000
DTEND;TZID=America/Edmonton:20180418T173000
DTSTAMP:20260422T191122
CREATED:20180402T221347Z
LAST-MODIFIED:20180402T221347Z
UID:1959-1524069000-1524072600@breakouthockey.ca
SUMMARY:3 on 3 - 2B:  Day 2
DESCRIPTION:
URL:https://breakouthockey.ca/calendar/3-3-2b-day-2/
LOCATION:Ardrossan Recreation Complex – East Arena
CATEGORIES:Programs
END:VEVENT
BEGIN:VEVENT
DTSTART;TZID=America/Edmonton:20180417T183000
DTEND;TZID=America/Edmonton:20180417T193000
DTSTAMP:20260422T191122
CREATED:20180304T222812Z
LAST-MODIFIED:20180304T222812Z
UID:1746-1523989800-1523993400@breakouthockey.ca
SUMMARY:3 on 3 Session 3B - Day 2
DESCRIPTION:
URL:https://breakouthockey.ca/calendar/3-3-session-3b-day-2/
LOCATION:Ardrossan Recreation Complex – East Arena
CATEGORIES:Programs
END:VEVENT
BEGIN:VEVENT
DTSTART;TZID=America/Edmonton:20180411T181500
DTEND;TZID=America/Edmonton:20180411T191500
DTSTAMP:20260422T191122
CREATED:20180402T221253Z
LAST-MODIFIED:20180402T221253Z
UID:1957-1523470500-1523474100@breakouthockey.ca
SUMMARY:3 on 3 - 2B:  Day 1
DESCRIPTION:
URL:https://breakouthockey.ca/calendar/3-3-2b-day-1/
LOCATION:Strathcona Olympiette Centre
CATEGORIES:Programs
END:VEVENT
BEGIN:VEVENT
DTSTART;TZID=America/Edmonton:20180410T193000
DTEND;TZID=America/Edmonton:20180410T203000
DTSTAMP:20260422T191122
CREATED:20180304T222714Z
LAST-MODIFIED:20180304T222714Z
UID:1744-1523388600-1523392200@breakouthockey.ca
SUMMARY:3 on 3 Session 3B - Day 1
DESCRIPTION:
URL:https://breakouthockey.ca/calendar/3-3-session-3b-day-1/
LOCATION:Ardrossan Recreation Complex – East Arena
CATEGORIES:Programs
END:VEVENT
BEGIN:VEVENT
DTSTART;TZID=America/Edmonton:20180321T201500
DTEND;TZID=America/Edmonton:20180321T211500
DTSTAMP:20260422T191122
CREATED:20171214T211202Z
LAST-MODIFIED:20190103T213918Z
UID:786-1521663300-1521666900@breakouthockey.ca
SUMMARY:Junior Prep Camp:  Day 4
DESCRIPTION:
URL:https://breakouthockey.ca/calendar/junior-prep-camp-day-4/
LOCATION:Strathcona Olympiette Centre
CATEGORIES:Programs
END:VEVENT
END:VCALENDAR