BEGIN:VCALENDAR
VERSION:2.0
PRODID:-//Breakout Hockey - ECPv6.0.3//NONSGML v1.0//EN
CALSCALE:GREGORIAN
METHOD:PUBLISH
X-ORIGINAL-URL:https://breakouthockey.ca
X-WR-CALDESC:Events for Breakout Hockey
REFRESH-INTERVAL;VALUE=DURATION:PT1H
X-Robots-Tag:noindex
X-PUBLISHED-TTL:PT1H
BEGIN:VTIMEZONE
TZID:America/Edmonton
BEGIN:DAYLIGHT
TZOFFSETFROM:-0700
TZOFFSETTO:-0600
TZNAME:MDT
DTSTART:20180311T090000
END:DAYLIGHT
BEGIN:STANDARD
TZOFFSETFROM:-0600
TZOFFSETTO:-0700
TZNAME:MST
DTSTART:20181104T080000
END:STANDARD
BEGIN:DAYLIGHT
TZOFFSETFROM:-0700
TZOFFSETTO:-0600
TZNAME:MDT
DTSTART:20190310T090000
END:DAYLIGHT
BEGIN:STANDARD
TZOFFSETFROM:-0600
TZOFFSETTO:-0700
TZNAME:MST
DTSTART:20191103T080000
END:STANDARD
END:VTIMEZONE
BEGIN:VEVENT
DTSTART;TZID=America/Edmonton:20190808T164500
DTEND;TZID=America/Edmonton:20190808T174500
DTSTAMP:20260422T144812
CREATED:20171215T012917Z
LAST-MODIFIED:20190105T203508Z
UID:880-1565282700-1565286300@breakouthockey.ca
SUMMARY:Novice/Atom Defence Camp: Day 3
DESCRIPTION:
URL:https://breakouthockey.ca/calendar/atom-peewee-defence-camp-day-3/
LOCATION:Millennium Place Chevrolet
CATEGORIES:Programs
END:VEVENT
BEGIN:VEVENT
DTSTART;TZID=America/Edmonton:20190808T143000
DTEND;TZID=America/Edmonton:20190808T153000
DTSTAMP:20260422T144812
CREATED:20171215T030609Z
LAST-MODIFIED:20190105T202734Z
UID:985-1565274600-1565278200@breakouthockey.ca
SUMMARY:Peewee Skills:  Day 3
DESCRIPTION:
URL:https://breakouthockey.ca/calendar/peewee-sag-day-3/
LOCATION:Millennium Place Chevrolet
CATEGORIES:Programs
END:VEVENT
BEGIN:VEVENT
DTSTART;TZID=America/Edmonton:20190807T171500
DTEND;TZID=America/Edmonton:20190807T181500
DTSTAMP:20260422T144812
CREATED:20171215T012835Z
LAST-MODIFIED:20190105T203545Z
UID:878-1565198100-1565201700@breakouthockey.ca
SUMMARY:Novice/Atom Defence Camp: Day 2
DESCRIPTION:
URL:https://breakouthockey.ca/calendar/atom-peewee-defence-camp-day-2/
LOCATION:Millennium Place Chevrolet
CATEGORIES:Programs
END:VEVENT
BEGIN:VEVENT
DTSTART;TZID=America/Edmonton:20190807T143000
DTEND;TZID=America/Edmonton:20190807T153000
DTSTAMP:20260422T144812
CREATED:20171215T030521Z
LAST-MODIFIED:20190105T202651Z
UID:983-1565188200-1565191800@breakouthockey.ca
SUMMARY:Peewee Skills:  Day 2
DESCRIPTION:
URL:https://breakouthockey.ca/calendar/peewee-sag-day-2/
LOCATION:Millennium Place Chevrolet
CATEGORIES:Programs
END:VEVENT
BEGIN:VEVENT
DTSTART;TZID=America/Edmonton:20190806T180000
DTEND;TZID=America/Edmonton:20190806T190000
DTSTAMP:20260422T144812
CREATED:20171215T012755Z
LAST-MODIFIED:20190105T203648Z
UID:876-1565114400-1565118000@breakouthockey.ca
SUMMARY:Novice/Atom Defence Camp: Day 1
DESCRIPTION:
URL:https://breakouthockey.ca/calendar/atom-peewee-defence-camp-day-1/
LOCATION:Millennium Place Powerade
CATEGORIES:Programs
END:VEVENT
BEGIN:VEVENT
DTSTART;TZID=America/Edmonton:20190806T143000
DTEND;TZID=America/Edmonton:20190806T153000
DTSTAMP:20260422T144812
CREATED:20171215T030431Z
LAST-MODIFIED:20190105T202617Z
UID:981-1565101800-1565105400@breakouthockey.ca
SUMMARY:Peewee Skills:  Day 1
DESCRIPTION:
URL:https://breakouthockey.ca/calendar/peewee-sag-day-1/
LOCATION:Millennium Place Chevrolet
CATEGORIES:Programs
END:VEVENT
BEGIN:VEVENT
DTSTART;TZID=America/Edmonton:20190421T093000
DTEND;TZID=America/Edmonton:20190421T113000
DTSTAMP:20260422T144812
CREATED:20190409T193350Z
LAST-MODIFIED:20190409T193350Z
UID:2905-1555839000-1555846200@breakouthockey.ca
SUMMARY:ID Skate:  Day 4
DESCRIPTION:
URL:https://breakouthockey.ca/calendar/id-skate-day-4/
LOCATION:Millennium Place Powerade
CATEGORIES:Programs
END:VEVENT
BEGIN:VEVENT
DTSTART;TZID=America/Edmonton:20190420T180000
DTEND;TZID=America/Edmonton:20190420T200000
DTSTAMP:20260422T144812
CREATED:20190409T193231Z
LAST-MODIFIED:20190409T193231Z
UID:2903-1555783200-1555790400@breakouthockey.ca
SUMMARY:ID Skate:  Day 3
DESCRIPTION:
URL:https://breakouthockey.ca/calendar/id-skate-day-3/
LOCATION:Millennium Place Chevrolet
CATEGORIES:Programs
END:VEVENT
BEGIN:VEVENT
DTSTART;TZID=America/Edmonton:20190420T100000
DTEND;TZID=America/Edmonton:20190420T113000
DTSTAMP:20260422T144812
CREATED:20190409T193047Z
LAST-MODIFIED:20190409T195230Z
UID:2901-1555754400-1555759800@breakouthockey.ca
SUMMARY:ID Skate:  Day 2
DESCRIPTION:Group #2
URL:https://breakouthockey.ca/calendar/id-skate-day-2/
LOCATION:Millennium Place Powerade
CATEGORIES:Programs
END:VEVENT
BEGIN:VEVENT
DTSTART;TZID=America/Edmonton:20190420T081500
DTEND;TZID=America/Edmonton:20190420T094500
DTSTAMP:20260422T144812
CREATED:20190409T192957Z
LAST-MODIFIED:20190409T195151Z
UID:2899-1555748100-1555753500@breakouthockey.ca
SUMMARY:ID Skate:  Day 1
DESCRIPTION:Group #1
URL:https://breakouthockey.ca/calendar/id-skate-day-1/
LOCATION:Millennium Place Powerade
CATEGORIES:Programs
END:VEVENT
BEGIN:VEVENT
DTSTART;TZID=America/Edmonton:20190401T080000
DTEND;TZID=America/Edmonton:20190410T170000
DTSTAMP:20260422T144812
CREATED:20181016T165315Z
LAST-MODIFIED:20181016T165315Z
UID:2134-1554105600-1554915600@breakouthockey.ca
SUMMARY:PPCPC
DESCRIPTION:
URL:https://breakouthockey.ca/calendar/ppcpc/
CATEGORIES:Programs
END:VEVENT
BEGIN:VEVENT
DTSTART;TZID=America/Edmonton:20180824T123000
DTEND;TZID=America/Edmonton:20180824T133000
DTSTAMP:20260422T144812
CREATED:20171215T021352Z
LAST-MODIFIED:20180412T173206Z
UID:934-1535113800-1535117400@breakouthockey.ca
SUMMARY:Peewee Conditioning Camp:  Day 5
DESCRIPTION:
URL:https://breakouthockey.ca/calendar/peewee-conditioning-camp-day-5/
LOCATION:Millennium Place Chevrolet
CATEGORIES:Programs
END:VEVENT
BEGIN:VEVENT
DTSTART;TZID=America/Edmonton:20180823T123000
DTEND;TZID=America/Edmonton:20180823T133000
DTSTAMP:20260422T144812
CREATED:20171215T021237Z
LAST-MODIFIED:20180412T173233Z
UID:932-1535027400-1535031000@breakouthockey.ca
SUMMARY:Peewee Conditioning Camp:  Day 4
DESCRIPTION:
URL:https://breakouthockey.ca/calendar/peewee-conditioning-camp-day-4/
LOCATION:Millennium Place Chevrolet
CATEGORIES:Programs
END:VEVENT
BEGIN:VEVENT
DTSTART;TZID=America/Edmonton:20180817T170000
DTEND;TZID=America/Edmonton:20180817T180000
DTSTAMP:20260422T144812
CREATED:20171215T024818Z
LAST-MODIFIED:20171215T024826Z
UID:966-1534525200-1534528800@breakouthockey.ca
SUMMARY:Atom 3 on 3:  Day 5
DESCRIPTION:
URL:https://breakouthockey.ca/calendar/atom-3-3-day-5/
LOCATION:Sherwood Park Shell Arena
CATEGORIES:Programs
END:VEVENT
BEGIN:VEVENT
DTSTART;TZID=America/Edmonton:20180816T171500
DTEND;TZID=America/Edmonton:20180816T181500
DTSTAMP:20260422T144812
CREATED:20171215T024736Z
LAST-MODIFIED:20171215T024736Z
UID:964-1534439700-1534443300@breakouthockey.ca
SUMMARY:Atom 3 on 3:  Day 4
DESCRIPTION:
URL:https://breakouthockey.ca/calendar/atom-3-3-day-4/
LOCATION:Randy Rosen Arena
CATEGORIES:Programs
END:VEVENT
BEGIN:VEVENT
DTSTART;TZID=America/Edmonton:20180815T171500
DTEND;TZID=America/Edmonton:20180815T181500
DTSTAMP:20260422T144812
CREATED:20171215T024619Z
LAST-MODIFIED:20171215T024905Z
UID:962-1534353300-1534356900@breakouthockey.ca
SUMMARY:Atom 3 on 3:  Day 3
DESCRIPTION:
URL:https://breakouthockey.ca/calendar/atom-3-3-day-3/
LOCATION:Randy Rosen Arena
CATEGORIES:Programs
END:VEVENT
BEGIN:VEVENT
DTSTART;TZID=America/Edmonton:20180814T173000
DTEND;TZID=America/Edmonton:20180814T183000
DTSTAMP:20260422T144812
CREATED:20171215T024536Z
LAST-MODIFIED:20171215T024536Z
UID:960-1534267800-1534271400@breakouthockey.ca
SUMMARY:Atom 3 on 3:  Day 2
DESCRIPTION:
URL:https://breakouthockey.ca/calendar/atom-3-3-day-2/
LOCATION:Randy Rosen Arena
CATEGORIES:Programs
END:VEVENT
BEGIN:VEVENT
DTSTART;TZID=America/Edmonton:20180813T171500
DTEND;TZID=America/Edmonton:20180813T181500
DTSTAMP:20260422T144812
CREATED:20171215T024450Z
LAST-MODIFIED:20171215T024450Z
UID:958-1534180500-1534184100@breakouthockey.ca
SUMMARY:Atom 3 on 3:  Day 1
DESCRIPTION:
URL:https://breakouthockey.ca/calendar/atom-3-3-day-1/
LOCATION:Randy Rosen Arena
CATEGORIES:Programs
END:VEVENT
BEGIN:VEVENT
DTSTART;TZID=America/Edmonton:20180810T143000
DTEND;TZID=America/Edmonton:20180810T153000
DTSTAMP:20260422T144812
CREATED:20171215T031621Z
LAST-MODIFIED:20180412T175743Z
UID:1001-1533911400-1533915000@breakouthockey.ca
SUMMARY:Novice/Atom SAG:  Day 4
DESCRIPTION:
URL:https://breakouthockey.ca/calendar/novice-atom-sag-day-4/
LOCATION:Millennium Place Chevrolet
CATEGORIES:Programs
END:VEVENT
BEGIN:VEVENT
DTSTART;TZID=America/Edmonton:20180809T143000
DTEND;TZID=America/Edmonton:20180809T153000
DTSTAMP:20260422T144812
CREATED:20171215T031200Z
LAST-MODIFIED:20180412T175807Z
UID:994-1533825000-1533828600@breakouthockey.ca
SUMMARY:Novice/Atom SAG:  Day 3
DESCRIPTION:
URL:https://breakouthockey.ca/calendar/peewee-sag-day-3-2/
LOCATION:Millennium Place Chevrolet
CATEGORIES:Programs
END:VEVENT
BEGIN:VEVENT
DTSTART;TZID=America/Edmonton:20180808T143000
DTEND;TZID=America/Edmonton:20180808T153000
DTSTAMP:20260422T144812
CREATED:20171215T031119Z
LAST-MODIFIED:20180412T175838Z
UID:992-1533738600-1533742200@breakouthockey.ca
SUMMARY:Novice/Atom SAG:  Day 2
DESCRIPTION:
URL:https://breakouthockey.ca/calendar/peewee-sag-day-2-2/
LOCATION:Millennium Place Chevrolet
CATEGORIES:Programs
END:VEVENT
BEGIN:VEVENT
DTSTART;TZID=America/Edmonton:20180807T143000
DTEND;TZID=America/Edmonton:20180807T153000
DTSTAMP:20260422T144812
CREATED:20171215T031035Z
LAST-MODIFIED:20180412T175900Z
UID:990-1533652200-1533655800@breakouthockey.ca
SUMMARY:Novice/Atom SAG:  Day 1
DESCRIPTION:
URL:https://breakouthockey.ca/calendar/novice-atom-sag-day-1/
LOCATION:Millennium Place Chevrolet
CATEGORIES:Programs
END:VEVENT
BEGIN:VEVENT
DTSTART;TZID=America/Edmonton:20180719T170000
DTEND;TZID=America/Edmonton:20180719T180000
DTSTAMP:20260422T144812
CREATED:20171215T163641Z
LAST-MODIFIED:20171215T171231Z
UID:1199-1532019600-1532023200@breakouthockey.ca
SUMMARY:MS0:  DAY 2
DESCRIPTION:
URL:https://breakouthockey.ca/calendar/mss-day-2-2/
LOCATION:Millennium Place Chevrolet
CATEGORIES:Programs
END:VEVENT
BEGIN:VEVENT
DTSTART;TZID=America/Edmonton:20180613T174500
DTEND;TZID=America/Edmonton:20180613T184500
DTSTAMP:20260422T144812
CREATED:20180402T222220Z
LAST-MODIFIED:20180402T222220Z
UID:1977-1528911900-1528915500@breakouthockey.ca
SUMMARY:3 on 3 - 2B:  Day 10
DESCRIPTION:
URL:https://breakouthockey.ca/calendar/3-3-2b-day-10/
LOCATION:Millennium Place Powerade
CATEGORIES:Programs
END:VEVENT
BEGIN:VEVENT
DTSTART;TZID=America/Edmonton:20180612T183000
DTEND;TZID=America/Edmonton:20180612T193000
DTSTAMP:20260422T144812
CREATED:20180304T223548Z
LAST-MODIFIED:20180304T223548Z
UID:1762-1528828200-1528831800@breakouthockey.ca
SUMMARY:3 on 3 Session 3B - Day 10
DESCRIPTION:
URL:https://breakouthockey.ca/calendar/3-3-session-3b-day-10/
LOCATION:Millennium Place Chevrolet
CATEGORIES:Programs
END:VEVENT
BEGIN:VEVENT
DTSTART;TZID=America/Edmonton:20180606T171500
DTEND;TZID=America/Edmonton:20180606T181500
DTSTAMP:20260422T144812
CREATED:20180402T222133Z
LAST-MODIFIED:20180402T222133Z
UID:1975-1528305300-1528308900@breakouthockey.ca
SUMMARY:3 on 3 - 2B:  Day 9
DESCRIPTION:
URL:https://breakouthockey.ca/calendar/3-3-2b-day-9/
LOCATION:Millennium Place Chevrolet
CATEGORIES:Programs
END:VEVENT
BEGIN:VEVENT
DTSTART;TZID=America/Edmonton:20180605T193000
DTEND;TZID=America/Edmonton:20180605T203000
DTSTAMP:20260422T144812
CREATED:20180304T223434Z
LAST-MODIFIED:20180304T223434Z
UID:1760-1528227000-1528230600@breakouthockey.ca
SUMMARY:3 on 3 Session 3B - Day 9
DESCRIPTION:
URL:https://breakouthockey.ca/calendar/3-3-session-3b-day-9/
LOCATION:Glen Allen Recreation Complex
CATEGORIES:Programs
END:VEVENT
BEGIN:VEVENT
DTSTART;TZID=America/Edmonton:20180530T160000
DTEND;TZID=America/Edmonton:20180530T170000
DTSTAMP:20260422T144812
CREATED:20180402T222039Z
LAST-MODIFIED:20180402T222039Z
UID:1973-1527696000-1527699600@breakouthockey.ca
SUMMARY:3 on 3 - 2B:  Day 8
DESCRIPTION:
URL:https://breakouthockey.ca/calendar/3-3-2b-day-8/
LOCATION:Millennium Place Chevrolet
CATEGORIES:Programs
END:VEVENT
BEGIN:VEVENT
DTSTART;TZID=America/Edmonton:20180529T170000
DTEND;TZID=America/Edmonton:20180529T180000
DTSTAMP:20260422T144812
CREATED:20180304T223344Z
LAST-MODIFIED:20180304T223344Z
UID:1758-1527613200-1527616800@breakouthockey.ca
SUMMARY:3 on 3 Session 3B - Day 8
DESCRIPTION:
URL:https://breakouthockey.ca/calendar/3-3-session-3b-day-8/
LOCATION:Millennium Place Chevrolet
CATEGORIES:Programs
END:VEVENT
BEGIN:VEVENT
DTSTART;TZID=America/Edmonton:20180524T191500
DTEND;TZID=America/Edmonton:20180524T201500
DTSTAMP:20260422T144812
CREATED:20180304T223244Z
LAST-MODIFIED:20180304T223244Z
UID:1756-1527189300-1527192900@breakouthockey.ca
SUMMARY:3 on 3 Session 3B - Day 7
DESCRIPTION:
URL:https://breakouthockey.ca/calendar/3-3-session-3b-day-7/
LOCATION:Millennium Place Powerade
CATEGORIES:Programs
END:VEVENT
END:VCALENDAR