BEGIN:VCALENDAR
VERSION:2.0
PRODID:-//Breakout Hockey - ECPv6.0.3//NONSGML v1.0//EN
CALSCALE:GREGORIAN
METHOD:PUBLISH
X-ORIGINAL-URL:https://breakouthockey.ca
X-WR-CALDESC:Events for Breakout Hockey
REFRESH-INTERVAL;VALUE=DURATION:PT1H
X-Robots-Tag:noindex
X-PUBLISHED-TTL:PT1H
BEGIN:VTIMEZONE
TZID:America/Edmonton
BEGIN:DAYLIGHT
TZOFFSETFROM:-0700
TZOFFSETTO:-0600
TZNAME:MDT
DTSTART:20190310T090000
END:DAYLIGHT
BEGIN:STANDARD
TZOFFSETFROM:-0600
TZOFFSETTO:-0700
TZNAME:MST
DTSTART:20191103T080000
END:STANDARD
BEGIN:DAYLIGHT
TZOFFSETFROM:-0700
TZOFFSETTO:-0600
TZNAME:MDT
DTSTART:20200308T090000
END:DAYLIGHT
BEGIN:STANDARD
TZOFFSETFROM:-0600
TZOFFSETTO:-0700
TZNAME:MST
DTSTART:20201101T080000
END:STANDARD
END:VTIMEZONE
BEGIN:VEVENT
DTSTART;TZID=America/Edmonton:20200707T101500
DTEND;TZID=America/Edmonton:20200707T111500
DTSTAMP:20260422T120905
CREATED:20200624T010507Z
LAST-MODIFIED:20200624T010507Z
UID:3974-1594116900-1594120500@breakouthockey.ca
SUMMARY:U 11: DAY 1
DESCRIPTION:
URL:https://breakouthockey.ca/calendar/u-11-day-1/
LOCATION:Argyll Arena\, 6225 100 Street\, Edmonton\, Alberta\, Canada
CATEGORIES:Programs
END:VEVENT
BEGIN:VEVENT
DTSTART;TZID=America/Edmonton:20200706T213000
DTEND;TZID=America/Edmonton:20200706T223000
DTSTAMP:20260422T120905
CREATED:20200624T015822Z
LAST-MODIFIED:20200624T015822Z
UID:4026-1594071000-1594074600@breakouthockey.ca
SUMMARY:U 18 - DAY 1
DESCRIPTION:
URL:https://breakouthockey.ca/calendar/u-18-day-1/
LOCATION:Argyll Arena\, 6225 100 Street\, Edmonton\, Alberta\, Canada
CATEGORIES:Programs
END:VEVENT
BEGIN:VEVENT
DTSTART;TZID=America/Edmonton:20200706T120000
DTEND;TZID=America/Edmonton:20200706T130000
DTSTAMP:20260422T120905
CREATED:20200624T013348Z
LAST-MODIFIED:20200624T013348Z
UID:4013-1594036800-1594040400@breakouthockey.ca
SUMMARY:U 13: DAY 1
DESCRIPTION:
URL:https://breakouthockey.ca/calendar/u-13-day-1/
LOCATION:Argyll Arena\, 6225 100 Street\, Edmonton\, Alberta\, Canada
CATEGORIES:Programs
END:VEVENT
BEGIN:VEVENT
DTSTART;TZID=America/Edmonton:20200629T130000
DTEND;TZID=America/Edmonton:20200629T143000
DTSTAMP:20260422T120905
CREATED:20200616T002035Z
LAST-MODIFIED:20200616T002035Z
UID:3920-1593435600-1593441000@breakouthockey.ca
SUMMARY:MNEW:  Day 4
DESCRIPTION:
URL:https://breakouthockey.ca/calendar/mnew-day-4/
LOCATION:Argyll Arena\, 6225 100 Street\, Edmonton\, Alberta\, Canada
CATEGORIES:Programs
END:VEVENT
BEGIN:VEVENT
DTSTART;TZID=America/Edmonton:20200626T204500
DTEND;TZID=America/Edmonton:20200626T214500
DTSTAMP:20260422T120905
CREATED:20200616T001933Z
LAST-MODIFIED:20200616T001933Z
UID:3918-1593204300-1593207900@breakouthockey.ca
SUMMARY:MNEW:  Day 3
DESCRIPTION:
URL:https://breakouthockey.ca/calendar/mnew-day-3/
LOCATION:Argyll Arena\, 6225 100 Street\, Edmonton\, Alberta\, Canada
CATEGORIES:Programs
END:VEVENT
BEGIN:VEVENT
DTSTART;TZID=America/Edmonton:20200625T103000
DTEND;TZID=America/Edmonton:20200625T113000
DTSTAMP:20260422T120905
CREATED:20200616T001847Z
LAST-MODIFIED:20200616T002259Z
UID:3916-1593081000-1593084600@breakouthockey.ca
SUMMARY:MNEW:  Day 2
DESCRIPTION:
URL:https://breakouthockey.ca/calendar/mnew-day-2/
LOCATION:Argyll Arena\, 6225 100 Street\, Edmonton\, Alberta\, Canada
CATEGORIES:Programs
END:VEVENT
BEGIN:VEVENT
DTSTART;TZID=America/Edmonton:20200618T103000
DTEND;TZID=America/Edmonton:20200618T113000
DTSTAMP:20260422T120905
CREATED:20200616T001806Z
LAST-MODIFIED:20200616T001806Z
UID:3914-1592476200-1592479800@breakouthockey.ca
SUMMARY:MNEW:  Day 1
DESCRIPTION:
URL:https://breakouthockey.ca/calendar/mnew-day-1/
LOCATION:Argyll Arena\, 6225 100 Street\, Edmonton\, Alberta\, Canada
CATEGORIES:Programs
END:VEVENT
BEGIN:VEVENT
DTSTART;TZID=America/Edmonton:20200402T164500
DTEND;TZID=America/Edmonton:20200402T174500
DTSTAMP:20260422T120905
CREATED:20190103T231103Z
LAST-MODIFIED:20191217T060747Z
UID:2240-1585845900-1585849500@breakouthockey.ca
SUMMARY:Junior Prep Camp 2:  Day 4
DESCRIPTION:
URL:https://breakouthockey.ca/calendar/junior-prep-camp-2-day-4/
LOCATION:Strathcona Olympiette Centre
CATEGORIES:Programs
END:VEVENT
BEGIN:VEVENT
DTSTART;TZID=America/Edmonton:20200325T203000
DTEND;TZID=America/Edmonton:20200325T213000
DTSTAMP:20260422T120905
CREATED:20171214T211126Z
LAST-MODIFIED:20191217T184328Z
UID:784-1585168200-1585171800@breakouthockey.ca
SUMMARY:Junior Prep Camp:  Day 3
DESCRIPTION:
URL:https://breakouthockey.ca/calendar/junior-prep-camp-day-3/
LOCATION:Millennium Place Chevrolet
CATEGORIES:Programs
END:VEVENT
BEGIN:VEVENT
DTSTART;TZID=America/Edmonton:20200324T203000
DTEND;TZID=America/Edmonton:20200324T213000
DTSTAMP:20260422T120905
CREATED:20171214T211051Z
LAST-MODIFIED:20191217T184300Z
UID:782-1585081800-1585085400@breakouthockey.ca
SUMMARY:Junior Prep Camp:  Day 2
DESCRIPTION:
URL:https://breakouthockey.ca/calendar/junior-prep-camp-day-2/
LOCATION:Millennium Place Chevrolet
CATEGORIES:Programs
END:VEVENT
BEGIN:VEVENT
DTSTART;TZID=America/Edmonton:20200323T201500
DTEND;TZID=America/Edmonton:20200323T211500
DTSTAMP:20260422T120905
CREATED:20171214T211008Z
LAST-MODIFIED:20191217T184233Z
UID:780-1584994500-1584998100@breakouthockey.ca
SUMMARY:Junior Prep Camp:  Day 1
DESCRIPTION:
URL:https://breakouthockey.ca/calendar/junior-prep-camp-day-1/
LOCATION:Millennium Place Powerade
CATEGORIES:Programs
END:VEVENT
BEGIN:VEVENT
DTSTART;TZID=America/Edmonton:20190822T100000
DTEND;TZID=America/Edmonton:20190822T110000
DTSTAMP:20260422T120905
CREATED:20171215T170513Z
LAST-MODIFIED:20190104T232215Z
UID:1239-1566468000-1566471600@breakouthockey.ca
SUMMARY:MSO:  DAY 22
DESCRIPTION:
URL:https://breakouthockey.ca/calendar/mss-day-22-2/
LOCATION:Millennium Place Chevrolet
CATEGORIES:Programs
END:VEVENT
BEGIN:VEVENT
DTSTART;TZID=America/Edmonton:20190821T100000
DTEND;TZID=America/Edmonton:20190821T110000
DTSTAMP:20260422T120905
CREATED:20171215T170433Z
LAST-MODIFIED:20190104T232255Z
UID:1237-1566381600-1566385200@breakouthockey.ca
SUMMARY:MSO:  DAY 21
DESCRIPTION:
URL:https://breakouthockey.ca/calendar/mss-day-21-2/
LOCATION:Millennium Place Chevrolet
CATEGORIES:Programs
END:VEVENT
BEGIN:VEVENT
DTSTART;TZID=America/Edmonton:20190816T151500
DTEND;TZID=America/Edmonton:20190816T161500
DTSTAMP:20260422T120905
CREATED:20171215T024039Z
LAST-MODIFIED:20190105T205214Z
UID:955-1565968500-1565972100@breakouthockey.ca
SUMMARY:Peewee 3 on 3:  Day 5
DESCRIPTION:
URL:https://breakouthockey.ca/calendar/peewee-3-3-day-5/
LOCATION:Ardrossan Recreation Complex – East Arena
CATEGORIES:Programs
END:VEVENT
BEGIN:VEVENT
DTSTART;TZID=America/Edmonton:20190815T151500
DTEND;TZID=America/Edmonton:20190815T161500
DTSTAMP:20260422T120905
CREATED:20171215T023954Z
LAST-MODIFIED:20190105T205255Z
UID:953-1565882100-1565885700@breakouthockey.ca
SUMMARY:Peewee 3 on 3:  Day 4
DESCRIPTION:
URL:https://breakouthockey.ca/calendar/peewee-3-3-day-4/
LOCATION:Ardrossan Recreation Complex – East Arena
CATEGORIES:Programs
END:VEVENT
BEGIN:VEVENT
DTSTART;TZID=America/Edmonton:20190814T151500
DTEND;TZID=America/Edmonton:20190814T161500
DTSTAMP:20260422T120905
CREATED:20171215T023909Z
LAST-MODIFIED:20190105T205337Z
UID:951-1565795700-1565799300@breakouthockey.ca
SUMMARY:Peewee 3 on 3:  Day 3
DESCRIPTION:
URL:https://breakouthockey.ca/calendar/peewee-3-3-day-3/
LOCATION:Ardrossan Recreation Complex – East Arena
CATEGORIES:Programs
END:VEVENT
BEGIN:VEVENT
DTSTART;TZID=America/Edmonton:20190813T151500
DTEND;TZID=America/Edmonton:20190813T161500
DTSTAMP:20260422T120905
CREATED:20171215T023824Z
LAST-MODIFIED:20190105T205431Z
UID:949-1565709300-1565712900@breakouthockey.ca
SUMMARY:Peewee 3 on 3:  Day 2
DESCRIPTION:
URL:https://breakouthockey.ca/calendar/peewee-3-3-day-2/
LOCATION:Ardrossan Recreation Complex – East Arena
CATEGORIES:Programs
END:VEVENT
BEGIN:VEVENT
DTSTART;TZID=America/Edmonton:20190812T151500
DTEND;TZID=America/Edmonton:20190812T161500
DTSTAMP:20260422T120905
CREATED:20171215T023735Z
LAST-MODIFIED:20190105T205503Z
UID:947-1565622900-1565626500@breakouthockey.ca
SUMMARY:Peewee 3 on 3:  Day 1
DESCRIPTION:
URL:https://breakouthockey.ca/calendar/peewee-3-3-day-1/
LOCATION:Ardrossan Recreation Complex – East Arena
CATEGORIES:Programs
END:VEVENT
BEGIN:VEVENT
DTSTART;TZID=America/Edmonton:20190809T173000
DTEND;TZID=America/Edmonton:20190809T183000
DTSTAMP:20260422T120905
CREATED:20171215T012958Z
LAST-MODIFIED:20190105T203341Z
UID:882-1565371800-1565375400@breakouthockey.ca
SUMMARY:Novice/Atom Defence Camp: Day 4
DESCRIPTION:
URL:https://breakouthockey.ca/calendar/atom-peewee-defence-camp-day-4/
LOCATION:Millennium Place Chevrolet
CATEGORIES:Programs
END:VEVENT
BEGIN:VEVENT
DTSTART;TZID=America/Edmonton:20190809T143000
DTEND;TZID=America/Edmonton:20190809T153000
DTSTAMP:20260422T120905
CREATED:20171215T030648Z
LAST-MODIFIED:20190105T202858Z
UID:987-1565361000-1565364600@breakouthockey.ca
SUMMARY:Peewee Skills:  Day 4
DESCRIPTION:
URL:https://breakouthockey.ca/calendar/peewee-sag-day-4/
LOCATION:Millennium Place Chevrolet
CATEGORIES:Programs
END:VEVENT
BEGIN:VEVENT
DTSTART;TZID=America/Edmonton:20190808T164500
DTEND;TZID=America/Edmonton:20190808T174500
DTSTAMP:20260422T120905
CREATED:20171215T012917Z
LAST-MODIFIED:20190105T203508Z
UID:880-1565282700-1565286300@breakouthockey.ca
SUMMARY:Novice/Atom Defence Camp: Day 3
DESCRIPTION:
URL:https://breakouthockey.ca/calendar/atom-peewee-defence-camp-day-3/
LOCATION:Millennium Place Chevrolet
CATEGORIES:Programs
END:VEVENT
BEGIN:VEVENT
DTSTART;TZID=America/Edmonton:20190808T143000
DTEND;TZID=America/Edmonton:20190808T153000
DTSTAMP:20260422T120905
CREATED:20171215T030609Z
LAST-MODIFIED:20190105T202734Z
UID:985-1565274600-1565278200@breakouthockey.ca
SUMMARY:Peewee Skills:  Day 3
DESCRIPTION:
URL:https://breakouthockey.ca/calendar/peewee-sag-day-3/
LOCATION:Millennium Place Chevrolet
CATEGORIES:Programs
END:VEVENT
BEGIN:VEVENT
DTSTART;TZID=America/Edmonton:20190807T171500
DTEND;TZID=America/Edmonton:20190807T181500
DTSTAMP:20260422T120905
CREATED:20171215T012835Z
LAST-MODIFIED:20190105T203545Z
UID:878-1565198100-1565201700@breakouthockey.ca
SUMMARY:Novice/Atom Defence Camp: Day 2
DESCRIPTION:
URL:https://breakouthockey.ca/calendar/atom-peewee-defence-camp-day-2/
LOCATION:Millennium Place Chevrolet
CATEGORIES:Programs
END:VEVENT
BEGIN:VEVENT
DTSTART;TZID=America/Edmonton:20190807T143000
DTEND;TZID=America/Edmonton:20190807T153000
DTSTAMP:20260422T120905
CREATED:20171215T030521Z
LAST-MODIFIED:20190105T202651Z
UID:983-1565188200-1565191800@breakouthockey.ca
SUMMARY:Peewee Skills:  Day 2
DESCRIPTION:
URL:https://breakouthockey.ca/calendar/peewee-sag-day-2/
LOCATION:Millennium Place Chevrolet
CATEGORIES:Programs
END:VEVENT
BEGIN:VEVENT
DTSTART;TZID=America/Edmonton:20190806T180000
DTEND;TZID=America/Edmonton:20190806T190000
DTSTAMP:20260422T120905
CREATED:20171215T012755Z
LAST-MODIFIED:20190105T203648Z
UID:876-1565114400-1565118000@breakouthockey.ca
SUMMARY:Novice/Atom Defence Camp: Day 1
DESCRIPTION:
URL:https://breakouthockey.ca/calendar/atom-peewee-defence-camp-day-1/
LOCATION:Millennium Place Powerade
CATEGORIES:Programs
END:VEVENT
BEGIN:VEVENT
DTSTART;TZID=America/Edmonton:20190806T143000
DTEND;TZID=America/Edmonton:20190806T153000
DTSTAMP:20260422T120905
CREATED:20171215T030431Z
LAST-MODIFIED:20190105T202617Z
UID:981-1565101800-1565105400@breakouthockey.ca
SUMMARY:Peewee Skills:  Day 1
DESCRIPTION:
URL:https://breakouthockey.ca/calendar/peewee-sag-day-1/
LOCATION:Millennium Place Chevrolet
CATEGORIES:Programs
END:VEVENT
BEGIN:VEVENT
DTSTART;TZID=America/Edmonton:20190421T093000
DTEND;TZID=America/Edmonton:20190421T113000
DTSTAMP:20260422T120905
CREATED:20190409T193350Z
LAST-MODIFIED:20190409T193350Z
UID:2905-1555839000-1555846200@breakouthockey.ca
SUMMARY:ID Skate:  Day 4
DESCRIPTION:
URL:https://breakouthockey.ca/calendar/id-skate-day-4/
LOCATION:Millennium Place Powerade
CATEGORIES:Programs
END:VEVENT
BEGIN:VEVENT
DTSTART;TZID=America/Edmonton:20190420T180000
DTEND;TZID=America/Edmonton:20190420T200000
DTSTAMP:20260422T120905
CREATED:20190409T193231Z
LAST-MODIFIED:20190409T193231Z
UID:2903-1555783200-1555790400@breakouthockey.ca
SUMMARY:ID Skate:  Day 3
DESCRIPTION:
URL:https://breakouthockey.ca/calendar/id-skate-day-3/
LOCATION:Millennium Place Chevrolet
CATEGORIES:Programs
END:VEVENT
BEGIN:VEVENT
DTSTART;TZID=America/Edmonton:20190420T100000
DTEND;TZID=America/Edmonton:20190420T113000
DTSTAMP:20260422T120905
CREATED:20190409T193047Z
LAST-MODIFIED:20190409T195230Z
UID:2901-1555754400-1555759800@breakouthockey.ca
SUMMARY:ID Skate:  Day 2
DESCRIPTION:Group #2
URL:https://breakouthockey.ca/calendar/id-skate-day-2/
LOCATION:Millennium Place Powerade
CATEGORIES:Programs
END:VEVENT
BEGIN:VEVENT
DTSTART;TZID=America/Edmonton:20190420T081500
DTEND;TZID=America/Edmonton:20190420T094500
DTSTAMP:20260422T120905
CREATED:20190409T192957Z
LAST-MODIFIED:20190409T195151Z
UID:2899-1555748100-1555753500@breakouthockey.ca
SUMMARY:ID Skate:  Day 1
DESCRIPTION:Group #1
URL:https://breakouthockey.ca/calendar/id-skate-day-1/
LOCATION:Millennium Place Powerade
CATEGORIES:Programs
END:VEVENT
END:VCALENDAR