BEGIN:VCALENDAR
VERSION:2.0
PRODID:-//Breakout Hockey - ECPv6.0.3//NONSGML v1.0//EN
CALSCALE:GREGORIAN
METHOD:PUBLISH
X-WR-CALNAME:Breakout Hockey
X-ORIGINAL-URL:https://breakouthockey.ca
X-WR-CALDESC:Events for Breakout Hockey
REFRESH-INTERVAL;VALUE=DURATION:PT1H
X-Robots-Tag:noindex
X-PUBLISHED-TTL:PT1H
BEGIN:VTIMEZONE
TZID:America/Edmonton
BEGIN:DAYLIGHT
TZOFFSETFROM:-0700
TZOFFSETTO:-0600
TZNAME:MDT
DTSTART:20200308T090000
END:DAYLIGHT
BEGIN:STANDARD
TZOFFSETFROM:-0600
TZOFFSETTO:-0700
TZNAME:MST
DTSTART:20201101T080000
END:STANDARD
END:VTIMEZONE
BEGIN:VEVENT
DTSTART;TZID=America/Edmonton:20200714T201500
DTEND;TZID=America/Edmonton:20200714T211500
DTSTAMP:20260422T090343
CREATED:20191217T055503Z
LAST-MODIFIED:20200624T004127Z
UID:3208-1594757700-1594761300@breakouthockey.ca
SUMMARY:SBCC #2 - Day 1
DESCRIPTION:
URL:https://breakouthockey.ca/calendar/sbcc-2-day-1/
LOCATION:The Meadows Arena East
CATEGORIES:Programs
END:VEVENT
BEGIN:VEVENT
DTSTART;TZID=America/Edmonton:20200714T184500
DTEND;TZID=America/Edmonton:20200714T194500
DTSTAMP:20260422T090343
CREATED:20200624T020206Z
LAST-MODIFIED:20200630T030437Z
UID:4034-1594752300-1594755900@breakouthockey.ca
SUMMARY:U 18 - DAY 5
DESCRIPTION:
URL:https://breakouthockey.ca/calendar/u-18-day-5/
LOCATION:Glen Allen Recreation Complex
CATEGORIES:Programs
END:VEVENT
BEGIN:VEVENT
DTSTART;TZID=America/Edmonton:20200714T154500
DTEND;TZID=America/Edmonton:20200714T164500
DTSTAMP:20260422T090343
CREATED:20200624T013729Z
LAST-MODIFIED:20200701T175840Z
UID:4021-1594741500-1594745100@breakouthockey.ca
SUMMARY:U 13: DAY 5
DESCRIPTION:
URL:https://breakouthockey.ca/calendar/u-13-day-5/
LOCATION:The Meadows Arena West
CATEGORIES:Programs
END:VEVENT
BEGIN:VEVENT
DTSTART;TZID=America/Edmonton:20200714T113000
DTEND;TZID=America/Edmonton:20200714T123000
DTSTAMP:20260422T090343
CREATED:20200624T012518Z
LAST-MODIFIED:20200624T012518Z
UID:4004-1594726200-1594729800@breakouthockey.ca
SUMMARY:U 9: DAY 6
DESCRIPTION:
URL:https://breakouthockey.ca/calendar/u-9-day-6/
LOCATION:Argyll Arena\, 6225 100 Street\, Edmonton\, Alberta\, Canada
CATEGORIES:Programs
END:VEVENT
BEGIN:VEVENT
DTSTART;TZID=America/Edmonton:20200714T101500
DTEND;TZID=America/Edmonton:20200714T111500
DTSTAMP:20260422T090343
CREATED:20200624T011020Z
LAST-MODIFIED:20200624T011020Z
UID:3984-1594721700-1594725300@breakouthockey.ca
SUMMARY:U 11: DAY 6
DESCRIPTION:
URL:https://breakouthockey.ca/calendar/u-11-day-6/
LOCATION:Argyll Arena\, 6225 100 Street\, Edmonton\, Alberta\, Canada
CATEGORIES:Programs
END:VEVENT
BEGIN:VEVENT
DTSTART;TZID=America/Edmonton:20200713T194500
DTEND;TZID=America/Edmonton:20200713T204500
DTSTAMP:20260422T090343
CREATED:20200624T020108Z
LAST-MODIFIED:20200624T020108Z
UID:4032-1594669500-1594673100@breakouthockey.ca
SUMMARY:U 18 - DAY 4
DESCRIPTION:
URL:https://breakouthockey.ca/calendar/u-18-day-4/
LOCATION:The Meadows Arena West
CATEGORIES:Programs
END:VEVENT
BEGIN:VEVENT
DTSTART;TZID=America/Edmonton:20200713T160000
DTEND;TZID=America/Edmonton:20200713T170000
DTSTAMP:20260422T090343
CREATED:20200624T013636Z
LAST-MODIFIED:20200624T013636Z
UID:4019-1594656000-1594659600@breakouthockey.ca
SUMMARY:U 13: DAY 4
DESCRIPTION:
URL:https://breakouthockey.ca/calendar/u-13-day-4/
LOCATION:The Meadows Arena East
CATEGORIES:Programs
END:VEVENT
BEGIN:VEVENT
DTSTART;TZID=America/Edmonton:20200713T113000
DTEND;TZID=America/Edmonton:20200713T123000
DTSTAMP:20260422T090343
CREATED:20200624T012434Z
LAST-MODIFIED:20200624T012434Z
UID:4002-1594639800-1594643400@breakouthockey.ca
SUMMARY:U 9: DAY 5
DESCRIPTION:
URL:https://breakouthockey.ca/calendar/u-9-day-5/
LOCATION:Argyll Arena\, 6225 100 Street\, Edmonton\, Alberta\, Canada
CATEGORIES:Programs
END:VEVENT
BEGIN:VEVENT
DTSTART;TZID=America/Edmonton:20200713T101500
DTEND;TZID=America/Edmonton:20200713T111500
DTSTAMP:20260422T090343
CREATED:20200624T010930Z
LAST-MODIFIED:20200624T011623Z
UID:3982-1594635300-1594638900@breakouthockey.ca
SUMMARY:U 11: DAY 5
DESCRIPTION:
URL:https://breakouthockey.ca/calendar/u-11-day-5/
LOCATION:Argyll Arena\, 6225 100 Street\, Edmonton\, Alberta\, Canada
CATEGORIES:Programs
END:VEVENT
BEGIN:VEVENT
DTSTART;TZID=America/Edmonton:20200710T101500
DTEND;TZID=America/Edmonton:20200710T111500
DTSTAMP:20260422T090343
CREATED:20200624T012349Z
LAST-MODIFIED:20200629T013112Z
UID:4000-1594376100-1594379700@breakouthockey.ca
SUMMARY:U 9: DAY 4
DESCRIPTION:
URL:https://breakouthockey.ca/calendar/u-9-day-4/
LOCATION:Argyll Arena\, 6225 100 Street\, Edmonton\, Alberta\, Canada
CATEGORIES:Programs
END:VEVENT
BEGIN:VEVENT
DTSTART;TZID=America/Edmonton:20200710T090000
DTEND;TZID=America/Edmonton:20200710T100000
DTSTAMP:20260422T090343
CREATED:20200624T010824Z
LAST-MODIFIED:20200629T013218Z
UID:3980-1594371600-1594375200@breakouthockey.ca
SUMMARY:U 11: DAY 4
DESCRIPTION:
URL:https://breakouthockey.ca/calendar/u-11-day-4/
LOCATION:Argyll Arena\, 6225 100 Street\, Edmonton\, Alberta\, Canada
CATEGORIES:Programs
END:VEVENT
BEGIN:VEVENT
DTSTART;TZID=America/Edmonton:20200709T200000
DTEND;TZID=America/Edmonton:20200709T210000
DTSTAMP:20260422T090343
CREATED:20200624T020003Z
LAST-MODIFIED:20200624T020003Z
UID:4030-1594324800-1594328400@breakouthockey.ca
SUMMARY:U 18 - DAY 3
DESCRIPTION:
URL:https://breakouthockey.ca/calendar/u-18-day-3/
LOCATION:Castledowns B
CATEGORIES:Programs
END:VEVENT
BEGIN:VEVENT
DTSTART;TZID=America/Edmonton:20200709T113000
DTEND;TZID=America/Edmonton:20200709T123000
DTSTAMP:20260422T090343
CREATED:20200624T012235Z
LAST-MODIFIED:20200624T012235Z
UID:3998-1594294200-1594297800@breakouthockey.ca
SUMMARY:U 9: DAY 3
DESCRIPTION:
URL:https://breakouthockey.ca/calendar/u-9-day-3/
LOCATION:Argyll Arena\, 6225 100 Street\, Edmonton\, Alberta\, Canada
CATEGORIES:Programs
END:VEVENT
BEGIN:VEVENT
DTSTART;TZID=America/Edmonton:20200709T101500
DTEND;TZID=America/Edmonton:20200709T111500
DTSTAMP:20260422T090343
CREATED:20200624T010702Z
LAST-MODIFIED:20200624T010702Z
UID:3978-1594289700-1594293300@breakouthockey.ca
SUMMARY:U 11: DAY 3
DESCRIPTION:
URL:https://breakouthockey.ca/calendar/u-11-day-3/
LOCATION:Argyll Arena\, 6225 100 Street\, Edmonton\, Alberta\, Canada
CATEGORIES:Programs
END:VEVENT
BEGIN:VEVENT
DTSTART;TZID=America/Edmonton:20200708T171500
DTEND;TZID=America/Edmonton:20200708T181500
DTSTAMP:20260422T090343
CREATED:20200624T015917Z
LAST-MODIFIED:20200624T015917Z
UID:4028-1594228500-1594232100@breakouthockey.ca
SUMMARY:U 18 - DAY 2
DESCRIPTION:
URL:https://breakouthockey.ca/calendar/u-18-day-2/
LOCATION:Clareview B
CATEGORIES:Programs
END:VEVENT
BEGIN:VEVENT
DTSTART;TZID=America/Edmonton:20200708T144500
DTEND;TZID=America/Edmonton:20200708T154500
DTSTAMP:20260422T090343
CREATED:20200624T013545Z
LAST-MODIFIED:20200624T013545Z
UID:4017-1594219500-1594223100@breakouthockey.ca
SUMMARY:U 13: DAY 3
DESCRIPTION:
URL:https://breakouthockey.ca/calendar/u-13-day-3/
LOCATION:Clareview B
CATEGORIES:Programs
END:VEVENT
BEGIN:VEVENT
DTSTART;TZID=America/Edmonton:20200708T113000
DTEND;TZID=America/Edmonton:20200708T123000
DTSTAMP:20260422T090343
CREATED:20200624T012147Z
LAST-MODIFIED:20200624T012147Z
UID:3996-1594207800-1594211400@breakouthockey.ca
SUMMARY:U 9: DAY 2
DESCRIPTION:
URL:https://breakouthockey.ca/calendar/u-9-day-2/
LOCATION:Argyll Arena\, 6225 100 Street\, Edmonton\, Alberta\, Canada
CATEGORIES:Programs
END:VEVENT
BEGIN:VEVENT
DTSTART;TZID=America/Edmonton:20200708T101500
DTEND;TZID=America/Edmonton:20200708T111500
DTSTAMP:20260422T090343
CREATED:20200624T010608Z
LAST-MODIFIED:20200624T010608Z
UID:3976-1594203300-1594206900@breakouthockey.ca
SUMMARY:U 11: DAY 2
DESCRIPTION:
URL:https://breakouthockey.ca/calendar/u-11-day-2/
LOCATION:Argyll Arena\, 6225 100 Street\, Edmonton\, Alberta\, Canada
CATEGORIES:Programs
END:VEVENT
BEGIN:VEVENT
DTSTART;TZID=America/Edmonton:20200707T200000
DTEND;TZID=America/Edmonton:20200707T210000
DTSTAMP:20260422T090343
CREATED:20200624T013453Z
LAST-MODIFIED:20200624T013453Z
UID:4015-1594152000-1594155600@breakouthockey.ca
SUMMARY:U 13: DAY 2
DESCRIPTION:
URL:https://breakouthockey.ca/calendar/u-13-day-2/
LOCATION:Castledowns B
CATEGORIES:Programs
END:VEVENT
BEGIN:VEVENT
DTSTART;TZID=America/Edmonton:20200707T113000
DTEND;TZID=America/Edmonton:20200707T123000
DTSTAMP:20260422T090343
CREATED:20200624T012039Z
LAST-MODIFIED:20200624T012039Z
UID:3993-1594121400-1594125000@breakouthockey.ca
SUMMARY:U 9: DAY 1
DESCRIPTION:
URL:https://breakouthockey.ca/calendar/u-9-day-1/
LOCATION:Argyll Arena\, 6225 100 Street\, Edmonton\, Alberta\, Canada
CATEGORIES:Programs
END:VEVENT
BEGIN:VEVENT
DTSTART;TZID=America/Edmonton:20200707T101500
DTEND;TZID=America/Edmonton:20200707T111500
DTSTAMP:20260422T090343
CREATED:20200624T010507Z
LAST-MODIFIED:20200624T010507Z
UID:3974-1594116900-1594120500@breakouthockey.ca
SUMMARY:U 11: DAY 1
DESCRIPTION:
URL:https://breakouthockey.ca/calendar/u-11-day-1/
LOCATION:Argyll Arena\, 6225 100 Street\, Edmonton\, Alberta\, Canada
CATEGORIES:Programs
END:VEVENT
BEGIN:VEVENT
DTSTART;TZID=America/Edmonton:20200706T213000
DTEND;TZID=America/Edmonton:20200706T223000
DTSTAMP:20260422T090343
CREATED:20200624T015822Z
LAST-MODIFIED:20200624T015822Z
UID:4026-1594071000-1594074600@breakouthockey.ca
SUMMARY:U 18 - DAY 1
DESCRIPTION:
URL:https://breakouthockey.ca/calendar/u-18-day-1/
LOCATION:Argyll Arena\, 6225 100 Street\, Edmonton\, Alberta\, Canada
CATEGORIES:Programs
END:VEVENT
BEGIN:VEVENT
DTSTART;TZID=America/Edmonton:20200706T120000
DTEND;TZID=America/Edmonton:20200706T130000
DTSTAMP:20260422T090343
CREATED:20200624T013348Z
LAST-MODIFIED:20200624T013348Z
UID:4013-1594036800-1594040400@breakouthockey.ca
SUMMARY:U 13: DAY 1
DESCRIPTION:
URL:https://breakouthockey.ca/calendar/u-13-day-1/
LOCATION:Argyll Arena\, 6225 100 Street\, Edmonton\, Alberta\, Canada
CATEGORIES:Programs
END:VEVENT
BEGIN:VEVENT
DTSTART;TZID=America/Edmonton:20200629T130000
DTEND;TZID=America/Edmonton:20200629T143000
DTSTAMP:20260422T090343
CREATED:20200616T002035Z
LAST-MODIFIED:20200616T002035Z
UID:3920-1593435600-1593441000@breakouthockey.ca
SUMMARY:MNEW:  Day 4
DESCRIPTION:
URL:https://breakouthockey.ca/calendar/mnew-day-4/
LOCATION:Argyll Arena\, 6225 100 Street\, Edmonton\, Alberta\, Canada
CATEGORIES:Programs
END:VEVENT
BEGIN:VEVENT
DTSTART;TZID=America/Edmonton:20200626T204500
DTEND;TZID=America/Edmonton:20200626T214500
DTSTAMP:20260422T090343
CREATED:20200616T001933Z
LAST-MODIFIED:20200616T001933Z
UID:3918-1593204300-1593207900@breakouthockey.ca
SUMMARY:MNEW:  Day 3
DESCRIPTION:
URL:https://breakouthockey.ca/calendar/mnew-day-3/
LOCATION:Argyll Arena\, 6225 100 Street\, Edmonton\, Alberta\, Canada
CATEGORIES:Programs
END:VEVENT
BEGIN:VEVENT
DTSTART;TZID=America/Edmonton:20200625T103000
DTEND;TZID=America/Edmonton:20200625T113000
DTSTAMP:20260422T090343
CREATED:20200616T001847Z
LAST-MODIFIED:20200616T002259Z
UID:3916-1593081000-1593084600@breakouthockey.ca
SUMMARY:MNEW:  Day 2
DESCRIPTION:
URL:https://breakouthockey.ca/calendar/mnew-day-2/
LOCATION:Argyll Arena\, 6225 100 Street\, Edmonton\, Alberta\, Canada
CATEGORIES:Programs
END:VEVENT
BEGIN:VEVENT
DTSTART;TZID=America/Edmonton:20200618T103000
DTEND;TZID=America/Edmonton:20200618T113000
DTSTAMP:20260422T090343
CREATED:20200616T001806Z
LAST-MODIFIED:20200616T001806Z
UID:3914-1592476200-1592479800@breakouthockey.ca
SUMMARY:MNEW:  Day 1
DESCRIPTION:
URL:https://breakouthockey.ca/calendar/mnew-day-1/
LOCATION:Argyll Arena\, 6225 100 Street\, Edmonton\, Alberta\, Canada
CATEGORIES:Programs
END:VEVENT
BEGIN:VEVENT
DTSTART;TZID=America/Edmonton:20200402T164500
DTEND;TZID=America/Edmonton:20200402T174500
DTSTAMP:20260422T090343
CREATED:20190103T231103Z
LAST-MODIFIED:20191217T060747Z
UID:2240-1585845900-1585849500@breakouthockey.ca
SUMMARY:Junior Prep Camp 2:  Day 4
DESCRIPTION:
URL:https://breakouthockey.ca/calendar/junior-prep-camp-2-day-4/
LOCATION:Strathcona Olympiette Centre
CATEGORIES:Programs
END:VEVENT
BEGIN:VEVENT
DTSTART;TZID=America/Edmonton:20200325T203000
DTEND;TZID=America/Edmonton:20200325T213000
DTSTAMP:20260422T090343
CREATED:20171214T211126Z
LAST-MODIFIED:20191217T184328Z
UID:784-1585168200-1585171800@breakouthockey.ca
SUMMARY:Junior Prep Camp:  Day 3
DESCRIPTION:
URL:https://breakouthockey.ca/calendar/junior-prep-camp-day-3/
LOCATION:Millennium Place Chevrolet
CATEGORIES:Programs
END:VEVENT
BEGIN:VEVENT
DTSTART;TZID=America/Edmonton:20200324T203000
DTEND;TZID=America/Edmonton:20200324T213000
DTSTAMP:20260422T090343
CREATED:20171214T211051Z
LAST-MODIFIED:20191217T184300Z
UID:782-1585081800-1585085400@breakouthockey.ca
SUMMARY:Junior Prep Camp:  Day 2
DESCRIPTION:
URL:https://breakouthockey.ca/calendar/junior-prep-camp-day-2/
LOCATION:Millennium Place Chevrolet
CATEGORIES:Programs
END:VEVENT
END:VCALENDAR