BEGIN:VCALENDAR
VERSION:2.0
PRODID:-//Breakout Hockey - ECPv6.0.3//NONSGML v1.0//EN
CALSCALE:GREGORIAN
METHOD:PUBLISH
X-ORIGINAL-URL:https://breakouthockey.ca
X-WR-CALDESC:Events for Breakout Hockey
REFRESH-INTERVAL;VALUE=DURATION:PT1H
X-Robots-Tag:noindex
X-PUBLISHED-TTL:PT1H
BEGIN:VTIMEZONE
TZID:America/Edmonton
BEGIN:DAYLIGHT
TZOFFSETFROM:-0700
TZOFFSETTO:-0600
TZNAME:MDT
DTSTART:20200308T090000
END:DAYLIGHT
BEGIN:STANDARD
TZOFFSETFROM:-0600
TZOFFSETTO:-0700
TZNAME:MST
DTSTART:20201101T080000
END:STANDARD
END:VTIMEZONE
BEGIN:VEVENT
DTSTART;TZID=America/Edmonton:20200917T211500
DTEND;TZID=America/Edmonton:20200917T221500
DTSTAMP:20260422T025415
CREATED:20200826T021630Z
LAST-MODIFIED:20200826T021630Z
UID:4396-1600377300-1600380900@breakouthockey.ca
SUMMARY:HMCC - Day 5
DESCRIPTION:
URL:https://breakouthockey.ca/calendar/hmcc-day-5/
LOCATION:Argyll Arena\, 6225 100 Street\, Edmonton\, Alberta\, Canada
CATEGORIES:Programs
END:VEVENT
BEGIN:VEVENT
DTSTART;TZID=America/Edmonton:20200917T200000
DTEND;TZID=America/Edmonton:20200917T210000
DTSTAMP:20260422T025415
CREATED:20200808T214159Z
LAST-MODIFIED:20200808T215557Z
UID:4335-1600372800-1600376400@breakouthockey.ca
SUMMARY:SMJCC - Day 8
DESCRIPTION:
URL:https://breakouthockey.ca/calendar/smjcc-day-8/
LOCATION:Argyll Arena\, 6225 100 Street\, Edmonton\, Alberta\, Canada
CATEGORIES:Programs
END:VEVENT
BEGIN:VEVENT
DTSTART;TZID=America/Edmonton:20200914T200000
DTEND;TZID=America/Edmonton:20200914T210000
DTSTAMP:20260422T025415
CREATED:20200826T021531Z
LAST-MODIFIED:20200826T021531Z
UID:4394-1600113600-1600117200@breakouthockey.ca
SUMMARY:HMCC - Day 4
DESCRIPTION:
URL:https://breakouthockey.ca/calendar/hmcc-day-4/
LOCATION:Millennium Place Powerade
CATEGORIES:Programs
END:VEVENT
BEGIN:VEVENT
DTSTART;TZID=America/Edmonton:20200914T164500
DTEND;TZID=America/Edmonton:20200914T174500
DTSTAMP:20260422T025415
CREATED:20200808T214105Z
LAST-MODIFIED:20200808T214105Z
UID:4333-1600101900-1600105500@breakouthockey.ca
SUMMARY:SMJCC - Day 7
DESCRIPTION:
URL:https://breakouthockey.ca/calendar/smjcc-day-7/
LOCATION:Argyll Arena\, 6225 100 Street\, Edmonton\, Alberta\, Canada
CATEGORIES:Programs
END:VEVENT
BEGIN:VEVENT
DTSTART;TZID=America/Edmonton:20200911T204500
DTEND;TZID=America/Edmonton:20200911T214500
DTSTAMP:20260422T025415
CREATED:20200808T213351Z
LAST-MODIFIED:20200822T000309Z
UID:4331-1599857100-1599860700@breakouthockey.ca
SUMMARY:SMJCC - Day 6
DESCRIPTION:
URL:https://breakouthockey.ca/calendar/smjcc-day-6/
LOCATION:Millennium Place Powerade
CATEGORIES:Programs
END:VEVENT
BEGIN:VEVENT
DTSTART;TZID=America/Edmonton:20200910T210000
DTEND;TZID=America/Edmonton:20200910T220000
DTSTAMP:20260422T025415
CREATED:20200826T021417Z
LAST-MODIFIED:20200826T021417Z
UID:4392-1599771600-1599775200@breakouthockey.ca
SUMMARY:HMCC - Day 3
DESCRIPTION:
URL:https://breakouthockey.ca/calendar/hmcc-day-3/
LOCATION:Glen Allen Recreation Complex
CATEGORIES:Programs
END:VEVENT
BEGIN:VEVENT
DTSTART;TZID=America/Edmonton:20200910T194500
DTEND;TZID=America/Edmonton:20200910T204500
DTSTAMP:20260422T025415
CREATED:20200808T213234Z
LAST-MODIFIED:20200826T020322Z
UID:4329-1599767100-1599770700@breakouthockey.ca
SUMMARY:SMJCC - Day 5
DESCRIPTION:
URL:https://breakouthockey.ca/calendar/smjcc-day-5/
LOCATION:Glen Allen Recreation Complex
CATEGORIES:Programs
END:VEVENT
BEGIN:VEVENT
DTSTART;TZID=America/Edmonton:20200909T213000
DTEND;TZID=America/Edmonton:20200909T223000
DTSTAMP:20260422T025415
CREATED:20200808T213131Z
LAST-MODIFIED:20200808T213131Z
UID:4327-1599687000-1599690600@breakouthockey.ca
SUMMARY:SMJCC - Day 4
DESCRIPTION:
URL:https://breakouthockey.ca/calendar/smjcc-day-4/
LOCATION:Strathcona Olympiette Centre
CATEGORIES:Programs
END:VEVENT
BEGIN:VEVENT
DTSTART;TZID=America/Edmonton:20200909T163000
DTEND;TZID=America/Edmonton:20200909T173000
DTSTAMP:20260422T025415
CREATED:20200826T021318Z
LAST-MODIFIED:20200826T021733Z
UID:4390-1599669000-1599672600@breakouthockey.ca
SUMMARY:HMCC - Day 2
DESCRIPTION:
URL:https://breakouthockey.ca/calendar/hmcc-day-2/
LOCATION:Strathcona Olympiette Centre
CATEGORIES:Programs
END:VEVENT
BEGIN:VEVENT
DTSTART;TZID=America/Edmonton:20200908T193000
DTEND;TZID=America/Edmonton:20200908T203000
DTSTAMP:20260422T025415
CREATED:20200826T021151Z
LAST-MODIFIED:20200826T021151Z
UID:4387-1599593400-1599597000@breakouthockey.ca
SUMMARY:HMCC - Day 1
DESCRIPTION:
URL:https://breakouthockey.ca/calendar/hmcc-day-1/
LOCATION:Argyll Arena\, 6225 100 Street\, Edmonton\, Alberta\, Canada
CATEGORIES:Programs
END:VEVENT
BEGIN:VEVENT
DTSTART;TZID=America/Edmonton:20200904T191500
DTEND;TZID=America/Edmonton:20200904T201500
DTSTAMP:20260422T025415
CREATED:20200808T213012Z
LAST-MODIFIED:20200808T213012Z
UID:4325-1599246900-1599250500@breakouthockey.ca
SUMMARY:SMJCC - Day 3
DESCRIPTION:
URL:https://breakouthockey.ca/calendar/smjcc-day-3/
LOCATION:Glen Allen Recreation Complex
CATEGORIES:Programs
END:VEVENT
BEGIN:VEVENT
DTSTART;TZID=America/Edmonton:20200903T180000
DTEND;TZID=America/Edmonton:20200903T190000
DTSTAMP:20260422T025415
CREATED:20200808T212906Z
LAST-MODIFIED:20200808T212906Z
UID:4323-1599156000-1599159600@breakouthockey.ca
SUMMARY:SMJCC - Day 2
DESCRIPTION:
URL:https://breakouthockey.ca/calendar/smjcc-day-2/
LOCATION:Millennium Place Powerade
CATEGORIES:Programs
END:VEVENT
BEGIN:VEVENT
DTSTART;TZID=America/Edmonton:20200902T211500
DTEND;TZID=America/Edmonton:20200902T221500
DTSTAMP:20260422T025415
CREATED:20200808T212816Z
LAST-MODIFIED:20200818T234612Z
UID:4321-1599081300-1599084900@breakouthockey.ca
SUMMARY:SMJCC - Day 1
DESCRIPTION:
URL:https://breakouthockey.ca/calendar/smjcc-day-1/
LOCATION:Ardrossan Recreation Complex – East Arena
CATEGORIES:Programs
END:VEVENT
BEGIN:VEVENT
DTSTART;TZID=America/Edmonton:20200901T203000
DTEND;TZID=America/Edmonton:20200901T213000
DTSTAMP:20260422T025415
CREATED:20200808T211722Z
LAST-MODIFIED:20200808T211722Z
UID:4318-1598992200-1598995800@breakouthockey.ca
SUMMARY:MJCC - Day #8
DESCRIPTION:
URL:https://breakouthockey.ca/calendar/mjcc-day-8/
LOCATION:Millennium Place Powerade
CATEGORIES:Programs
END:VEVENT
BEGIN:VEVENT
DTSTART;TZID=America/Edmonton:20200831T173000
DTEND;TZID=America/Edmonton:20200831T183000
DTSTAMP:20260422T025415
CREATED:20200808T211615Z
LAST-MODIFIED:20200808T211615Z
UID:4316-1598895000-1598898600@breakouthockey.ca
SUMMARY:MJCC - Day #7
DESCRIPTION:
URL:https://breakouthockey.ca/calendar/mjcc-day-7/
LOCATION:Millennium Place Powerade
CATEGORIES:Programs
END:VEVENT
BEGIN:VEVENT
DTSTART;TZID=America/Edmonton:20200827T100000
DTEND;TZID=America/Edmonton:20200827T110000
DTSTAMP:20260422T025415
CREATED:20200808T211344Z
LAST-MODIFIED:20200818T234527Z
UID:4313-1598522400-1598526000@breakouthockey.ca
SUMMARY:MJCC - Day #6
DESCRIPTION:
URL:https://breakouthockey.ca/calendar/mjcc-day-6/
LOCATION:Millennium Place Powerade
CATEGORIES:Programs
END:VEVENT
BEGIN:VEVENT
DTSTART;TZID=America/Edmonton:20200826T130000
DTEND;TZID=America/Edmonton:20200826T140000
DTSTAMP:20260422T025415
CREATED:20200808T211246Z
LAST-MODIFIED:20200818T234452Z
UID:4311-1598446800-1598450400@breakouthockey.ca
SUMMARY:MJCC - Day #5
DESCRIPTION:
URL:https://breakouthockey.ca/calendar/mjcc-day-5/
LOCATION:Millennium Place Chevrolet
CATEGORIES:Programs
END:VEVENT
BEGIN:VEVENT
DTSTART;TZID=America/Edmonton:20200825T130000
DTEND;TZID=America/Edmonton:20200825T140000
DTSTAMP:20260422T025415
CREATED:20200808T211131Z
LAST-MODIFIED:20200808T211131Z
UID:4309-1598360400-1598364000@breakouthockey.ca
SUMMARY:MJCC - Day #4
DESCRIPTION:
URL:https://breakouthockey.ca/calendar/mjcc-day-4/
LOCATION:Millennium Place Powerade
CATEGORIES:Programs
END:VEVENT
BEGIN:VEVENT
DTSTART;TZID=America/Edmonton:20200824T130000
DTEND;TZID=America/Edmonton:20200824T140000
DTSTAMP:20260422T025415
CREATED:20200808T211022Z
LAST-MODIFIED:20200818T234409Z
UID:4307-1598274000-1598277600@breakouthockey.ca
SUMMARY:MJCC - Day #3
DESCRIPTION:
URL:https://breakouthockey.ca/calendar/mjcc-day-3/
LOCATION:Millennium Place Powerade
CATEGORIES:Programs
END:VEVENT
BEGIN:VEVENT
DTSTART;TZID=America/Edmonton:20200821T123000
DTEND;TZID=America/Edmonton:20200821T133000
DTSTAMP:20260422T025415
CREATED:20200808T210918Z
LAST-MODIFIED:20200808T210918Z
UID:4305-1598013000-1598016600@breakouthockey.ca
SUMMARY:MJCC - Day #2
DESCRIPTION:
URL:https://breakouthockey.ca/calendar/mjcc-day-2/
LOCATION:Millennium Place Chevrolet
CATEGORIES:Programs
END:VEVENT
BEGIN:VEVENT
DTSTART;TZID=America/Edmonton:20200820T123000
DTEND;TZID=America/Edmonton:20200820T133000
DTSTAMP:20260422T025415
CREATED:20200808T210218Z
LAST-MODIFIED:20200808T210218Z
UID:4302-1597926600-1597930200@breakouthockey.ca
SUMMARY:MJCC - Day #1
DESCRIPTION:
URL:https://breakouthockey.ca/calendar/mjcc-day-1/
LOCATION:Millennium Place Chevrolet
CATEGORIES:Programs
END:VEVENT
BEGIN:VEVENT
DTSTART;TZID=America/Edmonton:20200814T140000
DTEND;TZID=America/Edmonton:20200814T150000
DTSTAMP:20260422T025415
CREATED:20171215T175619Z
LAST-MODIFIED:20191218T165929Z
UID:1319-1597413600-1597417200@breakouthockey.ca
SUMMARY:Junior:  DAY 25
DESCRIPTION:
URL:https://breakouthockey.ca/calendar/junior-day-25/
LOCATION:Ardrossan Recreation Complex – West Arena
CATEGORIES:Programs
END:VEVENT
BEGIN:VEVENT
DTSTART;TZID=America/Edmonton:20200813T140000
DTEND;TZID=America/Edmonton:20200813T150000
DTSTAMP:20260422T025415
CREATED:20171215T175518Z
LAST-MODIFIED:20191218T165833Z
UID:1317-1597327200-1597330800@breakouthockey.ca
SUMMARY:Junior:  DAY 24
DESCRIPTION:
URL:https://breakouthockey.ca/calendar/junior-day-24/
LOCATION:Ardrossan Recreation Complex – West Arena
CATEGORIES:Programs
END:VEVENT
BEGIN:VEVENT
DTSTART;TZID=America/Edmonton:20200812T140000
DTEND;TZID=America/Edmonton:20200812T150000
DTSTAMP:20260422T025415
CREATED:20171215T175427Z
LAST-MODIFIED:20191218T165809Z
UID:1315-1597240800-1597244400@breakouthockey.ca
SUMMARY:Junior:  DAY 23
DESCRIPTION:
URL:https://breakouthockey.ca/calendar/junior-day-23/
LOCATION:Ardrossan Recreation Complex – West Arena
CATEGORIES:Programs
END:VEVENT
BEGIN:VEVENT
DTSTART;TZID=America/Edmonton:20200811T140000
DTEND;TZID=America/Edmonton:20200811T150000
DTSTAMP:20260422T025415
CREATED:20171215T175331Z
LAST-MODIFIED:20191218T165741Z
UID:1313-1597154400-1597158000@breakouthockey.ca
SUMMARY:Junior:  DAY 22
DESCRIPTION:
URL:https://breakouthockey.ca/calendar/junior-day-22/
LOCATION:Ardrossan Recreation Complex – West Arena
CATEGORIES:Programs
END:VEVENT
BEGIN:VEVENT
DTSTART;TZID=America/Edmonton:20200810T140000
DTEND;TZID=America/Edmonton:20200810T150000
DTSTAMP:20260422T025415
CREATED:20171215T175246Z
LAST-MODIFIED:20191218T165718Z
UID:1311-1597068000-1597071600@breakouthockey.ca
SUMMARY:Junior:  DAY 21
DESCRIPTION:
URL:https://breakouthockey.ca/calendar/junior-day-21/
LOCATION:Ardrossan Recreation Complex – West Arena
CATEGORIES:Programs
END:VEVENT
BEGIN:VEVENT
DTSTART;TZID=America/Edmonton:20200807T143000
DTEND;TZID=America/Edmonton:20200807T153000
DTSTAMP:20260422T025415
CREATED:20171215T175113Z
LAST-MODIFIED:20200719T230639Z
UID:1309-1596810600-1596814200@breakouthockey.ca
SUMMARY:Junior:  DAY 20
DESCRIPTION:
URL:https://breakouthockey.ca/calendar/junior-day-20/
LOCATION:Millennium Place Chevrolet
CATEGORIES:Programs
END:VEVENT
BEGIN:VEVENT
DTSTART;TZID=America/Edmonton:20200806T143000
DTEND;TZID=America/Edmonton:20200806T153000
DTSTAMP:20260422T025415
CREATED:20171215T175023Z
LAST-MODIFIED:20200719T230716Z
UID:1307-1596724200-1596727800@breakouthockey.ca
SUMMARY:Junior:  DAY 19
DESCRIPTION:
URL:https://breakouthockey.ca/calendar/junior-day-19/
LOCATION:Millennium Place Chevrolet
CATEGORIES:Programs
END:VEVENT
BEGIN:VEVENT
DTSTART;TZID=America/Edmonton:20200717T173000
DTEND;TZID=America/Edmonton:20200717T183000
DTSTAMP:20260422T025415
CREATED:20200624T020347Z
LAST-MODIFIED:20200701T174051Z
UID:4038-1595007000-1595010600@breakouthockey.ca
SUMMARY:U 18 - DAY 7
DESCRIPTION:
URL:https://breakouthockey.ca/calendar/u-18-day-7/
LOCATION:Randy Rosen Arena
CATEGORIES:Programs
END:VEVENT
BEGIN:VEVENT
DTSTART;TZID=America/Edmonton:20200717T160000
DTEND;TZID=America/Edmonton:20200717T170000
DTSTAMP:20260422T025415
CREATED:20191217T055739Z
LAST-MODIFIED:20200630T030902Z
UID:3214-1595001600-1595005200@breakouthockey.ca
SUMMARY:SBCC #2 - Day 4
DESCRIPTION:
URL:https://breakouthockey.ca/calendar/sbcc-2-day-4/
LOCATION:Randy Rosen Arena
CATEGORIES:Programs
END:VEVENT
END:VCALENDAR