BEGIN:VCALENDAR
VERSION:2.0
PRODID:-//Breakout Hockey - ECPv6.0.3//NONSGML v1.0//EN
CALSCALE:GREGORIAN
METHOD:PUBLISH
X-WR-CALNAME:Breakout Hockey
X-ORIGINAL-URL:https://breakouthockey.ca
X-WR-CALDESC:Events for Breakout Hockey
REFRESH-INTERVAL;VALUE=DURATION:PT1H
X-Robots-Tag:noindex
X-PUBLISHED-TTL:PT1H
BEGIN:VTIMEZONE
TZID:America/Edmonton
BEGIN:DAYLIGHT
TZOFFSETFROM:-0700
TZOFFSETTO:-0600
TZNAME:MDT
DTSTART:20200308T090000
END:DAYLIGHT
BEGIN:STANDARD
TZOFFSETFROM:-0600
TZOFFSETTO:-0700
TZNAME:MST
DTSTART:20201101T080000
END:STANDARD
BEGIN:DAYLIGHT
TZOFFSETFROM:-0700
TZOFFSETTO:-0600
TZNAME:MDT
DTSTART:20210314T090000
END:DAYLIGHT
BEGIN:STANDARD
TZOFFSETFROM:-0600
TZOFFSETTO:-0700
TZNAME:MST
DTSTART:20211107T080000
END:STANDARD
END:VTIMEZONE
BEGIN:VEVENT
DTSTART;TZID=America/Edmonton:20210626T113000
DTEND;TZID=America/Edmonton:20210626T123000
DTSTAMP:20260421T223659
CREATED:20210309T030145Z
LAST-MODIFIED:20210615T170703Z
UID:4705-1624707000-1624710600@breakouthockey.ca
SUMMARY:Bantam AAA Spring #2 - Day 10
DESCRIPTION:
URL:https://breakouthockey.ca/calendar/bantam-aaa-spring-2-day-10/
LOCATION:Glen Allen Recreation Complex
CATEGORIES:Programs
END:VEVENT
BEGIN:VEVENT
DTSTART;TZID=America/Edmonton:20210625T203000
DTEND;TZID=America/Edmonton:20210625T213000
DTSTAMP:20260421T223659
CREATED:20210422T212108Z
LAST-MODIFIED:20210615T172930Z
UID:4954-1624653000-1624656600@breakouthockey.ca
SUMMARY:JSP - Session #2 - Day 7
DESCRIPTION:
URL:https://breakouthockey.ca/calendar/jsp-session-2-day-7/
LOCATION:Glen Allen Recreation Complex
CATEGORIES:Programs
END:VEVENT
BEGIN:VEVENT
DTSTART;TZID=America/Edmonton:20210623T194500
DTEND;TZID=America/Edmonton:20210623T204500
DTSTAMP:20260421T223659
CREATED:20210422T212004Z
LAST-MODIFIED:20210615T173018Z
UID:4952-1624477500-1624481100@breakouthockey.ca
SUMMARY:JSP - Session #2 - Day 6
DESCRIPTION:
URL:https://breakouthockey.ca/calendar/jsp-session-2-day-6/
LOCATION:Millennium Place Chevrolet
CATEGORIES:Programs
END:VEVENT
BEGIN:VEVENT
DTSTART;TZID=America/Edmonton:20210623T183000
DTEND;TZID=America/Edmonton:20210623T193000
DTSTAMP:20260421T223659
CREATED:20210403T211355Z
LAST-MODIFIED:20210615T171434Z
UID:4906-1624473000-1624476600@breakouthockey.ca
SUMMARY:U16/18 S2: Day 10
DESCRIPTION:
URL:https://breakouthockey.ca/calendar/u16-18-s2-day-10/
LOCATION:Millennium Place Chevrolet
CATEGORIES:Programs
END:VEVENT
BEGIN:VEVENT
DTSTART;TZID=America/Edmonton:20210619T141500
DTEND;TZID=America/Edmonton:20210619T151500
DTSTAMP:20260421T223659
CREATED:20210403T211207Z
LAST-MODIFIED:20210615T171513Z
UID:4904-1624112100-1624115700@breakouthockey.ca
SUMMARY:U16/18 S2: Day 9
DESCRIPTION:
URL:https://breakouthockey.ca/calendar/u16-18-s2-day-9/
LOCATION:Millennium Place Chevrolet
CATEGORIES:Programs
END:VEVENT
BEGIN:VEVENT
DTSTART;TZID=America/Edmonton:20210618T181500
DTEND;TZID=America/Edmonton:20210618T191500
DTSTAMP:20260421T223659
CREATED:20210309T030030Z
LAST-MODIFIED:20210615T170615Z
UID:4703-1624040100-1624043700@breakouthockey.ca
SUMMARY:Bantam AAA Spring #2 - Day 9
DESCRIPTION:
URL:https://breakouthockey.ca/calendar/bantam-aaa-spring-2-day-9/
LOCATION:Millennium Place Chevrolet
CATEGORIES:Programs
END:VEVENT
BEGIN:VEVENT
DTSTART;TZID=America/Edmonton:20210616T191500
DTEND;TZID=America/Edmonton:20210616T201500
DTSTAMP:20260421T223659
CREATED:20210403T211051Z
LAST-MODIFIED:20210615T171552Z
UID:4902-1623870900-1623874500@breakouthockey.ca
SUMMARY:U16/18 S2: Day 8
DESCRIPTION:
URL:https://breakouthockey.ca/calendar/u16-18-s2-day-8/
LOCATION:Millennium Place Chevrolet
CATEGORIES:Programs
END:VEVENT
BEGIN:VEVENT
DTSTART;TZID=America/Edmonton:20210616T164500
DTEND;TZID=America/Edmonton:20210616T174500
DTSTAMP:20260421T223659
CREATED:20210309T025856Z
LAST-MODIFIED:20210615T170532Z
UID:4701-1623861900-1623865500@breakouthockey.ca
SUMMARY:Bantam AAA Spring #2 - Day 8
DESCRIPTION:
URL:https://breakouthockey.ca/calendar/bantam-aaa-spring-2-day-8/
LOCATION:Millennium Place Chevrolet
CATEGORIES:Programs
END:VEVENT
BEGIN:VEVENT
DTSTART;TZID=America/Edmonton:20210615T203000
DTEND;TZID=America/Edmonton:20210615T213000
DTSTAMP:20260421T223659
CREATED:20210422T211911Z
LAST-MODIFIED:20210615T173124Z
UID:4950-1623789000-1623792600@breakouthockey.ca
SUMMARY:JSP - Session #2 - Day 5
DESCRIPTION:
URL:https://breakouthockey.ca/calendar/jsp-session-2-day-5/
LOCATION:Millennium Place Powerade
CATEGORIES:Programs
END:VEVENT
BEGIN:VEVENT
DTSTART;TZID=America/Edmonton:20210614T174500
DTEND;TZID=America/Edmonton:20210614T184500
DTSTAMP:20260421T223659
CREATED:20210309T025705Z
LAST-MODIFIED:20210615T170444Z
UID:4699-1623692700-1623696300@breakouthockey.ca
SUMMARY:Bantam AAA Spring #2 - Day 7
DESCRIPTION:
URL:https://breakouthockey.ca/calendar/bantam-aaa-spring-2-day-7/
LOCATION:Millennium Place Powerade
CATEGORIES:Programs
END:VEVENT
BEGIN:VEVENT
DTSTART;TZID=America/Edmonton:20210613T133000
DTEND;TZID=America/Edmonton:20210613T143000
DTSTAMP:20260421T223659
CREATED:20210422T211812Z
LAST-MODIFIED:20210615T173213Z
UID:4948-1623591000-1623594600@breakouthockey.ca
SUMMARY:JSP - Session #2 - Day 4
DESCRIPTION:
URL:https://breakouthockey.ca/calendar/jsp-session-2-day-4/
LOCATION:Millennium Place Chevrolet
CATEGORIES:Programs
END:VEVENT
BEGIN:VEVENT
DTSTART;TZID=America/Edmonton:20210612T131500
DTEND;TZID=America/Edmonton:20210612T141500
DTSTAMP:20260421T223659
CREATED:20210403T210933Z
LAST-MODIFIED:20210615T171638Z
UID:4900-1623503700-1623507300@breakouthockey.ca
SUMMARY:U16/18 S2: Day 7
DESCRIPTION:
URL:https://breakouthockey.ca/calendar/u16-18-s2-day-7/
LOCATION:Millennium Place Chevrolet
CATEGORIES:Programs
END:VEVENT
BEGIN:VEVENT
DTSTART;TZID=America/Edmonton:20210610T181500
DTEND;TZID=America/Edmonton:20210610T191500
DTSTAMP:20260421T223659
CREATED:20210309T025529Z
LAST-MODIFIED:20210615T170355Z
UID:4697-1623348900-1623352500@breakouthockey.ca
SUMMARY:Bantam AAA Spring #2 - Day 6
DESCRIPTION:
URL:https://breakouthockey.ca/calendar/bantam-aaa-spring-2-day-6/
LOCATION:Millennium Place Chevrolet
CATEGORIES:Programs
END:VEVENT
BEGIN:VEVENT
DTSTART;TZID=America/Edmonton:20210513T203000
DTEND;TZID=America/Edmonton:20210513T213000
DTSTAMP:20260421T223659
CREATED:20210422T211610Z
LAST-MODIFIED:20210422T211610Z
UID:4946-1620937800-1620941400@breakouthockey.ca
SUMMARY:JSP - Session #2 - Day 3
DESCRIPTION:
URL:https://breakouthockey.ca/calendar/jsp-session-2-day-3/
LOCATION:Millennium Place Powerade
CATEGORIES:Programs
END:VEVENT
BEGIN:VEVENT
DTSTART;TZID=America/Edmonton:20210512T164500
DTEND;TZID=America/Edmonton:20210512T174500
DTSTAMP:20260421T223659
CREATED:20210403T210833Z
LAST-MODIFIED:20210403T210833Z
UID:4898-1620837900-1620841500@breakouthockey.ca
SUMMARY:U16/18 S2: Day 6
DESCRIPTION:
URL:https://breakouthockey.ca/calendar/u16-18-s2-day-6/
LOCATION:Millennium Place Chevrolet
CATEGORIES:Programs
END:VEVENT
BEGIN:VEVENT
DTSTART;TZID=America/Edmonton:20210510T183000
DTEND;TZID=America/Edmonton:20210510T193000
DTSTAMP:20260421T223659
CREATED:20210309T025412Z
LAST-MODIFIED:20210309T025412Z
UID:4695-1620671400-1620675000@breakouthockey.ca
SUMMARY:Bantam AAA Spring #2 - Day 5
DESCRIPTION:
URL:https://breakouthockey.ca/calendar/bantam-aaa-spring-2-day-5/
LOCATION:Millennium Place Chevrolet
CATEGORIES:Programs
END:VEVENT
BEGIN:VEVENT
DTSTART;TZID=America/Edmonton:20210505T194500
DTEND;TZID=America/Edmonton:20210505T204500
DTSTAMP:20260421T223659
CREATED:20210422T211446Z
LAST-MODIFIED:20210422T211446Z
UID:4944-1620243900-1620247500@breakouthockey.ca
SUMMARY:JSP - Session #2 - Day 2
DESCRIPTION:
URL:https://breakouthockey.ca/calendar/jsp-session-2-day-2/
LOCATION:Randy Rosen Arena
CATEGORIES:Programs
END:VEVENT
BEGIN:VEVENT
DTSTART;TZID=America/Edmonton:20210505T171500
DTEND;TZID=America/Edmonton:20210505T181500
DTSTAMP:20260421T223659
CREATED:20210403T210724Z
LAST-MODIFIED:20210419T212304Z
UID:4896-1620234900-1620238500@breakouthockey.ca
SUMMARY:U16/18 S2: Day 5
DESCRIPTION:
URL:https://breakouthockey.ca/calendar/u16-18-s2-day-5/
LOCATION:Randy Rosen Arena
CATEGORIES:Programs
END:VEVENT
BEGIN:VEVENT
DTSTART;TZID=America/Edmonton:20210503T183000
DTEND;TZID=America/Edmonton:20210503T193000
DTSTAMP:20260421T223659
CREATED:20210309T025254Z
LAST-MODIFIED:20210309T025254Z
UID:4693-1620066600-1620070200@breakouthockey.ca
SUMMARY:Bantam AAA Spring #2 - Day 4
DESCRIPTION:
URL:https://breakouthockey.ca/calendar/bantam-aaa-spring-2-day-4/
LOCATION:Millennium Place Chevrolet
CATEGORIES:Programs
END:VEVENT
BEGIN:VEVENT
DTSTART;TZID=America/Edmonton:20210428T183000
DTEND;TZID=America/Edmonton:20210428T193000
DTSTAMP:20260421T223659
CREATED:20210403T210618Z
LAST-MODIFIED:20210403T210618Z
UID:4894-1619634600-1619638200@breakouthockey.ca
SUMMARY:U16/18 S2: Day 4
DESCRIPTION:
URL:https://breakouthockey.ca/calendar/u16-18-s2-day-4/
LOCATION:Randy Rosen Arena
CATEGORIES:Programs
END:VEVENT
BEGIN:VEVENT
DTSTART;TZID=America/Edmonton:20210426T191500
DTEND;TZID=America/Edmonton:20210426T201500
DTSTAMP:20260421T223659
CREATED:20210422T211231Z
LAST-MODIFIED:20210422T211339Z
UID:4941-1619464500-1619468100@breakouthockey.ca
SUMMARY:JSP - Session #2 - Day 1
DESCRIPTION:
URL:https://breakouthockey.ca/calendar/jsp-session-2/
LOCATION:Millennium Place Powerade
CATEGORIES:Programs
END:VEVENT
BEGIN:VEVENT
DTSTART;TZID=America/Edmonton:20210426T171500
DTEND;TZID=America/Edmonton:20210426T181500
DTSTAMP:20260421T223659
CREATED:20210309T025046Z
LAST-MODIFIED:20210309T025046Z
UID:4689-1619457300-1619460900@breakouthockey.ca
SUMMARY:Bantam AAA Spring #2 - Day 3
DESCRIPTION:
URL:https://breakouthockey.ca/calendar/bantam-aaa-spring-2-day-3/
LOCATION:Randy Rosen Arena
CATEGORIES:Programs
END:VEVENT
BEGIN:VEVENT
DTSTART;TZID=America/Edmonton:20210421T171500
DTEND;TZID=America/Edmonton:20210421T181500
DTSTAMP:20260421T223659
CREATED:20210403T210512Z
LAST-MODIFIED:20210403T210512Z
UID:4892-1619025300-1619028900@breakouthockey.ca
SUMMARY:U16/18 S2: Day 3
DESCRIPTION:
URL:https://breakouthockey.ca/calendar/u16-18-s2-day-3/
LOCATION:Randy Rosen Arena
CATEGORIES:Programs
END:VEVENT
BEGIN:VEVENT
DTSTART;TZID=America/Edmonton:20210419T170000
DTEND;TZID=America/Edmonton:20210419T180000
DTSTAMP:20260421T223659
CREATED:20210309T024928Z
LAST-MODIFIED:20210309T024928Z
UID:4687-1618851600-1618855200@breakouthockey.ca
SUMMARY:Bantam AAA Spring #2 - Day 2
DESCRIPTION:
URL:https://breakouthockey.ca/calendar/bantam-aaa-spring-2-day-2/
LOCATION:Randy Rosen Arena
CATEGORIES:Programs
END:VEVENT
BEGIN:VEVENT
DTSTART;TZID=America/Edmonton:20210414T190000
DTEND;TZID=America/Edmonton:20210414T200000
DTSTAMP:20260421T223659
CREATED:20210309T024820Z
LAST-MODIFIED:20210316T032512Z
UID:4685-1618426800-1618430400@breakouthockey.ca
SUMMARY:Bantam AAA Spring #2 - Day 1
DESCRIPTION:
URL:https://breakouthockey.ca/calendar/bantam-aaa-spring-2-day-1/
LOCATION:Millennium Place Powerade
CATEGORIES:Programs
END:VEVENT
BEGIN:VEVENT
DTSTART;TZID=America/Edmonton:20210413T171500
DTEND;TZID=America/Edmonton:20210413T181500
DTSTAMP:20260421T223659
CREATED:20210403T210343Z
LAST-MODIFIED:20210403T210343Z
UID:4890-1618334100-1618337700@breakouthockey.ca
SUMMARY:U16/18 S2: Day 2
DESCRIPTION:
URL:https://breakouthockey.ca/calendar/u16-18-s2-day-2/
LOCATION:Randy Rosen Arena
CATEGORIES:Programs
END:VEVENT
BEGIN:VEVENT
DTSTART;TZID=America/Edmonton:20210407T173000
DTEND;TZID=America/Edmonton:20210407T183000
DTSTAMP:20260421T223659
CREATED:20210403T210225Z
LAST-MODIFIED:20210403T211849Z
UID:4888-1617816600-1617820200@breakouthockey.ca
SUMMARY:U16/18 S2: Day 1
DESCRIPTION:
URL:https://breakouthockey.ca/calendar/u16-18-s2-day-1/
LOCATION:Randy Rosen Arena
CATEGORIES:Programs
END:VEVENT
BEGIN:VEVENT
DTSTART;TZID=America/Edmonton:20200925T171500
DTEND;TZID=America/Edmonton:20200925T181500
DTSTAMP:20260421T223659
CREATED:20200808T214556Z
LAST-MODIFIED:20200808T214556Z
UID:4341-1601054100-1601057700@breakouthockey.ca
SUMMARY:SMJCC - Day 11
DESCRIPTION:
URL:https://breakouthockey.ca/calendar/smjcc-day-11/
LOCATION:Argyll Arena\, 6225 100 Street\, Edmonton\, Alberta\, Canada
CATEGORIES:Programs
END:VEVENT
BEGIN:VEVENT
DTSTART;TZID=America/Edmonton:20200924T200000
DTEND;TZID=America/Edmonton:20200924T210000
DTSTAMP:20260421T223659
CREATED:20200808T214411Z
LAST-MODIFIED:20200808T214411Z
UID:4339-1600977600-1600981200@breakouthockey.ca
SUMMARY:SMJCC - Day 10
DESCRIPTION:
URL:https://breakouthockey.ca/calendar/smjcc-day-10/
LOCATION:Argyll Arena\, 6225 100 Street\, Edmonton\, Alberta\, Canada
CATEGORIES:Programs
END:VEVENT
BEGIN:VEVENT
DTSTART;TZID=America/Edmonton:20200918T171500
DTEND;TZID=America/Edmonton:20200918T181500
DTSTAMP:20260421T223659
CREATED:20200808T214316Z
LAST-MODIFIED:20200808T214316Z
UID:4337-1600449300-1600452900@breakouthockey.ca
SUMMARY:SMJCC - Day 9
DESCRIPTION:
URL:https://breakouthockey.ca/calendar/smjcc-day-9/
LOCATION:Argyll Arena\, 6225 100 Street\, Edmonton\, Alberta\, Canada
CATEGORIES:Programs
END:VEVENT
END:VCALENDAR