BEGIN:VCALENDAR
VERSION:2.0
PRODID:-//Breakout Hockey - ECPv6.0.3//NONSGML v1.0//EN
CALSCALE:GREGORIAN
METHOD:PUBLISH
X-ORIGINAL-URL:https://breakouthockey.ca
X-WR-CALDESC:Events for Breakout Hockey
REFRESH-INTERVAL;VALUE=DURATION:PT1H
X-Robots-Tag:noindex
X-PUBLISHED-TTL:PT1H
BEGIN:VTIMEZONE
TZID:America/Edmonton
BEGIN:DAYLIGHT
TZOFFSETFROM:-0700
TZOFFSETTO:-0600
TZNAME:MDT
DTSTART:20210314T090000
END:DAYLIGHT
BEGIN:STANDARD
TZOFFSETFROM:-0600
TZOFFSETTO:-0700
TZNAME:MST
DTSTART:20211107T080000
END:STANDARD
END:VTIMEZONE
BEGIN:VEVENT
DTSTART;TZID=America/Edmonton:20210819T111500
DTEND;TZID=America/Edmonton:20210819T121500
DTSTAMP:20260421T143608
CREATED:20190104T215319Z
LAST-MODIFIED:20210315T035057Z
UID:2294-1629371700-1629375300@breakouthockey.ca
SUMMARY:Bantam Summer Program #2:  Day 20
DESCRIPTION:
URL:https://breakouthockey.ca/calendar/bantam-summer-program-2-day-20/
LOCATION:Millennium Place Chevrolet
CATEGORIES:Programs
END:VEVENT
BEGIN:VEVENT
DTSTART;TZID=America/Edmonton:20210818T111500
DTEND;TZID=America/Edmonton:20210818T121500
DTSTAMP:20260421T143608
CREATED:20190104T215235Z
LAST-MODIFIED:20210315T035003Z
UID:2292-1629285300-1629288900@breakouthockey.ca
SUMMARY:Bantam Summer Program #2:  Day 19
DESCRIPTION:
URL:https://breakouthockey.ca/calendar/bantam-summer-program-2-day-19/
LOCATION:Millennium Place Chevrolet
CATEGORIES:Programs
END:VEVENT
BEGIN:VEVENT
DTSTART;TZID=America/Edmonton:20210816T111500
DTEND;TZID=America/Edmonton:20210816T121500
DTSTAMP:20260421T143608
CREATED:20190104T215154Z
LAST-MODIFIED:20210315T034907Z
UID:2290-1629112500-1629116100@breakouthockey.ca
SUMMARY:Bantam Summer Program #2:  Day 18
DESCRIPTION:
URL:https://breakouthockey.ca/calendar/bantam-summer-program-2-day-18/
LOCATION:Millennium Place Chevrolet
CATEGORIES:Programs
END:VEVENT
BEGIN:VEVENT
DTSTART;TZID=America/Edmonton:20210813T113000
DTEND;TZID=America/Edmonton:20210813T123000
DTSTAMP:20260421T143608
CREATED:20190104T215107Z
LAST-MODIFIED:20210315T034754Z
UID:2288-1628854200-1628857800@breakouthockey.ca
SUMMARY:Bantam Summer Program #2:  Day 17
DESCRIPTION:
URL:https://breakouthockey.ca/calendar/bantam-summer-program-2-day-17/
LOCATION:Ardrossan Recreation Complex – West Arena
CATEGORIES:Programs
END:VEVENT
BEGIN:VEVENT
DTSTART;TZID=America/Edmonton:20210812T113000
DTEND;TZID=America/Edmonton:20210812T123000
DTSTAMP:20260421T143608
CREATED:20171215T044703Z
LAST-MODIFIED:20210315T034719Z
UID:1101-1628767800-1628771400@breakouthockey.ca
SUMMARY:Bantam Summer Program #2:  Day 16
DESCRIPTION:
URL:https://breakouthockey.ca/calendar/bantam-summer-program-2-day-16/
LOCATION:Ardrossan Recreation Complex – West Arena
CATEGORIES:Programs
END:VEVENT
BEGIN:VEVENT
DTSTART;TZID=America/Edmonton:20210811T113000
DTEND;TZID=America/Edmonton:20210811T123000
DTSTAMP:20260421T143608
CREATED:20171215T044615Z
LAST-MODIFIED:20210315T034646Z
UID:1099-1628681400-1628685000@breakouthockey.ca
SUMMARY:Bantam Summer Program #2:  Day 15
DESCRIPTION:
URL:https://breakouthockey.ca/calendar/bantam-summer-program-2-day-15/
LOCATION:Ardrossan Recreation Complex – West Arena
CATEGORIES:Programs
END:VEVENT
BEGIN:VEVENT
DTSTART;TZID=America/Edmonton:20210810T113000
DTEND;TZID=America/Edmonton:20210810T123000
DTSTAMP:20260421T143608
CREATED:20171215T044524Z
LAST-MODIFIED:20210315T034610Z
UID:1097-1628595000-1628598600@breakouthockey.ca
SUMMARY:Bantam Summer Program #2:  Day 14
DESCRIPTION:
URL:https://breakouthockey.ca/calendar/bantam-summer-program-2-day-14/
LOCATION:Ardrossan Recreation Complex – West Arena
CATEGORIES:Programs
END:VEVENT
BEGIN:VEVENT
DTSTART;TZID=America/Edmonton:20210809T113000
DTEND;TZID=America/Edmonton:20210809T123000
DTSTAMP:20260421T143608
CREATED:20171215T044436Z
LAST-MODIFIED:20210315T034535Z
UID:1095-1628508600-1628512200@breakouthockey.ca
SUMMARY:Bantam Summer Program #2:  Day 13
DESCRIPTION:
URL:https://breakouthockey.ca/calendar/bantam-summer-program-2-day-13/
LOCATION:Ardrossan Recreation Complex – West Arena
CATEGORIES:Programs
END:VEVENT
BEGIN:VEVENT
DTSTART;TZID=America/Edmonton:20210806T101500
DTEND;TZID=America/Edmonton:20210806T111500
DTSTAMP:20260421T143608
CREATED:20171215T044352Z
LAST-MODIFIED:20210315T034453Z
UID:1093-1628244900-1628248500@breakouthockey.ca
SUMMARY:Bantam Summer Program #2:  Day 12
DESCRIPTION:
URL:https://breakouthockey.ca/calendar/bantam-summer-program-2-day-12/
LOCATION:Millennium Place Chevrolet
CATEGORIES:Programs
END:VEVENT
BEGIN:VEVENT
DTSTART;TZID=America/Edmonton:20210805T101500
DTEND;TZID=America/Edmonton:20210805T111500
DTSTAMP:20260421T143608
CREATED:20171215T044314Z
LAST-MODIFIED:20210315T034414Z
UID:1091-1628158500-1628162100@breakouthockey.ca
SUMMARY:Bantam Summer Program #2:  Day 11
DESCRIPTION:
URL:https://breakouthockey.ca/calendar/bantam-summer-program-2-day-11/
LOCATION:Millennium Place Chevrolet
CATEGORIES:Programs
END:VEVENT
BEGIN:VEVENT
DTSTART;TZID=America/Edmonton:20210804T101500
DTEND;TZID=America/Edmonton:20210804T111500
DTSTAMP:20260421T143608
CREATED:20171215T044232Z
LAST-MODIFIED:20210315T034338Z
UID:1089-1628072100-1628075700@breakouthockey.ca
SUMMARY:Bantam Summer Program #2:  Day 10
DESCRIPTION:
URL:https://breakouthockey.ca/calendar/bantam-summer-program-2-day-10/
LOCATION:Millennium Place Chevrolet
CATEGORIES:Programs
END:VEVENT
BEGIN:VEVENT
DTSTART;TZID=America/Edmonton:20210803T101500
DTEND;TZID=America/Edmonton:20210803T111500
DTSTAMP:20260421T143608
CREATED:20171215T044155Z
LAST-MODIFIED:20210315T034251Z
UID:1087-1627985700-1627989300@breakouthockey.ca
SUMMARY:Bantam Summer Program #2:  Day 9
DESCRIPTION:
URL:https://breakouthockey.ca/calendar/bantam-summer-program-2-day-9/
LOCATION:Millennium Place Chevrolet
CATEGORIES:Programs
END:VEVENT
BEGIN:VEVENT
DTSTART;TZID=America/Edmonton:20210728T163000
DTEND;TZID=America/Edmonton:20210728T173000
DTSTAMP:20260421T143608
CREATED:20200630T220212Z
LAST-MODIFIED:20210315T034145Z
UID:4148-1627489800-1627493400@breakouthockey.ca
SUMMARY:Bantam Summer Program #2:  Day 8
DESCRIPTION:
URL:https://breakouthockey.ca/calendar/bantam-summer-program-2-day-8-2/
LOCATION:Randy Rosen Arena
CATEGORIES:Programs
END:VEVENT
BEGIN:VEVENT
DTSTART;TZID=America/Edmonton:20210728T140000
DTEND;TZID=America/Edmonton:20210728T150000
DTSTAMP:20260421T143608
CREATED:20171215T181421Z
LAST-MODIFIED:20210316T041240Z
UID:1341-1627480800-1627484400@breakouthockey.ca
SUMMARY:MJPS:  DAY 8
DESCRIPTION:
URL:https://breakouthockey.ca/calendar/mjps-day-8/
LOCATION:Randy Rosen Arena
CATEGORIES:Programs
END:VEVENT
BEGIN:VEVENT
DTSTART;TZID=America/Edmonton:20210728T124500
DTEND;TZID=America/Edmonton:20210728T134500
DTSTAMP:20260421T143608
CREATED:20171215T050908Z
LAST-MODIFIED:20210316T040716Z
UID:1121-1627476300-1627479900@breakouthockey.ca
SUMMARY:PS Bantam:  Day 8
DESCRIPTION:
URL:https://breakouthockey.ca/calendar/ps-bantam-day-8/
LOCATION:Randy Rosen Arena
CATEGORIES:Programs
END:VEVENT
BEGIN:VEVENT
DTSTART;TZID=America/Edmonton:20210727T163000
DTEND;TZID=America/Edmonton:20210727T173000
DTSTAMP:20260421T143608
CREATED:20200630T220124Z
LAST-MODIFIED:20210315T034103Z
UID:4146-1627403400-1627407000@breakouthockey.ca
SUMMARY:Bantam Summer Program #2:  Day 7
DESCRIPTION:
URL:https://breakouthockey.ca/calendar/bantam-summer-program-2-day-7-2/
LOCATION:Randy Rosen Arena
CATEGORIES:Programs
END:VEVENT
BEGIN:VEVENT
DTSTART;TZID=America/Edmonton:20210727T140000
DTEND;TZID=America/Edmonton:20210727T150000
DTSTAMP:20260421T143608
CREATED:20171215T181345Z
LAST-MODIFIED:20210316T041320Z
UID:1339-1627394400-1627398000@breakouthockey.ca
SUMMARY:MJPS:  DAY 7
DESCRIPTION:
URL:https://breakouthockey.ca/calendar/mjps-day-7/
LOCATION:Randy Rosen Arena
CATEGORIES:Programs
END:VEVENT
BEGIN:VEVENT
DTSTART;TZID=America/Edmonton:20210727T124500
DTEND;TZID=America/Edmonton:20210727T134500
DTSTAMP:20260421T143608
CREATED:20171215T050824Z
LAST-MODIFIED:20210316T040756Z
UID:1119-1627389900-1627393500@breakouthockey.ca
SUMMARY:PS Bantam:  Day 7
DESCRIPTION:
URL:https://breakouthockey.ca/calendar/ps-bantam-day-7/
LOCATION:Randy Rosen Arena
CATEGORIES:Programs
END:VEVENT
BEGIN:VEVENT
DTSTART;TZID=America/Edmonton:20210726T163000
DTEND;TZID=America/Edmonton:20210726T173000
DTSTAMP:20260421T143608
CREATED:20200630T220033Z
LAST-MODIFIED:20210315T034021Z
UID:4144-1627317000-1627320600@breakouthockey.ca
SUMMARY:Bantam Summer Program #2:  Day 6
DESCRIPTION:
URL:https://breakouthockey.ca/calendar/bantam-summer-program-2-day-6-2/
LOCATION:Randy Rosen Arena
CATEGORIES:Programs
END:VEVENT
BEGIN:VEVENT
DTSTART;TZID=America/Edmonton:20210726T140000
DTEND;TZID=America/Edmonton:20210726T150000
DTSTAMP:20260421T143608
CREATED:20171215T181307Z
LAST-MODIFIED:20210316T041357Z
UID:1337-1627308000-1627311600@breakouthockey.ca
SUMMARY:MJPS:  DAY 6
DESCRIPTION:
URL:https://breakouthockey.ca/calendar/mjps-day-6/
LOCATION:Randy Rosen Arena
CATEGORIES:Programs
END:VEVENT
BEGIN:VEVENT
DTSTART;TZID=America/Edmonton:20210726T124500
DTEND;TZID=America/Edmonton:20210726T134500
DTSTAMP:20260421T143608
CREATED:20171215T050505Z
LAST-MODIFIED:20210316T040833Z
UID:1115-1627303500-1627307100@breakouthockey.ca
SUMMARY:PS Bantam:  Day 6
DESCRIPTION:
URL:https://breakouthockey.ca/calendar/ps-bantam-day-6/
LOCATION:Randy Rosen Arena
CATEGORIES:Programs
END:VEVENT
BEGIN:VEVENT
DTSTART;TZID=America/Edmonton:20210723T160000
DTEND;TZID=America/Edmonton:20210723T170000
DTSTAMP:20260421T143608
CREATED:20200630T215926Z
LAST-MODIFIED:20210315T033940Z
UID:4142-1627056000-1627059600@breakouthockey.ca
SUMMARY:Bantam Summer Program #2:  Day 5
DESCRIPTION:
URL:https://breakouthockey.ca/calendar/bantam-summer-program-2-day-5-2/
LOCATION:Sherwood Park Shell Arena
CATEGORIES:Programs
END:VEVENT
BEGIN:VEVENT
DTSTART;TZID=America/Edmonton:20210723T133000
DTEND;TZID=America/Edmonton:20210723T143000
DTSTAMP:20260421T143608
CREATED:20171215T181229Z
LAST-MODIFIED:20210316T041435Z
UID:1335-1627047000-1627050600@breakouthockey.ca
SUMMARY:MJPS:  DAY 5
DESCRIPTION:
URL:https://breakouthockey.ca/calendar/mjps-day-5/
LOCATION:Sherwood Park Shell Arena
CATEGORIES:Programs
END:VEVENT
BEGIN:VEVENT
DTSTART;TZID=America/Edmonton:20210723T121500
DTEND;TZID=America/Edmonton:20210723T131500
DTSTAMP:20260421T143608
CREATED:20171215T050405Z
LAST-MODIFIED:20210316T040912Z
UID:1113-1627042500-1627046100@breakouthockey.ca
SUMMARY:PS Bantam:  Day 5
DESCRIPTION:
URL:https://breakouthockey.ca/calendar/ps-bantam-day-5/
LOCATION:Sherwood Park Shell Arena
CATEGORIES:Programs
END:VEVENT
BEGIN:VEVENT
DTSTART;TZID=America/Edmonton:20210722T160000
DTEND;TZID=America/Edmonton:20210722T170000
DTSTAMP:20260421T143608
CREATED:20200630T215835Z
LAST-MODIFIED:20210315T033902Z
UID:4140-1626969600-1626973200@breakouthockey.ca
SUMMARY:Bantam Summer Program #2:  Day 4
DESCRIPTION:
URL:https://breakouthockey.ca/calendar/bantam-summer-program-2-day-4-2/
LOCATION:Randy Rosen Arena
CATEGORIES:Programs
END:VEVENT
BEGIN:VEVENT
DTSTART;TZID=America/Edmonton:20210722T133000
DTEND;TZID=America/Edmonton:20210722T143000
DTSTAMP:20260421T143608
CREATED:20171215T181148Z
LAST-MODIFIED:20210316T041512Z
UID:1333-1626960600-1626964200@breakouthockey.ca
SUMMARY:MJPS:  DAY 4
DESCRIPTION:
URL:https://breakouthockey.ca/calendar/mjps-day-4/
LOCATION:Sherwood Park Shell Arena
CATEGORIES:Programs
END:VEVENT
BEGIN:VEVENT
DTSTART;TZID=America/Edmonton:20210722T121500
DTEND;TZID=America/Edmonton:20210722T131500
DTSTAMP:20260421T143608
CREATED:20171215T050317Z
LAST-MODIFIED:20210316T040948Z
UID:1111-1626956100-1626959700@breakouthockey.ca
SUMMARY:PS Bantam:  Day 4
DESCRIPTION:
URL:https://breakouthockey.ca/calendar/ps-bantam-day-4/
LOCATION:Sherwood Park Shell Arena
CATEGORIES:Programs
END:VEVENT
BEGIN:VEVENT
DTSTART;TZID=America/Edmonton:20210721T160000
DTEND;TZID=America/Edmonton:20210721T170000
DTSTAMP:20260421T143608
CREATED:20200630T215747Z
LAST-MODIFIED:20210315T033821Z
UID:4138-1626883200-1626886800@breakouthockey.ca
SUMMARY:Bantam Summer Program #2:  Day 3
DESCRIPTION:
URL:https://breakouthockey.ca/calendar/bantam-summer-program-2-day-3-2/
LOCATION:Randy Rosen Arena
CATEGORIES:Programs
END:VEVENT
BEGIN:VEVENT
DTSTART;TZID=America/Edmonton:20210721T133000
DTEND;TZID=America/Edmonton:20210721T143000
DTSTAMP:20260421T143608
CREATED:20171215T181109Z
LAST-MODIFIED:20210316T041549Z
UID:1331-1626874200-1626877800@breakouthockey.ca
SUMMARY:MJPS:  DAY 3
DESCRIPTION:
URL:https://breakouthockey.ca/calendar/mjps-day-3/
LOCATION:Sherwood Park Shell Arena
CATEGORIES:Programs
END:VEVENT
BEGIN:VEVENT
DTSTART;TZID=America/Edmonton:20210721T121500
DTEND;TZID=America/Edmonton:20210721T131500
DTSTAMP:20260421T143608
CREATED:20171215T050236Z
LAST-MODIFIED:20210316T041023Z
UID:1109-1626869700-1626873300@breakouthockey.ca
SUMMARY:PS Bantam:  Day 3
DESCRIPTION:
URL:https://breakouthockey.ca/calendar/ps-bantam-day-3/
LOCATION:Sherwood Park Shell Arena
CATEGORIES:Programs
END:VEVENT
END:VCALENDAR