BEGIN:VCALENDAR
VERSION:2.0
PRODID:-//Breakout Hockey - ECPv6.0.3//NONSGML v1.0//EN
CALSCALE:GREGORIAN
METHOD:PUBLISH
X-WR-CALNAME:Breakout Hockey
X-ORIGINAL-URL:https://breakouthockey.ca
X-WR-CALDESC:Events for Breakout Hockey
REFRESH-INTERVAL;VALUE=DURATION:PT1H
X-Robots-Tag:noindex
X-PUBLISHED-TTL:PT1H
BEGIN:VTIMEZONE
TZID:America/Edmonton
BEGIN:DAYLIGHT
TZOFFSETFROM:-0700
TZOFFSETTO:-0600
TZNAME:MDT
DTSTART:20260308T090000
END:DAYLIGHT
BEGIN:STANDARD
TZOFFSETFROM:-0600
TZOFFSETTO:-0700
TZNAME:MST
DTSTART:20261101T080000
END:STANDARD
END:VTIMEZONE
BEGIN:VEVENT
DTSTART;TZID=America/Edmonton:20260811T184500
DTEND;TZID=America/Edmonton:20260811T194500
DTSTAMP:20260423T024928
CREATED:20180315T191353Z
LAST-MODIFIED:20251207T220212Z
UID:1863-1786473900-1786477500@breakouthockey.ca
SUMMARY:2007 Day 2
DESCRIPTION:
URL:https://breakouthockey.ca/calendar/2007-day-1-2/
LOCATION:Millennium Place Chevrolet
CATEGORIES:Programs
END:VEVENT
BEGIN:VEVENT
DTSTART;TZID=America/Edmonton:20260811T200000
DTEND;TZID=America/Edmonton:20260811T210000
DTSTAMP:20260423T024928
CREATED:20191223T062025Z
LAST-MODIFIED:20251207T213346Z
UID:3224-1786478400-1786482000@breakouthockey.ca
SUMMARY:WHL Prep Camp:  Day 2
DESCRIPTION:
URL:https://breakouthockey.ca/calendar/whl-prep-camp-day-2/
LOCATION:Millennium Place Chevrolet
CATEGORIES:Programs
END:VEVENT
BEGIN:VEVENT
DTSTART;TZID=America/Edmonton:20260812T111500
DTEND;TZID=America/Edmonton:20260812T121500
DTSTAMP:20260423T024928
CREATED:20171215T165910Z
LAST-MODIFIED:20251208T020058Z
UID:1225-1786533300-1786536900@breakouthockey.ca
SUMMARY:MSO:  DAY 15
DESCRIPTION:
URL:https://breakouthockey.ca/calendar/mss-day-15-2/
LOCATION:Millennium Place Chevrolet
CATEGORIES:Programs
END:VEVENT
BEGIN:VEVENT
DTSTART;TZID=America/Edmonton:20260812T123000
DTEND;TZID=America/Edmonton:20260812T133000
DTSTAMP:20260423T024928
CREATED:20200701T044903Z
LAST-MODIFIED:20251208T022831Z
UID:4183-1786537800-1786541400@breakouthockey.ca
SUMMARY:MSP2: Day 17
DESCRIPTION:
URL:https://breakouthockey.ca/calendar/msp2-day-17/
LOCATION:Millennium Place Chevrolet
CATEGORIES:Programs
END:VEVENT
BEGIN:VEVENT
DTSTART;TZID=America/Edmonton:20260812T174500
DTEND;TZID=America/Edmonton:20260812T184500
DTSTAMP:20260423T024928
CREATED:20190105T213029Z
LAST-MODIFIED:20251207T215444Z
UID:2328-1786556700-1786560300@breakouthockey.ca
SUMMARY:Atom Elite:  Day 3
DESCRIPTION:
URL:https://breakouthockey.ca/calendar/atom-elite-day-3/
LOCATION:Millennium Place Chevrolet
CATEGORIES:Programs
END:VEVENT
BEGIN:VEVENT
DTSTART;TZID=America/Edmonton:20260812T190000
DTEND;TZID=America/Edmonton:20260812T200000
DTSTAMP:20260423T024928
CREATED:20180315T191501Z
LAST-MODIFIED:20251207T220243Z
UID:1865-1786561200-1786564800@breakouthockey.ca
SUMMARY:2007 Day 3
DESCRIPTION:
URL:https://breakouthockey.ca/calendar/2007-day-3/
LOCATION:Millennium Place Chevrolet
CATEGORIES:Programs
END:VEVENT
BEGIN:VEVENT
DTSTART;TZID=America/Edmonton:20260812T201500
DTEND;TZID=America/Edmonton:20260812T211500
DTSTAMP:20260423T024928
CREATED:20191223T062105Z
LAST-MODIFIED:20251207T213415Z
UID:3226-1786565700-1786569300@breakouthockey.ca
SUMMARY:WHL Prep Camp:  Day 3
DESCRIPTION:
URL:https://breakouthockey.ca/calendar/whl-prep-camp-day-3/
LOCATION:Millennium Place Chevrolet
CATEGORIES:Programs
END:VEVENT
BEGIN:VEVENT
DTSTART;TZID=America/Edmonton:20260813T111500
DTEND;TZID=America/Edmonton:20260813T121500
DTSTAMP:20260423T024928
CREATED:20171215T042234Z
LAST-MODIFIED:20251208T002210Z
UID:1054-1786619700-1786623300@breakouthockey.ca
SUMMARY:Bantam Summer Program #1:  Day 15
DESCRIPTION:
URL:https://breakouthockey.ca/calendar/bantam-summer-program-1-day-15/
LOCATION:Millennium Place Chevrolet
CATEGORIES:Programs
END:VEVENT
BEGIN:VEVENT
DTSTART;TZID=America/Edmonton:20260813T123000
DTEND;TZID=America/Edmonton:20260813T133000
DTSTAMP:20260423T024928
CREATED:20171215T170000Z
LAST-MODIFIED:20251208T020155Z
UID:1227-1786624200-1786627800@breakouthockey.ca
SUMMARY:MSO:  DAY 16
DESCRIPTION:
URL:https://breakouthockey.ca/calendar/mss-day-16-2/
LOCATION:Millennium Place Chevrolet
CATEGORIES:Programs
END:VEVENT
BEGIN:VEVENT
DTSTART;TZID=America/Edmonton:20260813T173000
DTEND;TZID=America/Edmonton:20260813T183000
DTSTAMP:20260423T024928
CREATED:20190105T213107Z
LAST-MODIFIED:20251207T215512Z
UID:2330-1786642200-1786645800@breakouthockey.ca
SUMMARY:Atom Elite:  Day 4
DESCRIPTION:
URL:https://breakouthockey.ca/calendar/atom-elite-day-4/
LOCATION:Millennium Place Chevrolet
CATEGORIES:Programs
END:VEVENT
BEGIN:VEVENT
DTSTART;TZID=America/Edmonton:20260813T184500
DTEND;TZID=America/Edmonton:20260813T194500
DTSTAMP:20260423T024928
CREATED:20180315T191540Z
LAST-MODIFIED:20251207T220314Z
UID:1867-1786646700-1786650300@breakouthockey.ca
SUMMARY:2007 Day 4
DESCRIPTION:
URL:https://breakouthockey.ca/calendar/2007-day-4/
LOCATION:Millennium Place Chevrolet
CATEGORIES:Programs
END:VEVENT
BEGIN:VEVENT
DTSTART;TZID=America/Edmonton:20260813T200000
DTEND;TZID=America/Edmonton:20260813T210000
DTSTAMP:20260423T024928
CREATED:20191223T062151Z
LAST-MODIFIED:20251207T213443Z
UID:3228-1786651200-1786654800@breakouthockey.ca
SUMMARY:WHL Prep Camp:  Day 4
DESCRIPTION:
URL:https://breakouthockey.ca/calendar/whl-prep-camp-day-4/
LOCATION:Millennium Place Chevrolet
CATEGORIES:Programs
END:VEVENT
BEGIN:VEVENT
DTSTART;TZID=America/Edmonton:20260814T113000
DTEND;TZID=America/Edmonton:20260814T123000
DTSTAMP:20260423T024928
CREATED:20171215T042310Z
LAST-MODIFIED:20251208T002300Z
UID:1056-1786707000-1786710600@breakouthockey.ca
SUMMARY:Bantam Summer Program #1:  Day 16
DESCRIPTION:
URL:https://breakouthockey.ca/calendar/bantam-summer-program-1-day-16/
LOCATION:Millennium Place Chevrolet
CATEGORIES:Programs
END:VEVENT
BEGIN:VEVENT
DTSTART;TZID=America/Edmonton:20260814T124500
DTEND;TZID=America/Edmonton:20260814T134500
DTSTAMP:20260423T024928
CREATED:20200701T045000Z
LAST-MODIFIED:20251208T022913Z
UID:4185-1786711500-1786715100@breakouthockey.ca
SUMMARY:MSP2: Day 18
DESCRIPTION:
URL:https://breakouthockey.ca/calendar/msp2-day-18/
LOCATION:Millennium Place Chevrolet
CATEGORIES:Programs
END:VEVENT
BEGIN:VEVENT
DTSTART;TZID=America/Edmonton:20260814T180000
DTEND;TZID=America/Edmonton:20260814T190000
DTSTAMP:20260423T024928
CREATED:20190105T213154Z
LAST-MODIFIED:20251207T215555Z
UID:2332-1786730400-1786734000@breakouthockey.ca
SUMMARY:Atom Elite:  Day 5
DESCRIPTION:
URL:https://breakouthockey.ca/calendar/atom-elite-day-5/
LOCATION:Millennium Place Chevrolet
CATEGORIES:Programs
END:VEVENT
BEGIN:VEVENT
DTSTART;TZID=America/Edmonton:20260814T191500
DTEND;TZID=America/Edmonton:20260814T201500
DTSTAMP:20260423T024928
CREATED:20180315T191623Z
LAST-MODIFIED:20251207T220356Z
UID:1869-1786734900-1786738500@breakouthockey.ca
SUMMARY:2007 Day 5
DESCRIPTION:
URL:https://breakouthockey.ca/calendar/2007-day-5/
LOCATION:Millennium Place Chevrolet
CATEGORIES:Programs
END:VEVENT
BEGIN:VEVENT
DTSTART;TZID=America/Edmonton:20260814T203000
DTEND;TZID=America/Edmonton:20260814T213000
DTSTAMP:20260423T024928
CREATED:20191223T062243Z
LAST-MODIFIED:20251207T213513Z
UID:3230-1786739400-1786743000@breakouthockey.ca
SUMMARY:WHL Prep Camp:  Day 5
DESCRIPTION:
URL:https://breakouthockey.ca/calendar/whl-prep-camp-day-5/
LOCATION:Millennium Place Chevrolet
CATEGORIES:Programs
END:VEVENT
BEGIN:VEVENT
DTSTART;TZID=America/Edmonton:20260817T140000
DTEND;TZID=America/Edmonton:20260817T150000
DTSTAMP:20260423T024928
CREATED:20171215T042354Z
LAST-MODIFIED:20251208T002337Z
UID:1058-1786975200-1786978800@breakouthockey.ca
SUMMARY:Bantam Summer Program #1:  Day 17
DESCRIPTION:
URL:https://breakouthockey.ca/calendar/bantam-summer-program-1-day-17/
LOCATION:Randy Rosen Arena
CATEGORIES:Programs
END:VEVENT
BEGIN:VEVENT
DTSTART;TZID=America/Edmonton:20260817T163000
DTEND;TZID=America/Edmonton:20260817T173000
DTSTAMP:20260423T024929
CREATED:20171215T015022Z
LAST-MODIFIED:20260201T221214Z
UID:899-1786984200-1786987800@breakouthockey.ca
SUMMARY:Day 1: Novice Prep Camp #2
DESCRIPTION:
URL:https://breakouthockey.ca/calendar/day-1-novice-prep-camp-2/
LOCATION:Ardrossan Recreation Complex – West Arena
CATEGORIES:Programs
END:VEVENT
BEGIN:VEVENT
DTSTART;TZID=America/Edmonton:20260817T174500
DTEND;TZID=America/Edmonton:20260817T184500
DTSTAMP:20260423T024929
CREATED:20170509T224910Z
LAST-MODIFIED:20260201T220932Z
UID:581-1786988700-1786992300@breakouthockey.ca
SUMMARY:Day 1: Novice Prep Camp #1
DESCRIPTION:
URL:https://breakouthockey.ca/calendar/day-1-novice-prep-camp-1/
LOCATION:Ardrossan Recreation Complex – West Arena
CATEGORIES:Programs
END:VEVENT
BEGIN:VEVENT
DTSTART;TZID=America/Edmonton:20260817T190000
DTEND;TZID=America/Edmonton:20260817T200000
DTSTAMP:20260423T024929
CREATED:20171215T020124Z
LAST-MODIFIED:20260201T220600Z
UID:912-1786993200-1786996800@breakouthockey.ca
SUMMARY:Atom Conditioning Camp:  Day 1
DESCRIPTION:
URL:https://breakouthockey.ca/calendar/atom-conditioning-camp-day-1/
LOCATION:Ardrossan Recreation Complex – West Arena
CATEGORIES:Programs
END:VEVENT
BEGIN:VEVENT
DTSTART;TZID=America/Edmonton:20260818T140000
DTEND;TZID=America/Edmonton:20260818T150000
DTSTAMP:20260423T024929
CREATED:20200701T045101Z
LAST-MODIFIED:20251208T022952Z
UID:4187-1787061600-1787065200@breakouthockey.ca
SUMMARY:MSP2: Day 19
DESCRIPTION:
URL:https://breakouthockey.ca/calendar/msp2-day-19/
LOCATION:Randy Rosen Arena
CATEGORIES:Programs
END:VEVENT
BEGIN:VEVENT
DTSTART;TZID=America/Edmonton:20260818T163000
DTEND;TZID=America/Edmonton:20260818T173000
DTSTAMP:20260423T024929
CREATED:20171215T015104Z
LAST-MODIFIED:20260201T221249Z
UID:901-1787070600-1787074200@breakouthockey.ca
SUMMARY:Day 2: Novice Prep Camp #2
DESCRIPTION:
URL:https://breakouthockey.ca/calendar/day-2-novice-prep-camp-2/
LOCATION:Ardrossan Recreation Complex – West Arena
CATEGORIES:Programs
END:VEVENT
BEGIN:VEVENT
DTSTART;TZID=America/Edmonton:20260818T174500
DTEND;TZID=America/Edmonton:20260818T184500
DTSTAMP:20260423T024929
CREATED:20171215T014217Z
LAST-MODIFIED:20260201T221016Z
UID:888-1787075100-1787078700@breakouthockey.ca
SUMMARY:Day 2: Novice Prep Camp #1
DESCRIPTION:
URL:https://breakouthockey.ca/calendar/day-2-novice-prep-camp-1-2/
LOCATION:Ardrossan Recreation Complex – West Arena
CATEGORIES:Programs
END:VEVENT
BEGIN:VEVENT
DTSTART;TZID=America/Edmonton:20260818T190000
DTEND;TZID=America/Edmonton:20260818T200000
DTSTAMP:20260423T024929
CREATED:20171215T020210Z
LAST-MODIFIED:20260201T220642Z
UID:914-1787079600-1787083200@breakouthockey.ca
SUMMARY:Atom Conditioning Camp:  Day 2
DESCRIPTION:
URL:https://breakouthockey.ca/calendar/atom-conditioning-camp-day-2/
LOCATION:Ardrossan Recreation Complex – West Arena
CATEGORIES:Programs
END:VEVENT
BEGIN:VEVENT
DTSTART;TZID=America/Edmonton:20260819T140000
DTEND;TZID=America/Edmonton:20260819T150000
DTSTAMP:20260423T024929
CREATED:20171215T042436Z
LAST-MODIFIED:20251208T002416Z
UID:1060-1787148000-1787151600@breakouthockey.ca
SUMMARY:Bantam Summer Program #1:  Day 18
DESCRIPTION:
URL:https://breakouthockey.ca/calendar/bantam-summer-program-1-day-18/
LOCATION:Randy Rosen Arena
CATEGORIES:Programs
END:VEVENT
BEGIN:VEVENT
DTSTART;TZID=America/Edmonton:20260819T163000
DTEND;TZID=America/Edmonton:20260819T173000
DTSTAMP:20260423T024929
CREATED:20171215T014305Z
LAST-MODIFIED:20260201T221044Z
UID:890-1787157000-1787160600@breakouthockey.ca
SUMMARY:Day 3: Novice Prep Camp #1
DESCRIPTION:
URL:https://breakouthockey.ca/calendar/day-3-novice-prep-camp-1-2/
LOCATION:Ardrossan Recreation Complex – West Arena
CATEGORIES:Programs
END:VEVENT
BEGIN:VEVENT
DTSTART;TZID=America/Edmonton:20260819T174500
DTEND;TZID=America/Edmonton:20260819T184500
DTSTAMP:20260423T024929
CREATED:20171215T015143Z
LAST-MODIFIED:20260201T221328Z
UID:903-1787161500-1787165100@breakouthockey.ca
SUMMARY:Day 3: Novice Prep Camp #2
DESCRIPTION:
URL:https://breakouthockey.ca/calendar/day-3-novice-prep-camp-2/
LOCATION:Ardrossan Recreation Complex – West Arena
CATEGORIES:Programs
END:VEVENT
BEGIN:VEVENT
DTSTART;TZID=America/Edmonton:20260819T190000
DTEND;TZID=America/Edmonton:20260819T200000
DTSTAMP:20260423T024929
CREATED:20171215T020250Z
LAST-MODIFIED:20260201T220717Z
UID:916-1787166000-1787169600@breakouthockey.ca
SUMMARY:Atom Conditioning Camp:  Day 3
DESCRIPTION:
URL:https://breakouthockey.ca/calendar/atom-conditioning-camp-day-3/
LOCATION:Ardrossan Recreation Complex – West Arena
CATEGORIES:Programs
END:VEVENT
BEGIN:VEVENT
DTSTART;TZID=America/Edmonton:20260820T120000
DTEND;TZID=America/Edmonton:20260820T130000
DTSTAMP:20260423T024929
CREATED:20171215T170108Z
LAST-MODIFIED:20251208T020233Z
UID:1229-1787227200-1787230800@breakouthockey.ca
SUMMARY:MSO:  DAY 17
DESCRIPTION:
URL:https://breakouthockey.ca/calendar/mss-day-17-2/
LOCATION:Millennium Place Powerade
CATEGORIES:Programs
END:VEVENT
END:VCALENDAR