BEGIN:VCALENDAR
VERSION:2.0
PRODID:-//Breakout Hockey - ECPv6.0.3//NONSGML v1.0//EN
CALSCALE:GREGORIAN
METHOD:PUBLISH
X-ORIGINAL-URL:https://breakouthockey.ca
X-WR-CALDESC:Events for Breakout Hockey
REFRESH-INTERVAL;VALUE=DURATION:PT1H
X-Robots-Tag:noindex
X-PUBLISHED-TTL:PT1H
BEGIN:VTIMEZONE
TZID:America/Edmonton
BEGIN:DAYLIGHT
TZOFFSETFROM:-0700
TZOFFSETTO:-0600
TZNAME:MDT
DTSTART:20260308T090000
END:DAYLIGHT
BEGIN:STANDARD
TZOFFSETFROM:-0600
TZOFFSETTO:-0700
TZNAME:MST
DTSTART:20261101T080000
END:STANDARD
END:VTIMEZONE
BEGIN:VEVENT
DTSTART;TZID=America/Edmonton:20260723T160000
DTEND;TZID=America/Edmonton:20260723T170000
DTSTAMP:20260420T205303
CREATED:20171215T041712Z
LAST-MODIFIED:20251208T001642Z
UID:1040-1784822400-1784826000@breakouthockey.ca
SUMMARY:Bantam Summer Program #1:  Day 8
DESCRIPTION:
URL:https://breakouthockey.ca/calendar/bantam-summer-program-1-day-8/
LOCATION:Millennium Place Powerade
CATEGORIES:Programs
END:VEVENT
BEGIN:VEVENT
DTSTART;TZID=America/Edmonton:20260804T090000
DTEND;TZID=America/Edmonton:20260804T100000
DTSTAMP:20260420T205303
CREATED:20171215T025312Z
LAST-MODIFIED:20251207T201916Z
UID:968-1785834000-1785837600@breakouthockey.ca
SUMMARY:Novice/Atom Skills Camp:  Day 1
DESCRIPTION:
URL:https://breakouthockey.ca/calendar/novice-atom-skills-camp-day-1/
LOCATION:Ardrossan Recreation Complex – West Arena
CATEGORIES:Programs
END:VEVENT
BEGIN:VEVENT
DTSTART;TZID=America/Edmonton:20260804T101500
DTEND;TZID=America/Edmonton:20260804T111500
DTSTAMP:20260420T205303
CREATED:20171215T041753Z
LAST-MODIFIED:20251208T001736Z
UID:1042-1785838500-1785842100@breakouthockey.ca
SUMMARY:Bantam Summer Program #1:  Day 9
DESCRIPTION:
URL:https://breakouthockey.ca/calendar/bantam-summer-program-1-day-9/
LOCATION:Ardrossan Recreation Complex – West Arena
CATEGORIES:Programs
END:VEVENT
BEGIN:VEVENT
DTSTART;TZID=America/Edmonton:20260804T113000
DTEND;TZID=America/Edmonton:20260804T123000
DTSTAMP:20260420T205303
CREATED:20171215T171830Z
LAST-MODIFIED:20251208T015456Z
UID:1263-1785843000-1785846600@breakouthockey.ca
SUMMARY:MSO:  DAY 9
DESCRIPTION:
URL:https://breakouthockey.ca/calendar/mso-day-9/
LOCATION:Ardrossan Recreation Complex – West Arena
CATEGORIES:Programs
END:VEVENT
BEGIN:VEVENT
DTSTART;TZID=America/Edmonton:20260804T124500
DTEND;TZID=America/Edmonton:20260804T134500
DTSTAMP:20260420T205303
CREATED:20200701T044135Z
LAST-MODIFIED:20251208T022421Z
UID:4171-1785847500-1785851100@breakouthockey.ca
SUMMARY:MSP2: Day 11
DESCRIPTION:
URL:https://breakouthockey.ca/calendar/msp2-day-11/
LOCATION:Ardrossan Recreation Complex – West Arena
CATEGORIES:Programs
END:VEVENT
BEGIN:VEVENT
DTSTART;TZID=America/Edmonton:20260804T180000
DTEND;TZID=America/Edmonton:20260804T190000
DTSTAMP:20260420T205303
CREATED:20190105T204149Z
LAST-MODIFIED:20251207T221200Z
UID:2315-1785866400-1785870000@breakouthockey.ca
SUMMARY:Peewee Defence Camp:  Day 1
DESCRIPTION:
URL:https://breakouthockey.ca/calendar/peewee-defence-camp-day-1/
LOCATION:Randy Rosen Arena
CATEGORIES:Programs
END:VEVENT
BEGIN:VEVENT
DTSTART;TZID=America/Edmonton:20260804T191500
DTEND;TZID=America/Edmonton:20260804T201500
DTSTAMP:20260420T205303
CREATED:20171215T010757Z
LAST-MODIFIED:20251207T222136Z
UID:854-1785870900-1785874500@breakouthockey.ca
SUMMARY:Bantam Defence Camp:  Day 1
DESCRIPTION:
URL:https://breakouthockey.ca/calendar/bantam-defence-camp-day-1/
LOCATION:Randy Rosen Arena
CATEGORIES:Programs
END:VEVENT
BEGIN:VEVENT
DTSTART;TZID=America/Edmonton:20260805T090000
DTEND;TZID=America/Edmonton:20260805T100000
DTSTAMP:20260420T205303
CREATED:20171215T025352Z
LAST-MODIFIED:20251207T201956Z
UID:970-1785920400-1785924000@breakouthockey.ca
SUMMARY:Novice/Atom Skills Camp:  Day 2
DESCRIPTION:
URL:https://breakouthockey.ca/calendar/novice-atom-skills-camp-day-2/
LOCATION:Ardrossan Recreation Complex – West Arena
CATEGORIES:Programs
END:VEVENT
BEGIN:VEVENT
DTSTART;TZID=America/Edmonton:20260805T101500
DTEND;TZID=America/Edmonton:20260805T111500
DTSTAMP:20260420T205303
CREATED:20171215T041851Z
LAST-MODIFIED:20251208T001819Z
UID:1044-1785924900-1785928500@breakouthockey.ca
SUMMARY:Bantam Summer Program #1:  Day 10
DESCRIPTION:
URL:https://breakouthockey.ca/calendar/bantam-summer-program-1-day-10/
LOCATION:Ardrossan Recreation Complex – West Arena
CATEGORIES:Programs
END:VEVENT
BEGIN:VEVENT
DTSTART;TZID=America/Edmonton:20260805T113000
DTEND;TZID=America/Edmonton:20260805T123000
DTSTAMP:20260420T205303
CREATED:20171215T171917Z
LAST-MODIFIED:20251208T015704Z
UID:1265-1785929400-1785933000@breakouthockey.ca
SUMMARY:MSO:  DAY 10
DESCRIPTION:
URL:https://breakouthockey.ca/calendar/mso-day-10/
LOCATION:Ardrossan Recreation Complex – West Arena
CATEGORIES:Programs
END:VEVENT
BEGIN:VEVENT
DTSTART;TZID=America/Edmonton:20260805T124500
DTEND;TZID=America/Edmonton:20260805T134500
DTSTAMP:20260420T205303
CREATED:20200701T044255Z
LAST-MODIFIED:20251208T022503Z
UID:4173-1785933900-1785937500@breakouthockey.ca
SUMMARY:MSP2: Day 12
DESCRIPTION:
URL:https://breakouthockey.ca/calendar/msp2-day-12/
LOCATION:Ardrossan Recreation Complex – West Arena
CATEGORIES:Programs
END:VEVENT
BEGIN:VEVENT
DTSTART;TZID=America/Edmonton:20260805T171500
DTEND;TZID=America/Edmonton:20260805T181500
DTSTAMP:20260420T205303
CREATED:20190105T204238Z
LAST-MODIFIED:20251207T221243Z
UID:2317-1785950100-1785953700@breakouthockey.ca
SUMMARY:Peewee Defence Camp:  Day 2
DESCRIPTION:
URL:https://breakouthockey.ca/calendar/peewee-defence-camp-day-2/
LOCATION:Randy Rosen Arena
CATEGORIES:Programs
END:VEVENT
BEGIN:VEVENT
DTSTART;TZID=America/Edmonton:20260805T183000
DTEND;TZID=America/Edmonton:20260805T193000
DTSTAMP:20260420T205303
CREATED:20171215T011044Z
LAST-MODIFIED:20251207T222217Z
UID:856-1785954600-1785958200@breakouthockey.ca
SUMMARY:Bantam Defence Camp:  Day 2
DESCRIPTION:
URL:https://breakouthockey.ca/calendar/bantam-defence-camp-day-2/
LOCATION:Randy Rosen Arena
CATEGORIES:Programs
END:VEVENT
BEGIN:VEVENT
DTSTART;TZID=America/Edmonton:20260806T090000
DTEND;TZID=America/Edmonton:20260806T100000
DTSTAMP:20260420T205303
CREATED:20171215T025434Z
LAST-MODIFIED:20251207T202033Z
UID:972-1786006800-1786010400@breakouthockey.ca
SUMMARY:Novice/Atom Skills Camp:  Day 3
DESCRIPTION:
URL:https://breakouthockey.ca/calendar/novice-atom-skills-camp-day-3/
LOCATION:Ardrossan Recreation Complex – West Arena
CATEGORIES:Programs
END:VEVENT
BEGIN:VEVENT
DTSTART;TZID=America/Edmonton:20260806T101500
DTEND;TZID=America/Edmonton:20260806T111500
DTSTAMP:20260420T205303
CREATED:20171215T041936Z
LAST-MODIFIED:20251208T001858Z
UID:1046-1786011300-1786014900@breakouthockey.ca
SUMMARY:Bantam Summer Program #1:  Day 11
DESCRIPTION:
URL:https://breakouthockey.ca/calendar/bantam-summer-program-1-day-11/
LOCATION:Ardrossan Recreation Complex – West Arena
CATEGORIES:Programs
END:VEVENT
BEGIN:VEVENT
DTSTART;TZID=America/Edmonton:20260806T113000
DTEND;TZID=America/Edmonton:20260806T123000
DTSTAMP:20260420T205303
CREATED:20171215T172001Z
LAST-MODIFIED:20251208T015745Z
UID:1267-1786015800-1786019400@breakouthockey.ca
SUMMARY:MSO:  DAY 11
DESCRIPTION:
URL:https://breakouthockey.ca/calendar/mso-day-11/
LOCATION:Ardrossan Recreation Complex – West Arena
CATEGORIES:Programs
END:VEVENT
BEGIN:VEVENT
DTSTART;TZID=America/Edmonton:20260806T124500
DTEND;TZID=America/Edmonton:20260806T134500
DTSTAMP:20260420T205303
CREATED:20200701T044354Z
LAST-MODIFIED:20251208T022542Z
UID:4175-1786020300-1786023900@breakouthockey.ca
SUMMARY:MSP2: Day 13
DESCRIPTION:
URL:https://breakouthockey.ca/calendar/msp2-day-13/
LOCATION:Ardrossan Recreation Complex – West Arena
CATEGORIES:Programs
END:VEVENT
BEGIN:VEVENT
DTSTART;TZID=America/Edmonton:20260806T171500
DTEND;TZID=America/Edmonton:20260806T181500
DTSTAMP:20260420T205303
CREATED:20190105T204330Z
LAST-MODIFIED:20251207T221326Z
UID:2319-1786036500-1786040100@breakouthockey.ca
SUMMARY:Peewee Defence Camp:  Day 3
DESCRIPTION:
URL:https://breakouthockey.ca/calendar/peewee-defence-camp-day-3/
LOCATION:Randy Rosen Arena
CATEGORIES:Programs
END:VEVENT
BEGIN:VEVENT
DTSTART;TZID=America/Edmonton:20260806T183000
DTEND;TZID=America/Edmonton:20260806T193000
DTSTAMP:20260420T205303
CREATED:20171215T011131Z
LAST-MODIFIED:20251207T222253Z
UID:858-1786041000-1786044600@breakouthockey.ca
SUMMARY:Bantam Defence Camp:  Day 3
DESCRIPTION:
URL:https://breakouthockey.ca/calendar/bantam-defence-camp-day-3/
LOCATION:Randy Rosen Arena
CATEGORIES:Programs
END:VEVENT
BEGIN:VEVENT
DTSTART;TZID=America/Edmonton:20260807T090000
DTEND;TZID=America/Edmonton:20260807T100000
DTSTAMP:20260420T205303
CREATED:20171215T025732Z
LAST-MODIFIED:20251207T202107Z
UID:978-1786093200-1786096800@breakouthockey.ca
SUMMARY:Novice/Atom Skills Camp:  Day 4
DESCRIPTION:
URL:https://breakouthockey.ca/calendar/novice-atom-skills-camp-day-4-2/
LOCATION:Ardrossan Recreation Complex – West Arena
CATEGORIES:Programs
END:VEVENT
BEGIN:VEVENT
DTSTART;TZID=America/Edmonton:20260807T101500
DTEND;TZID=America/Edmonton:20260807T111500
DTSTAMP:20260420T205303
CREATED:20171215T042023Z
LAST-MODIFIED:20251208T001935Z
UID:1048-1786097700-1786101300@breakouthockey.ca
SUMMARY:Bantam Summer Program #1:  Day 12
DESCRIPTION:
URL:https://breakouthockey.ca/calendar/bantam-summer-program-1-day-12/
LOCATION:Ardrossan Recreation Complex – West Arena
CATEGORIES:Programs
END:VEVENT
BEGIN:VEVENT
DTSTART;TZID=America/Edmonton:20260807T113000
DTEND;TZID=America/Edmonton:20260807T123000
DTSTAMP:20260420T205303
CREATED:20171215T165708Z
LAST-MODIFIED:20251208T015825Z
UID:1219-1786102200-1786105800@breakouthockey.ca
SUMMARY:MSO:  DAY 12
DESCRIPTION:
URL:https://breakouthockey.ca/calendar/mss-day-12-2/
LOCATION:Ardrossan Recreation Complex – West Arena
CATEGORIES:Programs
END:VEVENT
BEGIN:VEVENT
DTSTART;TZID=America/Edmonton:20260807T124500
DTEND;TZID=America/Edmonton:20260807T134500
DTSTAMP:20260420T205303
CREATED:20200701T044627Z
LAST-MODIFIED:20251208T022617Z
UID:4177-1786106700-1786110300@breakouthockey.ca
SUMMARY:MSP2: Day 14
DESCRIPTION:
URL:https://breakouthockey.ca/calendar/msp2-day-14/
LOCATION:Ardrossan Recreation Complex – West Arena
CATEGORIES:Programs
END:VEVENT
BEGIN:VEVENT
DTSTART;TZID=America/Edmonton:20260807T170000
DTEND;TZID=America/Edmonton:20260807T180000
DTSTAMP:20260420T205303
CREATED:20190105T204419Z
LAST-MODIFIED:20251207T221355Z
UID:2321-1786122000-1786125600@breakouthockey.ca
SUMMARY:Peewee Defence Camp:  Day 4
DESCRIPTION:
URL:https://breakouthockey.ca/calendar/peewee-defence-camp-day-4/
LOCATION:Sherwood Park Shell Arena
CATEGORIES:Programs
END:VEVENT
BEGIN:VEVENT
DTSTART;TZID=America/Edmonton:20260807T181500
DTEND;TZID=America/Edmonton:20260807T191500
DTSTAMP:20260420T205303
CREATED:20171215T011222Z
LAST-MODIFIED:20251207T222322Z
UID:860-1786126500-1786130100@breakouthockey.ca
SUMMARY:Bantam Defence Camp:  Day 4
DESCRIPTION:
URL:https://breakouthockey.ca/calendar/bantam-defence-camp-day-4/
LOCATION:Sherwood Park Shell Arena
CATEGORIES:Programs
END:VEVENT
BEGIN:VEVENT
DTSTART;TZID=America/Edmonton:20260810T111500
DTEND;TZID=America/Edmonton:20260810T121500
DTSTAMP:20260420T205303
CREATED:20171215T042105Z
LAST-MODIFIED:20251208T002018Z
UID:1050-1786360500-1786364100@breakouthockey.ca
SUMMARY:Bantam Summer Program #1:  Day 13
DESCRIPTION:
URL:https://breakouthockey.ca/calendar/bantam-summer-program-1-day-13/
LOCATION:Millennium Place Chevrolet
CATEGORIES:Programs
END:VEVENT
BEGIN:VEVENT
DTSTART;TZID=America/Edmonton:20260810T123000
DTEND;TZID=America/Edmonton:20260810T133000
DTSTAMP:20260420T205303
CREATED:20200701T044720Z
LAST-MODIFIED:20251208T022700Z
UID:4179-1786365000-1786368600@breakouthockey.ca
SUMMARY:MSP2: Day 15
DESCRIPTION:
URL:https://breakouthockey.ca/calendar/msp2-day-15/
LOCATION:Millennium Place Chevrolet
CATEGORIES:Programs
END:VEVENT
BEGIN:VEVENT
DTSTART;TZID=America/Edmonton:20260810T134500
DTEND;TZID=America/Edmonton:20260810T144500
DTSTAMP:20260420T205303
CREATED:20171215T165754Z
LAST-MODIFIED:20251208T015922Z
UID:1221-1786369500-1786373100@breakouthockey.ca
SUMMARY:MSO:  DAY 13
DESCRIPTION:
URL:https://breakouthockey.ca/calendar/mss-day-13-2/
LOCATION:Millennium Place Chevrolet
CATEGORIES:Programs
END:VEVENT
BEGIN:VEVENT
DTSTART;TZID=America/Edmonton:20260810T174500
DTEND;TZID=America/Edmonton:20260810T184500
DTSTAMP:20260420T205303
CREATED:20190105T212900Z
LAST-MODIFIED:20251207T215346Z
UID:2324-1786383900-1786387500@breakouthockey.ca
SUMMARY:Atom Elite:  Day 1
DESCRIPTION:
URL:https://breakouthockey.ca/calendar/atom-elite-day-1/
LOCATION:Millennium Place Chevrolet
CATEGORIES:Programs
END:VEVENT
BEGIN:VEVENT
DTSTART;TZID=America/Edmonton:20260810T190000
DTEND;TZID=America/Edmonton:20260810T200000
DTSTAMP:20260420T205303
CREATED:20180315T191317Z
LAST-MODIFIED:20251207T220134Z
UID:1861-1786388400-1786392000@breakouthockey.ca
SUMMARY:2007 Day 1
DESCRIPTION:
URL:https://breakouthockey.ca/calendar/2007-day-1/
LOCATION:Millennium Place Chevrolet
CATEGORIES:Programs
END:VEVENT
END:VCALENDAR