BEGIN:VCALENDAR
VERSION:2.0
PRODID:-//Breakout Hockey - ECPv6.0.3//NONSGML v1.0//EN
CALSCALE:GREGORIAN
METHOD:PUBLISH
X-WR-CALNAME:Breakout Hockey
X-ORIGINAL-URL:https://breakouthockey.ca
X-WR-CALDESC:Events for Breakout Hockey
REFRESH-INTERVAL;VALUE=DURATION:PT1H
X-Robots-Tag:noindex
X-PUBLISHED-TTL:PT1H
BEGIN:VTIMEZONE
TZID:America/Edmonton
BEGIN:DAYLIGHT
TZOFFSETFROM:-0700
TZOFFSETTO:-0600
TZNAME:MDT
DTSTART:20220313T090000
END:DAYLIGHT
BEGIN:STANDARD
TZOFFSETFROM:-0600
TZOFFSETTO:-0700
TZNAME:MST
DTSTART:20221106T080000
END:STANDARD
BEGIN:DAYLIGHT
TZOFFSETFROM:-0700
TZOFFSETTO:-0600
TZNAME:MDT
DTSTART:20230312T090000
END:DAYLIGHT
BEGIN:STANDARD
TZOFFSETFROM:-0600
TZOFFSETTO:-0700
TZNAME:MST
DTSTART:20231105T080000
END:STANDARD
BEGIN:DAYLIGHT
TZOFFSETFROM:-0700
TZOFFSETTO:-0600
TZNAME:MDT
DTSTART:20240310T090000
END:DAYLIGHT
BEGIN:STANDARD
TZOFFSETFROM:-0600
TZOFFSETTO:-0700
TZNAME:MST
DTSTART:20241103T080000
END:STANDARD
END:VTIMEZONE
BEGIN:VEVENT
DTSTART;TZID=America/Edmonton:20240613T204500
DTEND;TZID=America/Edmonton:20240613T214500
DTSTAMP:20260421T002716
CREATED:20240514T155227Z
LAST-MODIFIED:20240514T155227Z
UID:8459-1718311500-1718315100@breakouthockey.ca
SUMMARY:Junior Summer 2: Day 2
DESCRIPTION:
URL:https://breakouthockey.ca/calendar/junior-summer-2-day-2/
LOCATION:Glen Allen Recreation Complex
CATEGORIES:Programs
END:VEVENT
BEGIN:VEVENT
DTSTART;TZID=America/Edmonton:20240609T181500
DTEND;TZID=America/Edmonton:20240609T194500
DTSTAMP:20260421T002716
CREATED:20210525T162612Z
LAST-MODIFIED:20240202T203128Z
UID:4992-1717956900-1717962300@breakouthockey.ca
SUMMARY:JFP: Day 5
DESCRIPTION:
URL:https://breakouthockey.ca/calendar/jfp-day-5/
LOCATION:Glen Allen Recreation Complex
CATEGORIES:Programs
END:VEVENT
BEGIN:VEVENT
DTSTART;TZID=America/Edmonton:20240603T204500
DTEND;TZID=America/Edmonton:20240603T214500
DTSTAMP:20260421T002716
CREATED:20240514T155124Z
LAST-MODIFIED:20240514T155124Z
UID:8457-1717447500-1717451100@breakouthockey.ca
SUMMARY:Junior Summer 2: Day 1
DESCRIPTION:
URL:https://breakouthockey.ca/calendar/junior-summer-2-day-1/
LOCATION:Glen Allen Recreation Complex
CATEGORIES:Programs
END:VEVENT
BEGIN:VEVENT
DTSTART;TZID=America/Edmonton:20240602T181500
DTEND;TZID=America/Edmonton:20240602T194500
DTSTAMP:20260421T002716
CREATED:20210525T162510Z
LAST-MODIFIED:20240202T203043Z
UID:4990-1717352100-1717357500@breakouthockey.ca
SUMMARY:JFP: Day 4
DESCRIPTION:
URL:https://breakouthockey.ca/calendar/jfp-day-4/
LOCATION:Glen Allen Recreation Complex
CATEGORIES:Programs
END:VEVENT
BEGIN:VEVENT
DTSTART;TZID=America/Edmonton:20240526T193000
DTEND;TZID=America/Edmonton:20240526T203000
DTSTAMP:20260421T002716
CREATED:20210525T162402Z
LAST-MODIFIED:20240202T202953Z
UID:4988-1716751800-1716755400@breakouthockey.ca
SUMMARY:JFP: Day 3
DESCRIPTION:
URL:https://breakouthockey.ca/calendar/jfp-day-3/
LOCATION:Millennium Place Chevrolet
CATEGORIES:Programs
END:VEVENT
BEGIN:VEVENT
DTSTART;TZID=America/Edmonton:20240512T181500
DTEND;TZID=America/Edmonton:20240512T194500
DTSTAMP:20260421T002716
CREATED:20210525T162303Z
LAST-MODIFIED:20240202T202806Z
UID:4986-1715537700-1715543100@breakouthockey.ca
SUMMARY:JFP: Day 2
DESCRIPTION:
URL:https://breakouthockey.ca/calendar/jfp-day-2/
LOCATION:Millennium Place Chevrolet
CATEGORIES:Programs
END:VEVENT
BEGIN:VEVENT
DTSTART;TZID=America/Edmonton:20240505T183000
DTEND;TZID=America/Edmonton:20240505T200000
DTSTAMP:20260421T002716
CREATED:20210525T162202Z
LAST-MODIFIED:20240202T202716Z
UID:4984-1714933800-1714939200@breakouthockey.ca
SUMMARY:JFP: Day 1
DESCRIPTION:
URL:https://breakouthockey.ca/calendar/jfp-day-1/
LOCATION:Randy Rosen Arena
CATEGORIES:Programs
END:VEVENT
BEGIN:VEVENT
DTSTART;TZID=America/Edmonton:20240410T163000
DTEND;TZID=America/Edmonton:20240410T173000
DTSTAMP:20260421T002716
CREATED:20171215T021158Z
LAST-MODIFIED:20240216T205133Z
UID:930-1712766600-1712770200@breakouthockey.ca
SUMMARY:Peewee Conditioning Camp:  Day 3
DESCRIPTION:
URL:https://breakouthockey.ca/calendar/peewee-conditioning-camp-day-3/
LOCATION:Ardrossan Recreation Complex – West Arena
CATEGORIES:Programs
END:VEVENT
BEGIN:VEVENT
DTSTART;TZID=America/Edmonton:20240409T194500
DTEND;TZID=America/Edmonton:20240409T204500
DTSTAMP:20260421T002716
CREATED:20190104T002148Z
LAST-MODIFIED:20231228T231050Z
UID:2251-1712691900-1712695500@breakouthockey.ca
SUMMARY:PPCC:  DAY 5
DESCRIPTION:
URL:https://breakouthockey.ca/calendar/ppcc-day-5/
LOCATION:Ardrossan Recreation Complex – West Arena
CATEGORIES:Programs
END:VEVENT
BEGIN:VEVENT
DTSTART;TZID=America/Edmonton:20240402T170000
DTEND;TZID=America/Edmonton:20240402T180000
DTSTAMP:20260421T002716
CREATED:20171215T021119Z
LAST-MODIFIED:20240216T205020Z
UID:928-1712077200-1712080800@breakouthockey.ca
SUMMARY:Peewee Conditioning Camp:  Day 2
DESCRIPTION:
URL:https://breakouthockey.ca/calendar/peewee-conditioning-camp-day-2/
LOCATION:Ardrossan Recreation Complex – West Arena
CATEGORIES:Programs
END:VEVENT
BEGIN:VEVENT
DTSTART;TZID=America/Edmonton:20240401T180000
DTEND;TZID=America/Edmonton:20240401T190000
DTSTAMP:20260421T002716
CREATED:20171215T020959Z
LAST-MODIFIED:20240216T204924Z
UID:924-1711994400-1711998000@breakouthockey.ca
SUMMARY:Peewee Conditioning Camp:  Day 1
DESCRIPTION:
URL:https://breakouthockey.ca/calendar/peewee-conditioning-camp/
LOCATION:Ardrossan Recreation Complex – West Arena
CATEGORIES:Programs
END:VEVENT
BEGIN:VEVENT
DTSTART;TZID=America/Edmonton:20240322T183000
DTEND;TZID=America/Edmonton:20240322T193000
DTSTAMP:20260421T002716
CREATED:20171010T174634Z
LAST-MODIFIED:20240203T001706Z
UID:642-1711132200-1711135800@breakouthockey.ca
SUMMARY:Day 5:  Alberta Cup Prep Camp
DESCRIPTION:
URL:https://breakouthockey.ca/calendar/day-5-alberta-cup-prep-camp/
LOCATION:Glen Allen Recreation Complex
CATEGORIES:Programs
END:VEVENT
BEGIN:VEVENT
DTSTART;TZID=America/Edmonton:20240321T171500
DTEND;TZID=America/Edmonton:20240321T181500
DTSTAMP:20260421T002716
CREATED:20171010T174538Z
LAST-MODIFIED:20240203T001640Z
UID:639-1711041300-1711044900@breakouthockey.ca
SUMMARY:Day 4:  Alberta Cup Prep Camp
DESCRIPTION:
URL:https://breakouthockey.ca/calendar/day-4-alberta-cup-prep-camp/
LOCATION:Millennium Place Chevrolet
CATEGORIES:Programs
END:VEVENT
BEGIN:VEVENT
DTSTART;TZID=America/Edmonton:20231125T123000
DTEND;TZID=America/Edmonton:20231125T133000
DTSTAMP:20260421T002716
CREATED:20230927T165245Z
LAST-MODIFIED:20231103T184315Z
UID:7291-1700915400-1700919000@breakouthockey.ca
SUMMARY:2016 ID Skate
DESCRIPTION:
URL:https://breakouthockey.ca/calendar/2016-id-skate/
LOCATION:Argyll Arena\, 6225 100 Street\, Edmonton\, Alberta\, Canada
CATEGORIES:Programs
END:VEVENT
BEGIN:VEVENT
DTSTART;TZID=America/Edmonton:20230831T180000
DTEND;TZID=America/Edmonton:20230831T190000
DTSTAMP:20260421T002716
CREATED:20230727T155718Z
LAST-MODIFIED:20230727T155718Z
UID:7151-1693504800-1693508400@breakouthockey.ca
SUMMARY:Day 6: Novice Prep Camp #2
DESCRIPTION:
URL:https://breakouthockey.ca/calendar/day-6-novice-prep-camp-2/
LOCATION:Millennium Place Powerade
CATEGORIES:Programs
END:VEVENT
BEGIN:VEVENT
DTSTART;TZID=America/Edmonton:20230830T170000
DTEND;TZID=America/Edmonton:20230830T180000
DTSTAMP:20260421T002716
CREATED:20230727T155629Z
LAST-MODIFIED:20230727T155629Z
UID:7149-1693414800-1693418400@breakouthockey.ca
SUMMARY:Day 5: Novice Prep Camp #2
DESCRIPTION:
URL:https://breakouthockey.ca/calendar/day-5-novice-prep-camp-2-2/
LOCATION:Millennium Place Chevrolet
CATEGORIES:Programs
END:VEVENT
BEGIN:VEVENT
DTSTART;TZID=America/Edmonton:20230618T181500
DTEND;TZID=America/Edmonton:20230618T194500
DTSTAMP:20260421T002716
CREATED:20230310T172546Z
LAST-MODIFIED:20230310T172546Z
UID:6769-1687112100-1687117500@breakouthockey.ca
SUMMARY:JFP: Day 10
DESCRIPTION:
URL:https://breakouthockey.ca/calendar/jfp-day-10/
LOCATION:Glen Allen Recreation Complex
CATEGORIES:Programs
END:VEVENT
BEGIN:VEVENT
DTSTART;TZID=America/Edmonton:20230611T181500
DTEND;TZID=America/Edmonton:20230611T194500
DTSTAMP:20260421T002716
CREATED:20230310T172445Z
LAST-MODIFIED:20230310T172445Z
UID:6767-1686507300-1686512700@breakouthockey.ca
SUMMARY:JFP: Day 9
DESCRIPTION:
URL:https://breakouthockey.ca/calendar/jfp-day-9/
LOCATION:Glen Allen Recreation Complex
CATEGORIES:Programs
END:VEVENT
BEGIN:VEVENT
DTSTART;TZID=America/Edmonton:20230413T170000
DTEND;TZID=America/Edmonton:20230413T180000
DTSTAMP:20260421T002716
CREATED:20230203T172237Z
LAST-MODIFIED:20230203T172237Z
UID:6359-1681405200-1681408800@breakouthockey.ca
SUMMARY:Body Contact 2 - Day 3
DESCRIPTION:
URL:https://breakouthockey.ca/calendar/body-contact-2-day-3/
LOCATION:Ardrossan Recreation Complex – West Arena
CATEGORIES:Programs
END:VEVENT
BEGIN:VEVENT
DTSTART;TZID=America/Edmonton:20230411T194500
DTEND;TZID=America/Edmonton:20230411T204500
DTSTAMP:20260421T002716
CREATED:20230203T172130Z
LAST-MODIFIED:20230203T172130Z
UID:6357-1681242300-1681245900@breakouthockey.ca
SUMMARY:Body Contact 2 - Day 2
DESCRIPTION:
URL:https://breakouthockey.ca/calendar/body-contact-2-day-2/
LOCATION:Ardrossan Recreation Complex – West Arena
CATEGORIES:Programs
END:VEVENT
BEGIN:VEVENT
DTSTART;TZID=America/Edmonton:20230411T194500
DTEND;TZID=America/Edmonton:20230411T204500
DTSTAMP:20260421T002716
CREATED:20221229T224649Z
LAST-MODIFIED:20221229T224649Z
UID:6108-1681242300-1681245900@breakouthockey.ca
SUMMARY:U18 2023 Spring - Day 1
DESCRIPTION:
URL:https://breakouthockey.ca/calendar/u18-2023-spring-day-1/
LOCATION:Ardrossan Recreation Complex – West Arena
CATEGORIES:Programs
END:VEVENT
BEGIN:VEVENT
DTSTART;TZID=America/Edmonton:20230410T170000
DTEND;TZID=America/Edmonton:20230410T180000
DTSTAMP:20260421T002716
CREATED:20230203T172042Z
LAST-MODIFIED:20230203T172042Z
UID:6355-1681146000-1681149600@breakouthockey.ca
SUMMARY:Body Contact 2 - Day 1
DESCRIPTION:
URL:https://breakouthockey.ca/calendar/body-contact-2-day-1/
LOCATION:Randy Rosen Arena
CATEGORIES:Programs
END:VEVENT
BEGIN:VEVENT
DTSTART;TZID=America/Edmonton:20230405T193000
DTEND;TZID=America/Edmonton:20230405T203000
DTSTAMP:20260421T002716
CREATED:20171214T211409Z
LAST-MODIFIED:20221227T020829Z
UID:792-1680723000-1680726600@breakouthockey.ca
SUMMARY:Junior Prep Camp 2:  Day 3
DESCRIPTION:
URL:https://breakouthockey.ca/calendar/junior-prep-camp-2-day-3/
LOCATION:Randy Rosen Arena
CATEGORIES:Programs
END:VEVENT
BEGIN:VEVENT
DTSTART;TZID=America/Edmonton:20230404T204500
DTEND;TZID=America/Edmonton:20230404T214500
DTSTAMP:20260421T002716
CREATED:20171214T211327Z
LAST-MODIFIED:20221227T020922Z
UID:790-1680641100-1680644700@breakouthockey.ca
SUMMARY:Junior Prep Camp 2:  Day 2
DESCRIPTION:
URL:https://breakouthockey.ca/calendar/junior-prep-camp-2-day-2/
LOCATION:Ardrossan Recreation Complex – West Arena
CATEGORIES:Programs
END:VEVENT
BEGIN:VEVENT
DTSTART;TZID=America/Edmonton:20230403T200000
DTEND;TZID=America/Edmonton:20230403T210000
DTSTAMP:20260421T002716
CREATED:20171214T211242Z
LAST-MODIFIED:20221227T020957Z
UID:788-1680552000-1680555600@breakouthockey.ca
SUMMARY:Junior Prep Camp 2:  Day 1
DESCRIPTION:
URL:https://breakouthockey.ca/calendar/junior-prep-camp-2-day-1/
LOCATION:Ardrossan Recreation Complex – West Arena
CATEGORIES:Programs
END:VEVENT
BEGIN:VEVENT
DTSTART;TZID=America/Edmonton:20220831T184500
DTEND;TZID=America/Edmonton:20220831T194500
DTSTAMP:20260421T002716
CREATED:20171215T020416Z
LAST-MODIFIED:20220201T044933Z
UID:920-1661971500-1661975100@breakouthockey.ca
SUMMARY:Atom Conditioning Camp:  Day 5
DESCRIPTION:
URL:https://breakouthockey.ca/calendar/atom-conditioning-camp-day-5/
LOCATION:Millennium Place Powerade
CATEGORIES:Programs
END:VEVENT
BEGIN:VEVENT
DTSTART;TZID=America/Edmonton:20220831T173000
DTEND;TZID=America/Edmonton:20220831T183000
DTSTAMP:20260421T002716
CREATED:20171215T014437Z
LAST-MODIFIED:20220201T044139Z
UID:894-1661967000-1661970600@breakouthockey.ca
SUMMARY:Day 5: Novice Prep Camp #1
DESCRIPTION:
URL:https://breakouthockey.ca/calendar/day-5-novice-prep-camp-1-2/
LOCATION:Millennium Place Powerade
CATEGORIES:Programs
END:VEVENT
BEGIN:VEVENT
DTSTART;TZID=America/Edmonton:20220819T203000
DTEND;TZID=America/Edmonton:20220819T213000
DTSTAMP:20260421T002716
CREATED:20180315T191950Z
LAST-MODIFIED:20220201T042938Z
UID:1879-1660941000-1660944600@breakouthockey.ca
SUMMARY:2007 Day 10
DESCRIPTION:
URL:https://breakouthockey.ca/calendar/2007-day-10/
LOCATION:Millennium Place Chevrolet
CATEGORIES:Programs
END:VEVENT
BEGIN:VEVENT
DTSTART;TZID=America/Edmonton:20220819T180000
DTEND;TZID=America/Edmonton:20220819T190000
DTSTAMP:20260421T002716
CREATED:20171215T033351Z
LAST-MODIFIED:20220201T050531Z
UID:1023-1660932000-1660935600@breakouthockey.ca
SUMMARY:BCC Peewee:  Day 5
DESCRIPTION:
URL:https://breakouthockey.ca/calendar/bcc-peewee-day-5/
LOCATION:Millennium Place Chevrolet
CATEGORIES:Programs
END:VEVENT
BEGIN:VEVENT
DTSTART;TZID=America/Edmonton:20220819T164500
DTEND;TZID=America/Edmonton:20220819T174500
DTSTAMP:20260421T002716
CREATED:20171215T032500Z
LAST-MODIFIED:20220201T045919Z
UID:1011-1660927500-1660931100@breakouthockey.ca
SUMMARY:BCC Novice/Atom:  Day 5
DESCRIPTION:
URL:https://breakouthockey.ca/calendar/bcc-novice-atom-day-5/
LOCATION:Millennium Place Chevrolet
CATEGORIES:Programs
END:VEVENT
END:VCALENDAR