BEGIN:VCALENDAR
VERSION:2.0
PRODID:-//Breakout Hockey - ECPv6.0.3//NONSGML v1.0//EN
CALSCALE:GREGORIAN
METHOD:PUBLISH
X-WR-CALNAME:Breakout Hockey
X-ORIGINAL-URL:https://breakouthockey.ca
X-WR-CALDESC:Events for Breakout Hockey
REFRESH-INTERVAL;VALUE=DURATION:PT1H
X-Robots-Tag:noindex
X-PUBLISHED-TTL:PT1H
BEGIN:VTIMEZONE
TZID:America/Edmonton
BEGIN:DAYLIGHT
TZOFFSETFROM:-0700
TZOFFSETTO:-0600
TZNAME:MDT
DTSTART:20260308T090000
END:DAYLIGHT
BEGIN:STANDARD
TZOFFSETFROM:-0600
TZOFFSETTO:-0700
TZNAME:MST
DTSTART:20261101T080000
END:STANDARD
END:VTIMEZONE
BEGIN:VEVENT
DTSTART;TZID=America/Edmonton:20260723T113000
DTEND;TZID=America/Edmonton:20260723T123000
DTSTAMP:20260420T110718
CREATED:20200701T043504Z
LAST-MODIFIED:20251208T022339Z
UID:4169-1784806200-1784809800@breakouthockey.ca
SUMMARY:MSP2: Day 10
DESCRIPTION:
URL:https://breakouthockey.ca/calendar/msp2-day-10/
LOCATION:Millennium Place Chevrolet
CATEGORIES:Programs
END:VEVENT
BEGIN:VEVENT
DTSTART;TZID=America/Edmonton:20260723T144500
DTEND;TZID=America/Edmonton:20260723T154500
DTSTAMP:20260420T110718
CREATED:20171215T171731Z
LAST-MODIFIED:20251208T015358Z
UID:1260-1784817900-1784821500@breakouthockey.ca
SUMMARY:MSO:  DAY 8
DESCRIPTION:
URL:https://breakouthockey.ca/calendar/mso-day-8/
LOCATION:Millennium Place Powerade
CATEGORIES:Programs
END:VEVENT
BEGIN:VEVENT
DTSTART;TZID=America/Edmonton:20260723T160000
DTEND;TZID=America/Edmonton:20260723T170000
DTSTAMP:20260420T110718
CREATED:20171215T041712Z
LAST-MODIFIED:20251208T001642Z
UID:1040-1784822400-1784826000@breakouthockey.ca
SUMMARY:Bantam Summer Program #1:  Day 8
DESCRIPTION:
URL:https://breakouthockey.ca/calendar/bantam-summer-program-1-day-8/
LOCATION:Millennium Place Powerade
CATEGORIES:Programs
END:VEVENT
END:VCALENDAR