BEGIN:VCALENDAR
VERSION:2.0
PRODID:-//Breakout Hockey - ECPv6.0.3//NONSGML v1.0//EN
CALSCALE:GREGORIAN
METHOD:PUBLISH
X-WR-CALNAME:Breakout Hockey
X-ORIGINAL-URL:https://breakouthockey.ca
X-WR-CALDESC:Events for Breakout Hockey
REFRESH-INTERVAL;VALUE=DURATION:PT1H
X-Robots-Tag:noindex
X-PUBLISHED-TTL:PT1H
BEGIN:VTIMEZONE
TZID:America/Edmonton
BEGIN:DAYLIGHT
TZOFFSETFROM:-0700
TZOFFSETTO:-0600
TZNAME:MDT
DTSTART:20260308T090000
END:DAYLIGHT
BEGIN:STANDARD
TZOFFSETFROM:-0600
TZOFFSETTO:-0700
TZNAME:MST
DTSTART:20261101T080000
END:STANDARD
END:VTIMEZONE
BEGIN:VEVENT
DTSTART;TZID=America/Edmonton:20260511T170000
DTEND;TZID=America/Edmonton:20260511T180000
DTSTAMP:20260420T073210
CREATED:20240224T214148Z
LAST-MODIFIED:20260331T173615Z
UID:8150-1778518800-1778522400@breakouthockey.ca
SUMMARY:3 on 3 - Session #7 - Day 6
DESCRIPTION:
URL:https://breakouthockey.ca/calendar/3-on-3-6b-day-6/
LOCATION:Millennium Place Chevrolet
CATEGORIES:Programs
END:VEVENT
BEGIN:VEVENT
DTSTART;TZID=America/Edmonton:20260511T181500
DTEND;TZID=America/Edmonton:20260511T191500
DTSTAMP:20260420T073210
CREATED:20171215T154954Z
LAST-MODIFIED:20251207T032732Z
UID:1137-1778523300-1778526900@breakouthockey.ca
SUMMARY:MSS:  DAY 6
DESCRIPTION:
URL:https://breakouthockey.ca/calendar/mss-day-6/
LOCATION:Millennium Place Chevrolet
CATEGORIES:Programs
END:VEVENT
END:VCALENDAR