BEGIN:VCALENDAR
VERSION:2.0
PRODID:-//Breakout Hockey - ECPv6.0.3//NONSGML v1.0//EN
CALSCALE:GREGORIAN
METHOD:PUBLISH
X-ORIGINAL-URL:https://breakouthockey.ca
X-WR-CALDESC:Events for Breakout Hockey
REFRESH-INTERVAL;VALUE=DURATION:PT1H
X-Robots-Tag:noindex
X-PUBLISHED-TTL:PT1H
BEGIN:VTIMEZONE
TZID:America/Edmonton
BEGIN:DAYLIGHT
TZOFFSETFROM:-0700
TZOFFSETTO:-0600
TZNAME:MDT
DTSTART:20260308T090000
END:DAYLIGHT
BEGIN:STANDARD
TZOFFSETFROM:-0600
TZOFFSETTO:-0700
TZNAME:MST
DTSTART:20261101T080000
END:STANDARD
END:VTIMEZONE
BEGIN:VEVENT
DTSTART;TZID=America/Edmonton:20260408T170000
DTEND;TZID=America/Edmonton:20260408T180000
DTSTAMP:20260420T055519
CREATED:20190113T200112Z
LAST-MODIFIED:20251207T045330Z
UID:2418-1775667600-1775671200@breakouthockey.ca
SUMMARY:3 on 3  Session #5 - Day 2
DESCRIPTION:
URL:https://breakouthockey.ca/calendar/day-2-3-3-session-3b/
LOCATION:Randy Rosen Arena
CATEGORIES:Programs
END:VEVENT
BEGIN:VEVENT
DTSTART;TZID=America/Edmonton:20260408T191500
DTEND;TZID=America/Edmonton:20260408T201500
DTSTAMP:20260420T055519
CREATED:20190129T170808Z
LAST-MODIFIED:20251207T040913Z
UID:2551-1775675700-1775679300@breakouthockey.ca
SUMMARY:3 on 3 Session #3:  Day 2
DESCRIPTION:
URL:https://breakouthockey.ca/calendar/3-3-session-3c-day-2/
LOCATION:Ardrossan Recreation Complex – West Arena
CATEGORIES:Programs
END:VEVENT
END:VCALENDAR