BEGIN:VCALENDAR
VERSION:2.0
PRODID:-//Breakout Hockey - ECPv6.0.3//NONSGML v1.0//EN
CALSCALE:GREGORIAN
METHOD:PUBLISH
X-WR-CALNAME:Breakout Hockey
X-ORIGINAL-URL:https://breakouthockey.ca
X-WR-CALDESC:Events for Breakout Hockey
REFRESH-INTERVAL;VALUE=DURATION:PT1H
X-Robots-Tag:noindex
X-PUBLISHED-TTL:PT1H
BEGIN:VTIMEZONE
TZID:America/Edmonton
BEGIN:DAYLIGHT
TZOFFSETFROM:-0700
TZOFFSETTO:-0600
TZNAME:MDT
DTSTART:20250309T090000
END:DAYLIGHT
BEGIN:STANDARD
TZOFFSETFROM:-0600
TZOFFSETTO:-0700
TZNAME:MST
DTSTART:20251102T080000
END:STANDARD
END:VTIMEZONE
BEGIN:VEVENT
DTSTART;TZID=America/Edmonton:20250808T170000
DTEND;TZID=America/Edmonton:20250808T180000
DTSTAMP:20260420T190339
CREATED:20171215T032403Z
LAST-MODIFIED:20241211T233043Z
UID:1009-1754672400-1754676000@breakouthockey.ca
SUMMARY:BCC Novice/Atom:  Day 4
DESCRIPTION:
URL:https://breakouthockey.ca/calendar/bcc-novice-atom-day-4/
LOCATION:Randy Rosen Arena
CATEGORIES:Programs
END:VEVENT
BEGIN:VEVENT
DTSTART;TZID=America/Edmonton:20250808T181500
DTEND;TZID=America/Edmonton:20250808T191500
DTSTAMP:20260420T190339
CREATED:20171215T033307Z
LAST-MODIFIED:20241211T233328Z
UID:1021-1754676900-1754680500@breakouthockey.ca
SUMMARY:BCC Peewee:  Day 4
DESCRIPTION:
URL:https://breakouthockey.ca/calendar/bcc-peewee-day-4/
LOCATION:Randy Rosen Arena
CATEGORIES:Programs
END:VEVENT
END:VCALENDAR