BEGIN:VCALENDAR
VERSION:2.0
PRODID:-//Breakout Hockey - ECPv6.0.3//NONSGML v1.0//EN
CALSCALE:GREGORIAN
METHOD:PUBLISH
X-WR-CALNAME:Breakout Hockey
X-ORIGINAL-URL:https://breakouthockey.ca
X-WR-CALDESC:Events for Breakout Hockey
REFRESH-INTERVAL;VALUE=DURATION:PT1H
X-Robots-Tag:noindex
X-PUBLISHED-TTL:PT1H
BEGIN:VTIMEZONE
TZID:America/Edmonton
BEGIN:DAYLIGHT
TZOFFSETFROM:-0700
TZOFFSETTO:-0600
TZNAME:MDT
DTSTART:20250309T090000
END:DAYLIGHT
BEGIN:STANDARD
TZOFFSETFROM:-0600
TZOFFSETTO:-0700
TZNAME:MST
DTSTART:20251102T080000
END:STANDARD
END:VTIMEZONE
BEGIN:VEVENT
DTSTART;TZID=America/Edmonton:20250805T180000
DTEND;TZID=America/Edmonton:20250805T190000
DTSTAMP:20260420T185249
CREATED:20171215T032150Z
LAST-MODIFIED:20241211T232843Z
UID:1003-1754416800-1754420400@breakouthockey.ca
SUMMARY:BCC Novice/Atom:  Day 1
DESCRIPTION:
URL:https://breakouthockey.ca/calendar/bcc-novice-atom-day-1/
LOCATION:Ardrossan Recreation Complex – East Arena
CATEGORIES:Programs
END:VEVENT
BEGIN:VEVENT
DTSTART;TZID=America/Edmonton:20250805T191500
DTEND;TZID=America/Edmonton:20250805T201500
DTSTAMP:20260420T185249
CREATED:20171215T032919Z
LAST-MODIFIED:20241211T233145Z
UID:1013-1754421300-1754424900@breakouthockey.ca
SUMMARY:BCC Peewee:  Day 1
DESCRIPTION:
URL:https://breakouthockey.ca/calendar/bcc-peewee/
LOCATION:Ardrossan Recreation Complex – East Arena
CATEGORIES:Programs
END:VEVENT
END:VCALENDAR