BEGIN:VCALENDAR
VERSION:2.0
PRODID:-//Breakout Hockey - ECPv6.0.3//NONSGML v1.0//EN
CALSCALE:GREGORIAN
METHOD:PUBLISH
X-ORIGINAL-URL:https://breakouthockey.ca
X-WR-CALDESC:Events for Breakout Hockey
REFRESH-INTERVAL;VALUE=DURATION:PT1H
X-Robots-Tag:noindex
X-PUBLISHED-TTL:PT1H
BEGIN:VTIMEZONE
TZID:America/Edmonton
BEGIN:DAYLIGHT
TZOFFSETFROM:-0700
TZOFFSETTO:-0600
TZNAME:MDT
DTSTART:20240310T090000
END:DAYLIGHT
BEGIN:STANDARD
TZOFFSETFROM:-0600
TZOFFSETTO:-0700
TZNAME:MST
DTSTART:20241103T080000
END:STANDARD
END:VTIMEZONE
BEGIN:VEVENT
DTSTART;TZID=America/Edmonton:20240903T191500
DTEND;TZID=America/Edmonton:20240903T201500
DTSTAMP:20260425T101534
CREATED:20240301T193813Z
LAST-MODIFIED:20240301T193813Z
UID:8218-1725390900-1725394500@breakouthockey.ca
SUMMARY:Tim Day 9
DESCRIPTION:
URL:https://breakouthockey.ca/calendar/tim-day-9/
LOCATION:Argyll Arena\, 6225 100 Street\, Edmonton\, Alberta\, Canada
CATEGORIES:Programs
END:VEVENT
END:VCALENDAR