BEGIN:VCALENDAR
VERSION:2.0
PRODID:-//Breakout Hockey - ECPv6.0.3//NONSGML v1.0//EN
CALSCALE:GREGORIAN
METHOD:PUBLISH
X-ORIGINAL-URL:https://breakouthockey.ca
X-WR-CALDESC:Events for Breakout Hockey
REFRESH-INTERVAL;VALUE=DURATION:PT1H
X-Robots-Tag:noindex
X-PUBLISHED-TTL:PT1H
BEGIN:VTIMEZONE
TZID:America/Edmonton
BEGIN:DAYLIGHT
TZOFFSETFROM:-0700
TZOFFSETTO:-0600
TZNAME:MDT
DTSTART:20240310T090000
END:DAYLIGHT
BEGIN:STANDARD
TZOFFSETFROM:-0600
TZOFFSETTO:-0700
TZNAME:MST
DTSTART:20241103T080000
END:STANDARD
END:VTIMEZONE
BEGIN:VEVENT
DTSTART;TZID=America/Edmonton:20240704T181500
DTEND;TZID=America/Edmonton:20240704T191500
DTSTAMP:20260425T131336
CREATED:20240611T172948Z
LAST-MODIFIED:20240611T172948Z
UID:8514-1720116900-1720120500@breakouthockey.ca
SUMMARY:Summer 3 on 3 - Day 6
DESCRIPTION:
URL:https://breakouthockey.ca/calendar/summer-3-on-3-day-6/
LOCATION:Millennium Place Powerade
CATEGORIES:Programs
END:VEVENT
BEGIN:VEVENT
DTSTART;TZID=America/Edmonton:20240704T200000
DTEND;TZID=America/Edmonton:20240704T210000
DTSTAMP:20260425T131336
CREATED:20240514T155516Z
LAST-MODIFIED:20240514T155516Z
UID:8465-1720123200-1720126800@breakouthockey.ca
SUMMARY:Junior Summer 2: Day 5
DESCRIPTION:
URL:https://breakouthockey.ca/calendar/junior-summer-2-day-5/
LOCATION:Millennium Place Chevrolet
CATEGORIES:Programs
END:VEVENT
END:VCALENDAR