BEGIN:VCALENDAR
VERSION:2.0
PRODID:-//Breakout Hockey - ECPv6.0.3//NONSGML v1.0//EN
CALSCALE:GREGORIAN
METHOD:PUBLISH
X-WR-CALNAME:Breakout Hockey
X-ORIGINAL-URL:https://breakouthockey.ca
X-WR-CALDESC:Events for Breakout Hockey
REFRESH-INTERVAL;VALUE=DURATION:PT1H
X-Robots-Tag:noindex
X-PUBLISHED-TTL:PT1H
BEGIN:VTIMEZONE
TZID:America/Edmonton
BEGIN:DAYLIGHT
TZOFFSETFROM:-0700
TZOFFSETTO:-0600
TZNAME:MDT
DTSTART:20250309T090000
END:DAYLIGHT
BEGIN:STANDARD
TZOFFSETFROM:-0600
TZOFFSETTO:-0700
TZNAME:MST
DTSTART:20251102T080000
END:STANDARD
END:VTIMEZONE
BEGIN:VEVENT
DTSTART;TZID=America/Edmonton:20250501T203000
DTEND;TZID=America/Edmonton:20250501T213000
DTSTAMP:20260420T224742
CREATED:20171214T213635Z
LAST-MODIFIED:20241210T033303Z
UID:814-1746131400-1746135000@breakouthockey.ca
SUMMARY:Bantam AAA Spring:  Day 4
DESCRIPTION:
URL:https://breakouthockey.ca/calendar/bantam-aaa-spring-day-4/
LOCATION:Millennium Place Powerade
CATEGORIES:Programs
END:VEVENT
BEGIN:VEVENT
DTSTART;TZID=America/Edmonton:20250508T204500
DTEND;TZID=America/Edmonton:20250508T214500
DTSTAMP:20260420T224742
CREATED:20171214T214211Z
LAST-MODIFIED:20241210T033342Z
UID:824-1746737100-1746740700@breakouthockey.ca
SUMMARY:Bantam AAA Spring:  Day 5
DESCRIPTION:
URL:https://breakouthockey.ca/calendar/bantam-aaa-spring-day-9/
LOCATION:Millennium Place Chevrolet
CATEGORIES:Programs
END:VEVENT
BEGIN:VEVENT
DTSTART;TZID=America/Edmonton:20250512T170000
DTEND;TZID=America/Edmonton:20250512T180000
DTSTAMP:20260420T224742
CREATED:20171214T213725Z
LAST-MODIFIED:20241210T033415Z
UID:816-1747069200-1747072800@breakouthockey.ca
SUMMARY:Bantam AAA Spring:  Day 6
DESCRIPTION:
URL:https://breakouthockey.ca/calendar/bantam-aaa-spring-day-5/
LOCATION:Millennium Place Chevrolet
CATEGORIES:Programs
END:VEVENT
BEGIN:VEVENT
DTSTART;TZID=America/Edmonton:20250520T204500
DTEND;TZID=America/Edmonton:20250520T214500
DTSTAMP:20260420T224742
CREATED:20171214T213813Z
LAST-MODIFIED:20241210T033455Z
UID:818-1747773900-1747777500@breakouthockey.ca
SUMMARY:Bantam AAA Spring:  Day 7
DESCRIPTION:
URL:https://breakouthockey.ca/calendar/bantam-aaa-spring-day-6/
LOCATION:Millennium Place Chevrolet
CATEGORIES:Programs
END:VEVENT
BEGIN:VEVENT
DTSTART;TZID=America/Edmonton:20250526T193000
DTEND;TZID=America/Edmonton:20250526T203000
DTSTAMP:20260420T224742
CREATED:20180305T004935Z
LAST-MODIFIED:20241210T033558Z
UID:1768-1748287800-1748291400@breakouthockey.ca
SUMMARY:Bantam AAA Spring:  Day 8
DESCRIPTION:
URL:https://breakouthockey.ca/calendar/bantam-aaa-spring-day-8/
LOCATION:Millennium Place Chevrolet
CATEGORIES:Programs
END:VEVENT
END:VCALENDAR