BEGIN:VCALENDAR
VERSION:2.0
PRODID:-//Breakout Hockey - ECPv6.0.3//NONSGML v1.0//EN
CALSCALE:GREGORIAN
METHOD:PUBLISH
X-ORIGINAL-URL:https://breakouthockey.ca
X-WR-CALDESC:Events for Breakout Hockey
REFRESH-INTERVAL;VALUE=DURATION:PT1H
X-Robots-Tag:noindex
X-PUBLISHED-TTL:PT1H
BEGIN:VTIMEZONE
TZID:America/Edmonton
BEGIN:DAYLIGHT
TZOFFSETFROM:-0700
TZOFFSETTO:-0600
TZNAME:MDT
DTSTART:20250309T090000
END:DAYLIGHT
BEGIN:STANDARD
TZOFFSETFROM:-0600
TZOFFSETTO:-0700
TZNAME:MST
DTSTART:20251102T080000
END:STANDARD
END:VTIMEZONE
BEGIN:VEVENT
DTSTART;TZID=America/Edmonton:20250407T170000
DTEND;TZID=America/Edmonton:20250407T180000
DTSTAMP:20260421T004234
CREATED:20171214T213417Z
LAST-MODIFIED:20241211T220917Z
UID:808-1744045200-1744048800@breakouthockey.ca
SUMMARY:Bantam AAA Spring:  Day 1
DESCRIPTION:
URL:https://breakouthockey.ca/calendar/bantam-aaa-spring-day-1/
LOCATION:Ardrossan Recreation Complex – West Arena
CATEGORIES:Programs
END:VEVENT
BEGIN:VEVENT
DTSTART;TZID=America/Edmonton:20250407T181500
DTEND;TZID=America/Edmonton:20250407T191500
DTSTAMP:20260421T004234
CREATED:20190104T001742Z
LAST-MODIFIED:20241211T222118Z
UID:2243-1744049700-1744053300@breakouthockey.ca
SUMMARY:PPCC:  DAY 1
DESCRIPTION:
URL:https://breakouthockey.ca/calendar/ppcc-day-1/
LOCATION:Ardrossan Recreation Complex – West Arena
CATEGORIES:Programs
END:VEVENT
BEGIN:VEVENT
DTSTART;TZID=America/Edmonton:20250408T193000
DTEND;TZID=America/Edmonton:20250408T203000
DTSTAMP:20260421T004234
CREATED:20190104T001830Z
LAST-MODIFIED:20241211T222157Z
UID:2245-1744140600-1744144200@breakouthockey.ca
SUMMARY:PPCC:  DAY 2
DESCRIPTION:
URL:https://breakouthockey.ca/calendar/ppcc-day-2/
LOCATION:Ardrossan Recreation Complex – West Arena
CATEGORIES:Programs
END:VEVENT
BEGIN:VEVENT
DTSTART;TZID=America/Edmonton:20250409T163000
DTEND;TZID=America/Edmonton:20250409T173000
DTSTAMP:20260421T004234
CREATED:20190104T001915Z
LAST-MODIFIED:20241211T222417Z
UID:2247-1744216200-1744219800@breakouthockey.ca
SUMMARY:PPCC:  DAY 3
DESCRIPTION:
URL:https://breakouthockey.ca/calendar/ppcc-day-3/
LOCATION:Ardrossan Recreation Complex – West Arena
CATEGORIES:Programs
END:VEVENT
BEGIN:VEVENT
DTSTART;TZID=America/Edmonton:20250410T193000
DTEND;TZID=America/Edmonton:20250410T203000
DTSTAMP:20260421T004234
CREATED:20190104T002054Z
LAST-MODIFIED:20241211T222505Z
UID:2249-1744313400-1744317000@breakouthockey.ca
SUMMARY:PPCC:  DAY 4
DESCRIPTION:
URL:https://breakouthockey.ca/calendar/ppcc-day-4/
LOCATION:Ardrossan Recreation Complex – West Arena
CATEGORIES:Programs
END:VEVENT
BEGIN:VEVENT
DTSTART;TZID=America/Edmonton:20250414T181500
DTEND;TZID=America/Edmonton:20250414T191500
DTSTAMP:20260421T004234
CREATED:20171214T213509Z
LAST-MODIFIED:20241210T033131Z
UID:810-1744654500-1744658100@breakouthockey.ca
SUMMARY:Bantam AAA Spring:  Day 2
DESCRIPTION:
URL:https://breakouthockey.ca/calendar/bantam-aaa-spring-day-2/
LOCATION:Randy Rosen Arena
CATEGORIES:Programs
END:VEVENT
BEGIN:VEVENT
DTSTART;TZID=America/Edmonton:20250424T193000
DTEND;TZID=America/Edmonton:20250424T203000
DTSTAMP:20260421T004234
CREATED:20171214T213552Z
LAST-MODIFIED:20250228T012619Z
UID:812-1745523000-1745526600@breakouthockey.ca
SUMMARY:Bantam AAA Spring:  Day 3
DESCRIPTION:
URL:https://breakouthockey.ca/calendar/bantam-aaa-spring-day-3/
LOCATION:Millennium Place Chevrolet
CATEGORIES:Programs
END:VEVENT
END:VCALENDAR