BEGIN:VCALENDAR
VERSION:2.0
PRODID:-//Breakout Hockey - ECPv6.0.3//NONSGML v1.0//EN
CALSCALE:GREGORIAN
METHOD:PUBLISH
X-WR-CALNAME:Breakout Hockey
X-ORIGINAL-URL:https://breakouthockey.ca
X-WR-CALDESC:Events for Breakout Hockey
REFRESH-INTERVAL;VALUE=DURATION:PT1H
X-Robots-Tag:noindex
X-PUBLISHED-TTL:PT1H
BEGIN:VTIMEZONE
TZID:America/Edmonton
BEGIN:DAYLIGHT
TZOFFSETFROM:-0700
TZOFFSETTO:-0600
TZNAME:MDT
DTSTART:20240310T090000
END:DAYLIGHT
BEGIN:STANDARD
TZOFFSETFROM:-0600
TZOFFSETTO:-0700
TZNAME:MST
DTSTART:20241103T080000
END:STANDARD
END:VTIMEZONE
BEGIN:VEVENT
DTSTART;TZID=America/Edmonton:20240903T191500
DTEND;TZID=America/Edmonton:20240903T201500
DTSTAMP:20260425T084150
CREATED:20240301T193813Z
LAST-MODIFIED:20240301T193813Z
UID:8218-1725390900-1725394500@breakouthockey.ca
SUMMARY:Tim Day 9
DESCRIPTION:
URL:https://breakouthockey.ca/calendar/tim-day-9/
LOCATION:Argyll Arena\, 6225 100 Street\, Edmonton\, Alberta\, Canada
CATEGORIES:Programs
END:VEVENT
BEGIN:VEVENT
DTSTART;TZID=America/Edmonton:20240906T180000
DTEND;TZID=America/Edmonton:20240906T190000
DTSTAMP:20260425T084150
CREATED:20240301T193856Z
LAST-MODIFIED:20240301T193856Z
UID:8220-1725645600-1725649200@breakouthockey.ca
SUMMARY:Tim Day 10
DESCRIPTION:
URL:https://breakouthockey.ca/calendar/tim-day-10/
LOCATION:Argyll Arena\, 6225 100 Street\, Edmonton\, Alberta\, Canada
CATEGORIES:Programs
END:VEVENT
BEGIN:VEVENT
DTSTART;TZID=America/Edmonton:20240910T191500
DTEND;TZID=America/Edmonton:20240910T201500
DTSTAMP:20260425T084150
CREATED:20240301T193936Z
LAST-MODIFIED:20240301T193936Z
UID:8222-1725995700-1725999300@breakouthockey.ca
SUMMARY:Tim Day 11
DESCRIPTION:
URL:https://breakouthockey.ca/calendar/tim-day-11/
LOCATION:Argyll Arena\, 6225 100 Street\, Edmonton\, Alberta\, Canada
CATEGORIES:Programs
END:VEVENT
BEGIN:VEVENT
DTSTART;TZID=America/Edmonton:20240913T180000
DTEND;TZID=America/Edmonton:20240913T190000
DTSTAMP:20260425T084150
CREATED:20240301T194023Z
LAST-MODIFIED:20240301T194023Z
UID:8224-1726250400-1726254000@breakouthockey.ca
SUMMARY:Tim Day 12
DESCRIPTION:
URL:https://breakouthockey.ca/calendar/tim-day-12/
LOCATION:Argyll Arena\, 6225 100 Street\, Edmonton\, Alberta\, Canada
CATEGORIES:Programs
END:VEVENT
END:VCALENDAR