BEGIN:VCALENDAR
VERSION:2.0
PRODID:-//Breakout Hockey - ECPv6.0.3//NONSGML v1.0//EN
CALSCALE:GREGORIAN
METHOD:PUBLISH
X-WR-CALNAME:Breakout Hockey
X-ORIGINAL-URL:https://breakouthockey.ca
X-WR-CALDESC:Events for Breakout Hockey
REFRESH-INTERVAL;VALUE=DURATION:PT1H
X-Robots-Tag:noindex
X-PUBLISHED-TTL:PT1H
BEGIN:VTIMEZONE
TZID:America/Edmonton
BEGIN:DAYLIGHT
TZOFFSETFROM:-0700
TZOFFSETTO:-0600
TZNAME:MDT
DTSTART:20240310T090000
END:DAYLIGHT
BEGIN:STANDARD
TZOFFSETFROM:-0600
TZOFFSETTO:-0700
TZNAME:MST
DTSTART:20241103T080000
END:STANDARD
END:VTIMEZONE
BEGIN:VEVENT
DTSTART;TZID=America/Edmonton:20240704T181500
DTEND;TZID=America/Edmonton:20240704T191500
DTSTAMP:20260425T114829
CREATED:20240611T172948Z
LAST-MODIFIED:20240611T172948Z
UID:8514-1720116900-1720120500@breakouthockey.ca
SUMMARY:Summer 3 on 3 - Day 6
DESCRIPTION:
URL:https://breakouthockey.ca/calendar/summer-3-on-3-day-6/
LOCATION:Millennium Place Powerade
CATEGORIES:Programs
END:VEVENT
BEGIN:VEVENT
DTSTART;TZID=America/Edmonton:20240704T200000
DTEND;TZID=America/Edmonton:20240704T210000
DTSTAMP:20260425T114829
CREATED:20240514T155516Z
LAST-MODIFIED:20240514T155516Z
UID:8465-1720123200-1720126800@breakouthockey.ca
SUMMARY:Junior Summer 2: Day 5
DESCRIPTION:
URL:https://breakouthockey.ca/calendar/junior-summer-2-day-5/
LOCATION:Millennium Place Chevrolet
CATEGORIES:Programs
END:VEVENT
BEGIN:VEVENT
DTSTART;TZID=America/Edmonton:20240709T210000
DTEND;TZID=America/Edmonton:20240709T220000
DTSTAMP:20260425T114829
CREATED:20240514T155605Z
LAST-MODIFIED:20240704T221627Z
UID:8467-1720558800-1720562400@breakouthockey.ca
SUMMARY:Junior Summer 2: Day 6
DESCRIPTION:
URL:https://breakouthockey.ca/calendar/junior-summer-2-day-6/
LOCATION:Glen Allen Recreation Complex
CATEGORIES:Programs
END:VEVENT
BEGIN:VEVENT
DTSTART;TZID=America/Edmonton:20240716T160000
DTEND;TZID=America/Edmonton:20240716T170000
DTSTAMP:20260425T114829
CREATED:20240514T155656Z
LAST-MODIFIED:20240514T155656Z
UID:8469-1721145600-1721149200@breakouthockey.ca
SUMMARY:Junior Summer 2: Day 7
DESCRIPTION:
URL:https://breakouthockey.ca/calendar/junior-summer-2-day-7/
LOCATION:Randy Rosen Arena
CATEGORIES:Programs
END:VEVENT
BEGIN:VEVENT
DTSTART;TZID=America/Edmonton:20240718T160000
DTEND;TZID=America/Edmonton:20240718T170000
DTSTAMP:20260425T114829
CREATED:20240514T160033Z
LAST-MODIFIED:20240514T160033Z
UID:8471-1721318400-1721322000@breakouthockey.ca
SUMMARY:Junior Summer 2: Day 8
DESCRIPTION:
URL:https://breakouthockey.ca/calendar/junior-summer-2-day-8/
LOCATION:Randy Rosen Arena
CATEGORIES:Programs
END:VEVENT
BEGIN:VEVENT
DTSTART;TZID=America/Edmonton:20240723T163000
DTEND;TZID=America/Edmonton:20240723T173000
DTSTAMP:20260425T114829
CREATED:20240514T160120Z
LAST-MODIFIED:20240514T160120Z
UID:8473-1721752200-1721755800@breakouthockey.ca
SUMMARY:Junior Summer 2: Day 9
DESCRIPTION:
URL:https://breakouthockey.ca/calendar/junior-summer-2-day-9/
LOCATION:Randy Rosen Arena
CATEGORIES:Programs
END:VEVENT
BEGIN:VEVENT
DTSTART;TZID=America/Edmonton:20240724T163000
DTEND;TZID=America/Edmonton:20240724T173000
DTSTAMP:20260425T114829
CREATED:20240611T190510Z
LAST-MODIFIED:20240611T190510Z
UID:8525-1721838600-1721842200@breakouthockey.ca
SUMMARY:July Skills - Day 5
DESCRIPTION:
URL:https://breakouthockey.ca/calendar/july-skills-day-5/
LOCATION:Randy Rosen Arena
CATEGORIES:Programs
END:VEVENT
BEGIN:VEVENT
DTSTART;TZID=America/Edmonton:20240725T163000
DTEND;TZID=America/Edmonton:20240725T173000
DTSTAMP:20260425T114829
CREATED:20240514T160224Z
LAST-MODIFIED:20240514T160224Z
UID:8475-1721925000-1721928600@breakouthockey.ca
SUMMARY:Junior Summer 2: Day 10
DESCRIPTION:
URL:https://breakouthockey.ca/calendar/junior-summer-2-day-10/
LOCATION:Randy Rosen Arena
CATEGORIES:Programs
END:VEVENT
BEGIN:VEVENT
DTSTART;TZID=America/Edmonton:20240730T140000
DTEND;TZID=America/Edmonton:20240730T150000
DTSTAMP:20260425T114829
CREATED:20240611T190739Z
LAST-MODIFIED:20240611T190739Z
UID:8527-1722348000-1722351600@breakouthockey.ca
SUMMARY:July Skills - Day 6
DESCRIPTION:
URL:https://breakouthockey.ca/calendar/july-skills-day-6/
LOCATION:Millennium Place Chevrolet
CATEGORIES:Programs
END:VEVENT
END:VCALENDAR