BEGIN:VCALENDAR
VERSION:2.0
PRODID:-//Breakout Hockey - ECPv6.0.3//NONSGML v1.0//EN
CALSCALE:GREGORIAN
METHOD:PUBLISH
X-ORIGINAL-URL:https://breakouthockey.ca
X-WR-CALDESC:Events for Breakout Hockey
REFRESH-INTERVAL;VALUE=DURATION:PT1H
X-Robots-Tag:noindex
X-PUBLISHED-TTL:PT1H
BEGIN:VTIMEZONE
TZID:America/Edmonton
BEGIN:DAYLIGHT
TZOFFSETFROM:-0700
TZOFFSETTO:-0600
TZNAME:MDT
DTSTART:20240310T090000
END:DAYLIGHT
BEGIN:STANDARD
TZOFFSETFROM:-0600
TZOFFSETTO:-0700
TZNAME:MST
DTSTART:20241103T080000
END:STANDARD
END:VTIMEZONE
BEGIN:VEVENT
DTSTART;TZID=America/Edmonton:20240602T181500
DTEND;TZID=America/Edmonton:20240602T194500
DTSTAMP:20260425T131918
CREATED:20210525T162510Z
LAST-MODIFIED:20240202T203043Z
UID:4990-1717352100-1717357500@breakouthockey.ca
SUMMARY:JFP: Day 4
DESCRIPTION:
URL:https://breakouthockey.ca/calendar/jfp-day-4/
LOCATION:Glen Allen Recreation Complex
CATEGORIES:Programs
END:VEVENT
BEGIN:VEVENT
DTSTART;TZID=America/Edmonton:20240603T204500
DTEND;TZID=America/Edmonton:20240603T214500
DTSTAMP:20260425T131918
CREATED:20240514T155124Z
LAST-MODIFIED:20240514T155124Z
UID:8457-1717447500-1717451100@breakouthockey.ca
SUMMARY:Junior Summer 2: Day 1
DESCRIPTION:
URL:https://breakouthockey.ca/calendar/junior-summer-2-day-1/
LOCATION:Glen Allen Recreation Complex
CATEGORIES:Programs
END:VEVENT
BEGIN:VEVENT
DTSTART;TZID=America/Edmonton:20240609T181500
DTEND;TZID=America/Edmonton:20240609T194500
DTSTAMP:20260425T131918
CREATED:20210525T162612Z
LAST-MODIFIED:20240202T203128Z
UID:4992-1717956900-1717962300@breakouthockey.ca
SUMMARY:JFP: Day 5
DESCRIPTION:
URL:https://breakouthockey.ca/calendar/jfp-day-5/
LOCATION:Glen Allen Recreation Complex
CATEGORIES:Programs
END:VEVENT
BEGIN:VEVENT
DTSTART;TZID=America/Edmonton:20240613T204500
DTEND;TZID=America/Edmonton:20240613T214500
DTSTAMP:20260425T131918
CREATED:20240514T155227Z
LAST-MODIFIED:20240514T155227Z
UID:8459-1718311500-1718315100@breakouthockey.ca
SUMMARY:Junior Summer 2: Day 2
DESCRIPTION:
URL:https://breakouthockey.ca/calendar/junior-summer-2-day-2/
LOCATION:Glen Allen Recreation Complex
CATEGORIES:Programs
END:VEVENT
BEGIN:VEVENT
DTSTART;TZID=America/Edmonton:20240616T193000
DTEND;TZID=America/Edmonton:20240616T203000
DTSTAMP:20260425T131918
CREATED:20230310T171736Z
LAST-MODIFIED:20240202T203212Z
UID:6761-1718566200-1718569800@breakouthockey.ca
SUMMARY:JFP: Day 6
DESCRIPTION:
URL:https://breakouthockey.ca/calendar/jfp-day-6/
LOCATION:Millennium Place Chevrolet
CATEGORIES:Programs
END:VEVENT
BEGIN:VEVENT
DTSTART;TZID=America/Edmonton:20240618T194500
DTEND;TZID=America/Edmonton:20240618T204500
DTSTAMP:20260425T131918
CREATED:20240514T155321Z
LAST-MODIFIED:20240617T002651Z
UID:8461-1718739900-1718743500@breakouthockey.ca
SUMMARY:Junior Summer 2: Day 3
DESCRIPTION:
URL:https://breakouthockey.ca/calendar/junior-summer-2-day-3/
LOCATION:Millennium Place Chevrolet
CATEGORIES:Programs
END:VEVENT
BEGIN:VEVENT
DTSTART;TZID=America/Edmonton:20240623T183000
DTEND;TZID=America/Edmonton:20240623T200000
DTSTAMP:20260425T131918
CREATED:20230310T172157Z
LAST-MODIFIED:20240202T203249Z
UID:6763-1719167400-1719172800@breakouthockey.ca
SUMMARY:JFP: Day 7
DESCRIPTION:
URL:https://breakouthockey.ca/calendar/jfp-day-7/
LOCATION:Glen Allen Recreation Complex
CATEGORIES:Programs
END:VEVENT
BEGIN:VEVENT
DTSTART;TZID=America/Edmonton:20240625T191500
DTEND;TZID=America/Edmonton:20240625T201500
DTSTAMP:20260425T131918
CREATED:20240514T155418Z
LAST-MODIFIED:20240514T155418Z
UID:8463-1719342900-1719346500@breakouthockey.ca
SUMMARY:Junior Summer 2: Day 4
DESCRIPTION:
URL:https://breakouthockey.ca/calendar/junior-summer-2-day-4/
LOCATION:Millennium Place Powerade
CATEGORIES:Programs
END:VEVENT
BEGIN:VEVENT
DTSTART;TZID=America/Edmonton:20240626T174500
DTEND;TZID=America/Edmonton:20240626T184500
DTSTAMP:20260425T131918
CREATED:20230310T172332Z
LAST-MODIFIED:20240202T203325Z
UID:6765-1719423900-1719427500@breakouthockey.ca
SUMMARY:JFP: Day 8
DESCRIPTION:
URL:https://breakouthockey.ca/calendar/jfp-day-8/
LOCATION:Glen Allen Recreation Complex
CATEGORIES:Programs
END:VEVENT
END:VCALENDAR