BEGIN:VCALENDAR
VERSION:2.0
PRODID:-//Breakout Hockey - ECPv6.0.3//NONSGML v1.0//EN
CALSCALE:GREGORIAN
METHOD:PUBLISH
X-WR-CALNAME:Breakout Hockey
X-ORIGINAL-URL:https://breakouthockey.ca
X-WR-CALDESC:Events for Breakout Hockey
REFRESH-INTERVAL;VALUE=DURATION:PT1H
X-Robots-Tag:noindex
X-PUBLISHED-TTL:PT1H
BEGIN:VTIMEZONE
TZID:America/Edmonton
BEGIN:DAYLIGHT
TZOFFSETFROM:-0700
TZOFFSETTO:-0600
TZNAME:MDT
DTSTART:20260308T090000
END:DAYLIGHT
BEGIN:STANDARD
TZOFFSETFROM:-0600
TZOFFSETTO:-0700
TZNAME:MST
DTSTART:20261101T080000
END:STANDARD
END:VTIMEZONE
BEGIN:VEVENT
DTSTART;TZID=America/Edmonton:20260413T170000
DTEND;TZID=America/Edmonton:20260413T180000
DTSTAMP:20260420T040603
CREATED:20240224T213711Z
LAST-MODIFIED:20260331T173645Z
UID:8142-1776099600-1776103200@breakouthockey.ca
SUMMARY:3 on 3 - Session #7 - Day 2
DESCRIPTION:
URL:https://breakouthockey.ca/calendar/3-on-3-6b-day-2/
LOCATION:Randy Rosen Arena
CATEGORIES:Programs
END:VEVENT
BEGIN:VEVENT
DTSTART;TZID=America/Edmonton:20260413T181500
DTEND;TZID=America/Edmonton:20260413T191500
DTSTAMP:20260420T040603
CREATED:20171215T154455Z
LAST-MODIFIED:20251207T032346Z
UID:1127-1776104100-1776107700@breakouthockey.ca
SUMMARY:MSS:  DAY 1
DESCRIPTION:
URL:https://breakouthockey.ca/calendar/mss-day-1/
LOCATION:Randy Rosen Arena
CATEGORIES:Programs
END:VEVENT
END:VCALENDAR